BEGIN:VCALENDAR
VERSION:2.0
PRODID:-//GRC 20/20 Research, LLC - ECPv6.15.20//NONSGML v1.0//EN
CALSCALE:GREGORIAN
METHOD:PUBLISH
X-WR-CALNAME:GRC 20/20 Research, LLC
X-ORIGINAL-URL:https://www.grc2020.com
X-WR-CALDESC:Events for GRC 20/20 Research, LLC
REFRESH-INTERVAL;VALUE=DURATION:PT1H
X-Robots-Tag:noindex
X-PUBLISHED-TTL:PT1H
BEGIN:VTIMEZONE
TZID:Europe/London
BEGIN:DAYLIGHT
TZOFFSETFROM:+0000
TZOFFSETTO:+0100
TZNAME:BST
DTSTART:20220327T010000
END:DAYLIGHT
BEGIN:STANDARD
TZOFFSETFROM:+0100
TZOFFSETTO:+0000
TZNAME:GMT
DTSTART:20221030T010000
END:STANDARD
BEGIN:DAYLIGHT
TZOFFSETFROM:+0000
TZOFFSETTO:+0100
TZNAME:BST
DTSTART:20230326T010000
END:DAYLIGHT
BEGIN:STANDARD
TZOFFSETFROM:+0100
TZOFFSETTO:+0000
TZNAME:GMT
DTSTART:20231029T010000
END:STANDARD
BEGIN:DAYLIGHT
TZOFFSETFROM:+0000
TZOFFSETTO:+0100
TZNAME:BST
DTSTART:20240331T010000
END:DAYLIGHT
BEGIN:STANDARD
TZOFFSETFROM:+0100
TZOFFSETTO:+0000
TZNAME:GMT
DTSTART:20241027T010000
END:STANDARD
END:VTIMEZONE
BEGIN:VEVENT
DTSTART;TZID=Europe/London:20230215T173000
DTEND;TZID=Europe/London:20230215T193000
DTSTAMP:20260424T175515
CREATED:20230131T172943Z
LAST-MODIFIED:20230131T173150Z
UID:10002435-1676482200-1676489400@www.grc2020.com
SUMMARY:RegTech/FinTech In Partnership Event\, London
DESCRIPTION:ING\, Hummingbird & GRC 20/20 are hosting an In Partnership networking event at ING Labs in London to provide greater collaboration and networking for the RegTech\, FinTech\, and financial services communities.  \n\n\n\nThe goals . . .  \n\n\n\n\nGrounded in the belief that innovation is the catalyst for transformation we as a financial services industry need to think different\, approach innovation with more focus and deliver the results together\n\n\n\nTo connect with industry experts and knowledge seekers whom collaboratively share\, learn and experience across the fields of Regulation\, Technology and Data to drive better regulatory outcomes for consumers.\n\n\n\nPartnerships are essential in unlocking opportunities\, enabling customers to do more\, even better…  \n\n\n\n\nTo learn more\, email info@grc20202.com. \n\n\n\nThe GRC 20/20 Facilitator\, Michael Rasmussen . . . \n\n\n\nMichael Rasmussen\n\n\n\nMichael Rasmussen is an internationally recognized pundit on governance\, risk management\, and compliance (GRC) – with specific expertise on the topics of GRC strategy\, process\, information\, and technology architectures and solutions. With 30+ years of experience\, Michael helps organizations improve GRC processes\, design and implement GRC architectures and select solutions that are effective\, efficient\, and agile. He is a sought-after keynote speaker\, author\, and advisor and is noted as the “Father of GRC” – being the first to define and model the GRC market in February 2002 while at Forrester Research\, Inc. \n\n\n\n \nShare this:\n				Email a link to a friend (Opens in new window)\n				Email\n			\n				Print (Opens in new window)\n				Print\n			\n				Share on LinkedIn (Opens in new window)\n				LinkedIn\n			\n				Share on X (Opens in new window)\n				X\n			\n				Share on Facebook (Opens in new window)\n				Facebook
URL:https://www.grc2020.com/event/regtech-fintech-in-partnership-event-london/
CATEGORIES:Conferences
ATTACH;FMTTYPE=image/jpeg:https://www.grc2020.com/wp-content/uploads/2023/01/In-Partnership-Event-scaled-e1675185917601.jpg
END:VEVENT
END:VCALENDAR