BEGIN:VCALENDAR
VERSION:2.0
PRODID:-//GRC 20/20 Research, LLC - ECPv6.15.20//NONSGML v1.0//EN
CALSCALE:GREGORIAN
METHOD:PUBLISH
X-WR-CALNAME:GRC 20/20 Research, LLC
X-ORIGINAL-URL:https://www.grc2020.com
X-WR-CALDESC:Events for GRC 20/20 Research, LLC
REFRESH-INTERVAL;VALUE=DURATION:PT1H
X-Robots-Tag:noindex
X-PUBLISHED-TTL:PT1H
BEGIN:VTIMEZONE
TZID:Australia/Sydney
BEGIN:STANDARD
TZOFFSETFROM:+1100
TZOFFSETTO:+1000
TZNAME:AEST
DTSTART:20220402T160000
END:STANDARD
BEGIN:DAYLIGHT
TZOFFSETFROM:+1000
TZOFFSETTO:+1100
TZNAME:AEDT
DTSTART:20221001T160000
END:DAYLIGHT
BEGIN:STANDARD
TZOFFSETFROM:+1100
TZOFFSETTO:+1000
TZNAME:AEST
DTSTART:20230401T160000
END:STANDARD
BEGIN:DAYLIGHT
TZOFFSETFROM:+1000
TZOFFSETTO:+1100
TZNAME:AEDT
DTSTART:20230930T160000
END:DAYLIGHT
BEGIN:STANDARD
TZOFFSETFROM:+1100
TZOFFSETTO:+1000
TZNAME:AEST
DTSTART:20240406T160000
END:STANDARD
BEGIN:DAYLIGHT
TZOFFSETFROM:+1000
TZOFFSETTO:+1100
TZNAME:AEDT
DTSTART:20241005T160000
END:DAYLIGHT
END:VTIMEZONE
BEGIN:VTIMEZONE
TZID:Asia/Dubai
BEGIN:STANDARD
TZOFFSETFROM:+0400
TZOFFSETTO:+0400
TZNAME:+04
DTSTART:20220101T000000
END:STANDARD
END:VTIMEZONE
BEGIN:VEVENT
DTSTART;TZID=Australia/Sydney:20230302T090000
DTEND;TZID=Australia/Sydney:20230302T133000
DTSTAMP:20260424T163243
CREATED:20221116T140626Z
LAST-MODIFIED:20230202T133926Z
UID:10002425-1677747600-1677763800@www.grc2020.com
SUMMARY:ReadiConnect 2023
DESCRIPTION:REGISTER\n\n\n\n\nConnecting GRC\, ESG\, Cyber & Business Resilience\n\n\n\nJoin us at Pier 1 with panoramic views of Sydney Harbour while you enjoy complimentary breakfast\, insightful sessions\, networking\, lunch and drinks.   \n\n\n\nLearn from global GRC expert Michael Rasmussen\, and Industry leaders from Banking\, Utilities\, Insurance\, Finance and Security share their insights\, challenges and case studies and see how automation and artificial intelligence connects GRC\, ESG\, Cyber and Business Resilience.  \n\n\n\nGRC 20/20’s Michael Rasmussen will be keynoting . . . \n\n\n\nMichael Rasmussen\n\n\n\nMichael Rasmussen is an internationally recognized pundit on governance\, risk management\, and compliance (GRC) – with specific expertise on the topics of GRC strategy\, process\, information\, and technology architectures and solutions. With 30+ years of experience\, Michael helps organizations improve GRC processes\, design and implement GRC architectures and select solutions that are effective\, efficient\, and agile. He is a sought-after keynote speaker\, author\, and advisor and is noted as the “Father of GRC” – being the first to define and model the GRC market in February 2002 while at Forrester Research\, Inc. \n\n\n\nAbout Event Host . . .\n\n\n\n\n\n\n\nReadiNow is a No-code platform. We empower organisations to transform their organisational processes to improve business performance with our all-in-one No-code Platform. In addition to empowering our customers to create their own bespoke solutions\, we offer modules for Governance\, Risk\, and Compliance (GRC) needs. Our end-to-end complete suite of solutions includes Business Continuity Management\, Corporate Compliance\, Enterprise Risk Management\, Corporate Governance\, Vendor Management\, Audit Management\, Workplace\, Health and Safety (WHS)\, IT Disaster Recovery\, and much more. Headquartered in Sydney\, Australia\, we service a global customer base across multiple industries including Banks\, Energy and Utilities\, Financial Services\, Government\, Retail\, and manufacturing.  \nShare this:\n				Email a link to a friend (Opens in new window)\n				Email\n			\n				Print (Opens in new window)\n				Print\n			\n				Share on LinkedIn (Opens in new window)\n				LinkedIn\n			\n				Share on X (Opens in new window)\n				X\n			\n				Share on Facebook (Opens in new window)\n				Facebook
URL:https://www.grc2020.com/event/grc-leaders-forum-networking-lunch-sydney/
CATEGORIES:Conferences
ATTACH;FMTTYPE=image/jpeg:https://www.grc2020.com/wp-content/uploads/2022/11/Screenshot-2023-02-02-at-7.34.15-AM-e1675345062281.jpg
END:VEVENT
BEGIN:VEVENT
DTSTART;TZID=Asia/Dubai:20230309T000000
DTEND;TZID=Asia/Dubai:20230309T235959
DTSTAMP:20260424T163243
CREATED:20230131T171406Z
LAST-MODIFIED:20230131T171409Z
UID:10002434-1678320000-1678406399@www.grc2020.com
SUMMARY:Horváth Risk Summit\, Germany
DESCRIPTION:REGISTER\n\n\n\n\nThe Horváth Risk Summit is an elite event to connect leading Risk Management experts from academia\, business and technology. Within a small and hand-selected circle\, key trends shaping the future of Risk Management are discussed. \n\n\n\nThematic focus of the event: \n\n\n\n\nTrusted Governance & ResilienceIf you can trust your governance functions – how far are you from resilience?\n\n\n\nRisk Management & Performance ManagementLooking back/ahead 50 years from now\, what will it take to connect Risk Management to Performance Management?\n\n\n\nAI meets Risk ManagementLinking AI and Risk Management\, how far are we from finally predicting (unknown) risks and causalities?\n\n\n\nRisk Culture & the role of Risk ManagementIf „everyone is a Risk Manager“\, why do we still need a function called „Risk Management“?\n\n\n\n\nThe GRC 20/20 Keynote Speaker\, Michael Rasmussen . . . \n\n\n\nMichael Rasmussen\n\n\n\nMichael Rasmussen is an internationally recognized pundit on governance\, risk management\, and compliance (GRC) – with specific expertise on the topics of GRC strategy\, process\, information\, and technology architectures and solutions. With 30+ years of experience\, Michael helps organizations improve GRC processes\, design and implement GRC architectures and select solutions that are effective\, efficient\, and agile. He is a sought-after keynote speaker\, author\, and advisor and is noted as the “Father of GRC” – being the first to define and model the GRC market in February 2002 while at Forrester Research\, Inc. \n\n\n\nAbout the Event Organizer\n\n\n\n\n\n\n\nHorváth is an international\, independent management consultancy firm with over 1\,200 employees in locations in Europe\, the USA\, and other global markets. We represent in-depth knowledge across different industries and top-level subject matter expertise in all company functions – with a focus on performance management and transformation. We carry out projects for our international customers around the world. In this context\, we provide precise knowledge of\, and take into account\, the local conditions thanks to the cooperation with our partners of “Cordence Worldwide”\, a global network of truly connected consultancy firms with the ability to think and deliver together. \n\n\n\n \nShare this:\n				Email a link to a friend (Opens in new window)\n				Email\n			\n				Print (Opens in new window)\n				Print\n			\n				Share on LinkedIn (Opens in new window)\n				LinkedIn\n			\n				Share on X (Opens in new window)\n				X\n			\n				Share on Facebook (Opens in new window)\n				Facebook
URL:https://www.grc2020.com/event/horvath-risk-summit-germany/
CATEGORIES:Conferences
ATTACH;FMTTYPE=image/jpeg:https://www.grc2020.com/wp-content/uploads/2023/01/Horvath-Risk-Summit-e1675184993750.jpg
END:VEVENT
BEGIN:VEVENT
DTSTART;TZID=Asia/Dubai:20230323T000000
DTEND;TZID=Asia/Dubai:20230323T235959
DTSTAMP:20260424T163243
CREATED:20230131T195614Z
LAST-MODIFIED:20230131T195616Z
UID:10002438-1679529600-1679615999@www.grc2020.com
SUMMARY:EY Risk Transformation Awards Event\, Germany
DESCRIPTION:LEARN MORE\n\n\n\n\nWith the EY Risk Transformation Awards\, we honor for the first time companies that find innovative solutions in risk management. \n\n\n\nAs a finalist\, you will become part of a global network of innovative companies that enables you to make inspiring contacts across German national borders. As the “EY Risk Transformation Award Winner 2023” you send a strong signal to your employees\, customers and other stakeholders. \n\n\n\nWe look forward to receiving your application in one of the following categories:\n\n\n\n\nSustainability\n\n\n\nDigital transformation\n\n\n\nResilience\n\n\n\n\nAn independent jury\, consisting of representatives from business\, science and standard setters\, decides on the finalists and prize winners of the competition after reviewing all documents and on the basis of the interviews. \n\n\n\nThe presentation of the awards is scheduled for March 2023 in Berlin. Further information will follow shortly. \n\n\n\nThe GRC 20/20 Keynote Speaker\, Michael Rasmussen . . . \n\n\n\nMichael Rasmussen\n\n\n\nMichael Rasmussen is an internationally recognized pundit on governance\, risk management\, and compliance (GRC) – with specific expertise on the topics of GRC strategy\, process\, information\, and technology architectures and solutions. With 30+ years of experience\, Michael helps organizations improve GRC processes\, design and implement GRC architectures and select solutions that are effective\, efficient\, and agile. He is a sought-after keynote speaker\, author\, and advisor and is noted as the “Father of GRC” – being the first to define and model the GRC market in February 2002 while at Forrester Research\, Inc. \n\n\n\nAbout the Event Organizer\n\n\n\n\n\n\n\nEY exists to build a better working world\, helping create long-term value for clients\, people and society and build trust in the capital markets. Enabled by data and technology\, diverse EY teams in over 150 countries provide trust through assurance and help clients grow\, transform and operate. Working across assurance\, consulting\, law\, strategy\, tax and transactions\, EY teams ask better questions to find new answers for the complex issues facing our world today. \n\n\n\n \nShare this:\n				Email a link to a friend (Opens in new window)\n				Email\n			\n				Print (Opens in new window)\n				Print\n			\n				Share on LinkedIn (Opens in new window)\n				LinkedIn\n			\n				Share on X (Opens in new window)\n				X\n			\n				Share on Facebook (Opens in new window)\n				Facebook
URL:https://www.grc2020.com/event/ey-risk-transformation-awards-event-germany/
CATEGORIES:Conferences
ATTACH;FMTTYPE=image/png:https://www.grc2020.com/wp-content/uploads/2023/01/Screenshot-2023-01-31-at-1.51.01-PM-e1675194804324.png
END:VEVENT
END:VCALENDAR