BEGIN:VCALENDAR
VERSION:2.0
PRODID:-//GRC 20/20 Research, LLC - ECPv6.15.20//NONSGML v1.0//EN
CALSCALE:GREGORIAN
METHOD:PUBLISH
X-WR-CALNAME:GRC 20/20 Research, LLC
X-ORIGINAL-URL:https://www.grc2020.com
X-WR-CALDESC:Events for GRC 20/20 Research, LLC
REFRESH-INTERVAL;VALUE=DURATION:PT1H
X-Robots-Tag:noindex
X-PUBLISHED-TTL:PT1H
BEGIN:VTIMEZONE
TZID:America/New_York
BEGIN:DAYLIGHT
TZOFFSETFROM:-0500
TZOFFSETTO:-0400
TZNAME:EDT
DTSTART:20220313T070000
END:DAYLIGHT
BEGIN:STANDARD
TZOFFSETFROM:-0400
TZOFFSETTO:-0500
TZNAME:EST
DTSTART:20221106T060000
END:STANDARD
BEGIN:DAYLIGHT
TZOFFSETFROM:-0500
TZOFFSETTO:-0400
TZNAME:EDT
DTSTART:20230312T070000
END:DAYLIGHT
BEGIN:STANDARD
TZOFFSETFROM:-0400
TZOFFSETTO:-0500
TZNAME:EST
DTSTART:20231105T060000
END:STANDARD
BEGIN:DAYLIGHT
TZOFFSETFROM:-0500
TZOFFSETTO:-0400
TZNAME:EDT
DTSTART:20240310T070000
END:DAYLIGHT
BEGIN:STANDARD
TZOFFSETFROM:-0400
TZOFFSETTO:-0500
TZNAME:EST
DTSTART:20241103T060000
END:STANDARD
END:VTIMEZONE
BEGIN:VEVENT
DTSTART;TZID=America/New_York:20230411T000000
DTEND;TZID=America/New_York:20230414T235959
DTSTAMP:20260424T143813
CREATED:20221219T182402Z
LAST-MODIFIED:20221219T182405Z
UID:10002430-1681171200-1681516799@www.grc2020.com
SUMMARY:Coupa Inspire 2023
DESCRIPTION:REGISTER\n\n\n\n\nWhether you’re an executive or a practitioner\, and whether you work in Finance\, Supply Chain\, Procurement\, or IT\, Inspire has an experience tailored for you.\n\n\n\n\nBusiness Spend Management for Visibility\, Scale and Control. Our customer community and product experts share the latest best-in-class strategies to ensure spend visibility\, support a scaling business\, and drive control and compliance throughout the spend lifecycle.\n\n\n\nRisk\, Resilience and Sustainability in the Supply Chain. Every company is focused on building resilience while eliminating risk and unlocking ESG progress. Gain insights into new approaches and how the Coupa BSM Platform maximizes collaboration across your stakeholders to accelerate time to value.\n\n\n\nJourneys of Digital Transformation with BSM.Highlights the Business and Digital Transformation stories of senior leaders from across the Coupa Community. Learn to fuel your own transformation success and leverage spend to boost operational performance.\n\n\n\nProfessional Growth in BSM. Get inspired by Business Spend Management leaders across industries and markets as they share game-changing ideas\, lessons learned\, and goals for the future. Gain practical advice and frameworks for personal and team empowerment.\n\n\n\n\nGRC 20/20 Analyst will be at the event . . . \n\n\n\nMichael Rasmussen\n\n\n\nGRC 20/20 ResearchMichael Rasmussen – The GRC Pundit @ GRC 20/20 Research\, Michael Rasmussen is an internationally recognized pundit on governance\, risk management\, and compliance (GRC) – with specific expertise on the topics of GRC strategy\, process\, information\, and technology architectures and solutions. With 28+ years of experience\, Michael helps organizations improve GRC processes\, design and implement GRC architectures and select solutions that are effective\, efficient\, and agile. He is a sought-after keynote speaker\, author\, and advisor and is noted as the “Father of GRC” – being the first to define and model the GRC market in February 2002 while at Forrester Research\, Inc. \n\n\n\nWebinar Sponsor\n\n\n\n\n\n\n\nCoupa Software (NASDAQ:COUP) is the cloud platform for business spend management (BSM). Coupa empowers companies around the world with the visibility and control they need to spend smarter and safer. To learn more about how Coupa can help you spend smarter\, visit www.coupa.com. Read Coupa Blog https://www.coupa.com/blog/ or follow @Coupa on Twitter. \nShare this:\n				Email a link to a friend (Opens in new window)\n				Email\n			\n				Print (Opens in new window)\n				Print\n			\n				Share on LinkedIn (Opens in new window)\n				LinkedIn\n			\n				Share on X (Opens in new window)\n				X\n			\n				Share on Facebook (Opens in new window)\n				Facebook
URL:https://www.grc2020.com/event/coupa-inspire-2023/
CATEGORIES:Conferences
ATTACH;FMTTYPE=image/jpeg:https://www.grc2020.com/wp-content/uploads/2022/12/Screenshot-2022-12-19-at-12.18.07-PM-e1671474068903.jpg
END:VEVENT
END:VCALENDAR