BEGIN:VCALENDAR
VERSION:2.0
PRODID:-//GRC 20/20 Research, LLC - ECPv6.15.20//NONSGML v1.0//EN
CALSCALE:GREGORIAN
METHOD:PUBLISH
X-ORIGINAL-URL:https://www.grc2020.com
X-WR-CALDESC:Events for GRC 20/20 Research, LLC
REFRESH-INTERVAL;VALUE=DURATION:PT1H
X-Robots-Tag:noindex
X-PUBLISHED-TTL:PT1H
BEGIN:VTIMEZONE
TZID:Asia/Jakarta
BEGIN:STANDARD
TZOFFSETFROM:+0700
TZOFFSETTO:+0700
TZNAME:WIB
DTSTART:20220101T000000
END:STANDARD
END:VTIMEZONE
BEGIN:VEVENT
DTSTART;TZID=Asia/Jakarta:20230824T000000
DTEND;TZID=Asia/Jakarta:20230825T235959
DTSTAMP:20260424T091706
CREATED:20230209T185723Z
LAST-MODIFIED:20230727T170520Z
UID:10002441-1692835200-1693007999@www.grc2020.com
SUMMARY:GRC Summit 2023\, Indonesia
DESCRIPTION:REGISTER\n\n\n\n\nGRC-Governance\, Risk Management\, and Compliance are one of the concepts and tools that can help organizations to build a resilient future. Nowadays\, stakeholders are beginning to demand a structured and systematic management approach to ensure that the organization also considers environmental and social aspects as highlighted in the SDGs-Sustainable Development Goals. To achieve these SDGs goals\, organizations need to adopt the ESG-Environment Social Governance framework as a credential that the organization has contributed to supporting the achievement of SDGs. \n\n\n\nOrganizations are facing challenging industry dynamics that require them to quickly adapt to new situations. In those circumstances\, the organization must be resilient to ensure future sustainability. \n\n\n\nTherefore\, in order to build a resilient future\, organizations need to integrate the GRC concept and ESG as part of the system of organization. \n\n\n\nThe GRC Summit 2023 is an international conference held annually by the GRC Association that brings together practitioners\, academicians\, and regulators from various industrial backgrounds (local and foreign) to share knowledge and experience in implementing Integrated GRC. This year’s topic is “Building a resilient future through ESG and GRC”. \n\n\n\nThe GRC Summit 2023 is an international conference held annually by the GRC Association that brings together practitioners\, academicians\, and regulators from various industrial backgrounds (local and foreign) to share knowledge and experience in implementing Integrated GRC. This year’s topic is “Building a resilient future through ESG and GRC”. \n\n\n\nThe GRC Summit 2023 will be held on 24-25 August 2023 at Yogyakarta and will be available for online and onsite participants. The two days events consist of seminars and a masterclass that discusses how the synergy between GRC and ESG can contribute to optimizing organizational value and making them become more resilient in the future. Emphasis on the GRC and ESG relationship and how good GRC practices will influence the quality and level of performance of ESG organizations. Therefore\, it will create a better position in the context of ESG investments. \n\n\n\nThe Keynote Speaker: Michael Rasmussen\n\n\n\nMichael Rasmussen\n\n\n\nMichael Rasmussen is an internationally recognized pundit on governance\, risk management\, and compliance (GRC) – with specific expertise on the topics of GRC strategy\, process\, information\, and technology architectures and solutions. With 29+ years of experience\, Michael helps organizations improve GRC processes\, design and implement GRC architectures and select solutions that are effective\, efficient\, and agile. He is a sought-after keynote speaker\, author\, and advisor and is noted as the “Father of GRC” – being the first to define and model the GRC market in February 2002 while at Forrester Research\, Inc. \n\n\n\nAbout GRC Summit\n\n\n\n\n\n\n\nGRC Summit is an annual event that brings together practicians\, academicians\, and regulators from various industrial backgrounds (local and foreign) to share their perspectives and experience in practicing Integrated GRC. At GRC Summit 2022\, more than 450 participants joined the two days conference and masterclass. \n\n\n\n \nShare this:\n				Email a link to a friend (Opens in new window)\n				Email\n			\n				Print (Opens in new window)\n				Print\n			\n				Share on LinkedIn (Opens in new window)\n				LinkedIn\n			\n				Share on X (Opens in new window)\n				X\n			\n				Share on Facebook (Opens in new window)\n				Facebook
URL:https://www.grc2020.com/event/grc-summit-2023-indonesia/
CATEGORIES:Conferences
ATTACH;FMTTYPE=image/png:https://www.grc2020.com/wp-content/uploads/2023/02/Screenshot-2023-07-27-at-12.02.57-PM-e1690477423139.png
END:VEVENT
END:VCALENDAR