BEGIN:VCALENDAR
VERSION:2.0
PRODID:-//GRC 20/20 Research, LLC - ECPv6.15.20//NONSGML v1.0//EN
CALSCALE:GREGORIAN
METHOD:PUBLISH
X-ORIGINAL-URL:https://www.grc2020.com
X-WR-CALDESC:Events for GRC 20/20 Research, LLC
REFRESH-INTERVAL;VALUE=DURATION:PT1H
X-Robots-Tag:noindex
X-PUBLISHED-TTL:PT1H
BEGIN:VTIMEZONE
TZID:America/Chicago
BEGIN:DAYLIGHT
TZOFFSETFROM:-0600
TZOFFSETTO:-0500
TZNAME:CDT
DTSTART:20220313T080000
END:DAYLIGHT
BEGIN:STANDARD
TZOFFSETFROM:-0500
TZOFFSETTO:-0600
TZNAME:CST
DTSTART:20221106T070000
END:STANDARD
BEGIN:DAYLIGHT
TZOFFSETFROM:-0600
TZOFFSETTO:-0500
TZNAME:CDT
DTSTART:20230312T080000
END:DAYLIGHT
BEGIN:STANDARD
TZOFFSETFROM:-0500
TZOFFSETTO:-0600
TZNAME:CST
DTSTART:20231105T070000
END:STANDARD
BEGIN:DAYLIGHT
TZOFFSETFROM:-0600
TZOFFSETTO:-0500
TZNAME:CDT
DTSTART:20240310T080000
END:DAYLIGHT
BEGIN:STANDARD
TZOFFSETFROM:-0500
TZOFFSETTO:-0600
TZNAME:CST
DTSTART:20241103T070000
END:STANDARD
END:VTIMEZONE
BEGIN:VTIMEZONE
TZID:Europe/London
BEGIN:DAYLIGHT
TZOFFSETFROM:+0000
TZOFFSETTO:+0100
TZNAME:BST
DTSTART:20220327T010000
END:DAYLIGHT
BEGIN:STANDARD
TZOFFSETFROM:+0100
TZOFFSETTO:+0000
TZNAME:GMT
DTSTART:20221030T010000
END:STANDARD
BEGIN:DAYLIGHT
TZOFFSETFROM:+0000
TZOFFSETTO:+0100
TZNAME:BST
DTSTART:20230326T010000
END:DAYLIGHT
BEGIN:STANDARD
TZOFFSETFROM:+0100
TZOFFSETTO:+0000
TZNAME:GMT
DTSTART:20231029T010000
END:STANDARD
BEGIN:DAYLIGHT
TZOFFSETFROM:+0000
TZOFFSETTO:+0100
TZNAME:BST
DTSTART:20240331T010000
END:DAYLIGHT
BEGIN:STANDARD
TZOFFSETFROM:+0100
TZOFFSETTO:+0000
TZNAME:GMT
DTSTART:20241027T010000
END:STANDARD
END:VTIMEZONE
BEGIN:VTIMEZONE
TZID:Europe/Stockholm
BEGIN:DAYLIGHT
TZOFFSETFROM:+0100
TZOFFSETTO:+0200
TZNAME:CEST
DTSTART:20220327T010000
END:DAYLIGHT
BEGIN:STANDARD
TZOFFSETFROM:+0200
TZOFFSETTO:+0100
TZNAME:CET
DTSTART:20221030T010000
END:STANDARD
BEGIN:DAYLIGHT
TZOFFSETFROM:+0100
TZOFFSETTO:+0200
TZNAME:CEST
DTSTART:20230326T010000
END:DAYLIGHT
BEGIN:STANDARD
TZOFFSETFROM:+0200
TZOFFSETTO:+0100
TZNAME:CET
DTSTART:20231029T010000
END:STANDARD
BEGIN:DAYLIGHT
TZOFFSETFROM:+0100
TZOFFSETTO:+0200
TZNAME:CEST
DTSTART:20240331T010000
END:DAYLIGHT
BEGIN:STANDARD
TZOFFSETFROM:+0200
TZOFFSETTO:+0100
TZNAME:CET
DTSTART:20241027T010000
END:STANDARD
END:VTIMEZONE
BEGIN:VEVENT
DTSTART;TZID=America/Chicago:20231002T000000
DTEND;TZID=America/Chicago:20231005T235959
DTSTAMP:20260424T063623
CREATED:20230727T181340Z
LAST-MODIFIED:20230727T181345Z
UID:10002494-1696204800-1696550399@www.grc2020.com
SUMMARY:Mitratech Interact 2023
DESCRIPTION:REGISTER\n\n\n\n\nBringing the best and brightest from the Mitratech community together for hands-on training\, user groups\, panels\, award ceremonies\, and more\, Interact is a unique experience that blends learning and collaboration across corporate legal\, risk & compliance\, and HR. It’s so much more than a user conference — it’s 2.5 days of cross-collaborative innovation that will change how you think about technology\, productivity\, risk mitigation\, and scalability. \n\n\n\nWhether you’re a brand new customer or have worked with Mitratech for years\, here’s why Interact 2023 is the must-attend event of the year for you: \n\n\n\n1. We’re Stepping Up the Experience: Last year’s Interact may have been named a finalist for Engage Media’s 2022 “Best Brand Experience\,” but this year\, we’re going for gold and letting the good times roll all the way to the historic French Quarter of New Orleans\, Louisiana for our most unique and personalized networking experience yet. \n\n\n\n2. More Opportunities to Learn\, Train\, & Gain: From hands-on training and roadmap revealsto candid peer presentations and networking — it’s all here at Interact 2023. And we heard our attendee’s feedback loud and clear: this year\, there will be an ongoing Tech Expo where you can drop in to explore our latest updates and enhancements\, crowdsource use cases\, watch demos\, and engage with our product SMEs throughout the event. \n\n\n\nIn addition\, we’re making sure to connect users of Mitratech’s various products together to answer questions\, get peer-to-peer training and tips\, and further strengthen the Mitratech community and relationships that will benefit customers long after Interact is over. [When building your business case\, don’t forget to factor in the research time and costs your organization could save on product training\, process enhancements\, and ramp-up with Interact’s hands-on workshops and demos.] \n\n\n\n3. A Dynamic Cross-Collaboration of Industries: With cross-functional topics like policy management\, workflow automation\, AI / emerging tech\, and more taking center stage\, there’s value for every team member at Interact. Not to mention\, a single conversation can lead to new opportunities and collaborations — and we make it easy with high-end happy hours\, live entertainment\, an engaging award ceremony\, and so much more. \n\n\n\n4. A Star-Studded Line-Up (and we don’t just mean the entertainment!): From a panel of Fortune 100 General Counsels and renowned risk experts to industry analysts and technology leaders\, we’re embracing topics like DEI\, leadership\, cybersecurity\, market forecasts\, real-world ways to increase efficiency (hint: it’s all about automation)\, and so much more. Mitratech is bringing all the people you “follow” (and who inspire our industry) directly to you. \n\n\n\nAnd it’s wrapped in an experience unlike any other event. \n\n\n\nGRC 20/20 Analyst will be presenting at the event . . . \n\n\n\nMichael Rasmussen\n\n\n\nGRC 20/20 ResearchMichael Rasmussen – The GRC Pundit @ GRC 20/20 Research\, Michael Rasmussen is an internationally recognized pundit on governance\, risk management\, and compliance (GRC) – with specific expertise on the topics of GRC strategy\, process\, information\, and technology architectures and solutions. With 30+ years of experience\, Michael helps organizations improve GRC processes\, design and implement GRC architectures and select solutions that are effective\, efficient\, and agile. He is a sought-after keynote speaker\, author\, and advisor and is noted as the “Father of GRC” – being the first to define and model the GRC market in February 2002 while at Forrester Research\, Inc. \n\n\n\n the first to define and model the GRC market in February 2002 while at Forrester Research\, Inc.\n\n\n\nConference Host\n\n\n\n\n\n\n\nMitratech is a proven global technology partner for corporate legal\, risk\, and compliance professionals seeking to maximize productivity\, control expense\, and mitigate risk by deepening organizational alignment\, increasing visibility and spurring collaboration across the enterprise. With Mitratech’s proven portfolio of end-to-end solutions\, enterprises worldwide are able to implement best practices and standardize processes throughout their organizations and realize fast time-to-value. Serving 1\,200 organizations of all sizes worldwide\, Mitratech works with almost 40% of the Fortune 500 and over 500\,000 users in over 160 countries. For more info\, visit: www.mitratech.com. \nShare this:\n				Email a link to a friend (Opens in new window)\n				Email\n			\n				Print (Opens in new window)\n				Print\n			\n				Share on LinkedIn (Opens in new window)\n				LinkedIn\n			\n				Share on X (Opens in new window)\n				X\n			\n				Share on Facebook (Opens in new window)\n				Facebook
URL:https://www.grc2020.com/event/mitratech-interact-2023/
CATEGORIES:Conferences
ATTACH;FMTTYPE=image/jpeg:https://www.grc2020.com/wp-content/uploads/2023/07/Screenshot-2023-07-27-at-1.02.51-PM.jpg
END:VEVENT
BEGIN:VEVENT
DTSTART;TZID=America/Chicago:20231004T000000
DTEND;TZID=America/Chicago:20231006T235959
DTSTAMP:20260424T063623
CREATED:20230731T165505Z
LAST-MODIFIED:20230731T165510Z
UID:10002497-1696377600-1696636799@www.grc2020.com
SUMMARY:Quantivate Connect
DESCRIPTION:REGISTER\n\n\n\n\nThis annual User Conference will be held on October 4–6\, 2023\, at Boston’s Park Plaza Hotel and offers newly developed classroom sessions based on feedback provided during previous conferences. The new sessions are designed to teach you as much as possible about using Quantivate solutions\, applying industry best practices\, and driving adoption across internal teams. \n\n\n\nThe curriculum for 2023 is designed to provide users with effective techniques and skills that can be used immediately. Build your own agenda\, choosing from sessions covering vendor management\, enterprise risk\, business continuity\, and other GRC topics. Plus\, join interactive workshops for tips and tricks on optimizing your use of platform features including reports\, dashboards\, workflows\, and notifications.  \n\n\n\nAlso new this year\, we have negotiated special room rates with the Boston Park Plaza Hotel for conference attendees. Simply call the hotel at 617-426-2000 and mention the block to reserve your room (you can also book online here). The conference kicks off on Wednesday\, October 4\, at 6 p.m. in the Terrace room at the Boston Park Plaza Hotel. Pick up your conference badge and enjoy a cocktail and light appetizer while networking with other attendees. \n\n\n\nJoin us Thursday morning for breakfast\, followed by opening comments from Quantivate CEO Andy Vanderhoff and a keynote address from Michael Rasmussen\, an internationally recognized pundit on governance\, risk management\, and compliance. Michael’s expertise in GRC technology\, corporate compliance\, and policy management—combined with 30+ years of experience in GRC processes\, design\, and implementation—promises to deliver a fun and insightful look at the current GRC landscape. The keynote will be followed by a full day of classes\, with a break for lunch. The agenda for Friday includes our enhancement roundtables and a discussion on the future of GRC and our product roadmap. Breakfast for both days is included in your registration fee\, as is lunch on Thursday. \n\n\n\nOn Thursday night\, join us aboard the classic yacht Northern Lights as we set sail around Boston Harbor for a dinner cruise featuring beautiful scenery and exceptional cuisine. The cost is included in your registration. Plus-ones are welcome to join us for an additional fee. \n\n\n\nQuantivate solution consultants will be available to answer your product-related questions or show you something new in the software. We have added timeslots early on Wednesday for customers who would like to book a personalized consulting session for a specific GRC function. These slots fill up fast and are an excellent way to add value to your conference investment. \n\n\n\nNo matter your governance\, risk\, and compliance background\, you will leave the User Conference with new tools and contacts to help you take full advantage of your Quantivate investment. \n\n\n\nGRC 20/20 Speaker\n\n\n\nMichael Rasmussen\n\n\n\nGRC 20/20 ResearchMichael Rasmussen – The GRC Pundit @ GRC 20/20 Research\, Michael Rasmussen is an internationally recognized pundit on governance\, risk management\, and compliance (GRC) – with specific expertise on the topics of GRC strategy\, process\, information\, and technology architectures and solutions. With 30+ years of experience\, Michael helps organizations improve GRC processes\, design and implement GRC architectures\, and select solutions that are effective\, efficient\, and agile. He is a sought-after keynote speaker\, author\, and advisor and is noted as the “Father of GRC” – being the first to define and model the GRC market in February 2002 while at Forrester Research\, Inc. \n\n\n\nConference Host\n\n\n\n\n\n\n\nSince 2005\, Quantivate has been helping organizations efficiently manage their governance\, risk\, and compliance (GRC) initiatives. Quantivate’s scalable technology and service solutions equip organizations of all sizes to make more strategic decisions\, improve performance\, and reduce costs. \nShare this:\n				Email a link to a friend (Opens in new window)\n				Email\n			\n				Print (Opens in new window)\n				Print\n			\n				Share on LinkedIn (Opens in new window)\n				LinkedIn\n			\n				Share on X (Opens in new window)\n				X\n			\n				Share on Facebook (Opens in new window)\n				Facebook
URL:https://www.grc2020.com/event/quantivate-connect/
CATEGORIES:Conferences
ATTACH;FMTTYPE=image/png:https://www.grc2020.com/wp-content/uploads/2023/07/Screenshot-2023-07-31-at-11.47.59-AM.png
END:VEVENT
BEGIN:VEVENT
DTSTART;TZID=Europe/London:20231016T000000
DTEND;TZID=Europe/London:20231017T235959
DTSTAMP:20260424T063623
CREATED:20230731T173148Z
LAST-MODIFIED:20230731T173152Z
UID:10002499-1697414400-1697587199@www.grc2020.com
SUMMARY:GRC Summit London 2023
DESCRIPTION:REGISTER\n\n\n\n\nWhat to Expect:\n\n\n\nJoin 200+ of your peers and GRC industry experts at the GRC Summit to share insights\, exchange best practices\, and discuss what’s next in GRC. \n\n\n\nConnect around operational resilience\, risk management\, compliance\, cyber risk\, ESG and much more. Move beyond just managing risk to embracing and ultimately thriving on risk.  \n\n\n\n8 reasons you should attend the GRC Summit: \n\n\n\n\nNetwork with the Best in the Industry\n\n\n\nKeep Up-to-Date with the Latest Trends in GRC\n\n\n\nStay Ahead of the Latest Compliance Requirements\n\n\n\nHear from Global Thought Leaders\n\n\n\nLearn through GRC Case Studies from Industry Leaders and Experts\n\n\n\nEnjoy Happy Hours with Industry Peers\n\n\n\nParticipate in Deep-Dive Workshops\n\n\n\nDiscover more about MetricStream Products and Solutions\n\n\n\n\nExperience the Power of Connection and join us at the GRC Summit on the October 16th & 17th at the Royal Garden Hotel in London\, UK. \n\n\n\nConnect around operational resilience\, risk management\, compliance\, cyber risk\, ESG and much more.  \n\n\n\nGRC 20/20 Analyst will be presenting at the event . . . \n\n\n\nMichael Rasmussen\n\n\n\nGRC 20/20 ResearchMichael Rasmussen – The GRC Pundit @ GRC 20/20 Research\, Michael Rasmussen is an internationally recognized pundit on governance\, risk management\, and compliance (GRC) – with specific expertise on the topics of GRC strategy\, process\, information\, and technology architectures and solutions. With 30+ years of experience\, Michael helps organizations improve GRC processes\, design and implement GRC architectures and select solutions that are effective\, efficient\, and agile. He is a sought-after keynote speaker\, author\, and advisor and is noted as the “Father of GRC” – being the first to define and model the GRC market in February 2002 while at Forrester Research\, Inc. \n\n\n\nConference Host\n\n\n\n\n\n\n\nMetricStream is a global SaaS leader of GRC solutions that empower organizations to thrive on risk by accelerating growth via risk-aware decisions. We connect governance\, risk management and compliance across the extended enterprise. Our ConnectedGRC and three product lines – BusinessGRC\, CyberGRC\, and ESGRC – are based on a single\, scalable platform that supports you wherever you are on your GRC journey. MetricStream is headquartered in San Jose\, California\, with an operations and R&D center in Bangalore\, India\, and sales and operations support around the globe.  \nShare this:\n				Email a link to a friend (Opens in new window)\n				Email\n			\n				Print (Opens in new window)\n				Print\n			\n				Share on LinkedIn (Opens in new window)\n				LinkedIn\n			\n				Share on X (Opens in new window)\n				X\n			\n				Share on Facebook (Opens in new window)\n				Facebook
URL:https://www.grc2020.com/event/grc-summit-london-2023/
CATEGORIES:Conferences
ATTACH;FMTTYPE=image/jpeg:https://www.grc2020.com/wp-content/uploads/2023/07/1690382199341.jpeg
END:VEVENT
BEGIN:VEVENT
DTSTART;TZID=Europe/London:20231018T000000
DTEND;TZID=Europe/London:20231019T235959
DTSTAMP:20260424T063623
CREATED:20221219T183211Z
LAST-MODIFIED:20230921T162442Z
UID:10002432-1697587200-1697759999@www.grc2020.com
SUMMARY:#RISK 2023: London
DESCRIPTION:REGISTER\n\n\n\n\nAbout #RISK\n\n\n\nIn the face of ever-changing regulations\, digital transformation\, the rise in cyber-crime\, the ever-expanding data universe\, an increase in AI and machine learning\, ESG and ethical considerations combined with a need for greater transparency and consumer trust\, now more than ever\, organisations must understand and deal with risk\, holistically. \n\n\n\n#RISK has a unique\, positive impact on organisations of all sizes\, public and private. \n\n\n\n#RISK is the place that business leaders meet\, learn\, knowledge share and understand how the lines between cybersecurity\, privacy\, risk management\, and compliance that were once straight and delineated are now blurred and merging. Change usually happens in waves but the acceleration of digital transformation\, driven by the pandemic has created a tsunami of change and disruption. \n\n\n\n#RISK attracts an audience of risk leaders\, GRC specialists\, lines of business decision makers and the C-suite who will attend to learn and better understand how to mitigate risks\, reduce compliance breaches\, and improve business performance. \n\n\n\nAttendees learn and hear from some of the most influential industry voices as they address challenges including:\n\n\n\n\n\n\n\nOur Host Michael Rasmussen\n\n\n\nMichael Rasmussen\n\n\n\nMichael Rasmussen is an internationally recognized pundit on governance\, risk management\, and compliance (GRC) – with specific expertise on the topics of GRC strategy\, process\, information\, and technology architectures and solutions. With 29+ years of experience\, Michael helps organizations improve GRC processes\, design and implement GRC architectures and select solutions that are effective\, efficient\, and agile. He is a sought-after keynote speaker\, author\, and advisor and is noted as the “Father of GRC” – being the first to define and model the GRC market in February 2002 while at Forrester Research\, Inc. \n\n\n\nAbout GRC World Forums\n\n\n\n\n\n\n\nGRC World Forums provides business insight and educational resources to governance\, risk and compliance professionals. We curate and educate targeted communities through our high-quality\, editorial content. Our brand portfolio includes: Data Protection World Forum\, PrivSec Global\, FinCrime World Forum\, Last Thursday in Privacy\, Data Protection Magazine\, and more. For more information\, visit GRCWorldForums.com \nShare this:\n				Email a link to a friend (Opens in new window)\n				Email\n			\n				Print (Opens in new window)\n				Print\n			\n				Share on LinkedIn (Opens in new window)\n				LinkedIn\n			\n				Share on X (Opens in new window)\n				X\n			\n				Share on Facebook (Opens in new window)\n				Facebook
URL:https://www.grc2020.com/event/risk-2023-london/
CATEGORIES:Conferences
ATTACH;FMTTYPE=image/jpeg:https://www.grc2020.com/wp-content/uploads/2022/12/Screenshot-2022-12-19-at-12.27.02-PM-e1671474611982.jpg
END:VEVENT
BEGIN:VEVENT
DTSTART;TZID=Europe/Stockholm:20231025T000000
DTEND;TZID=Europe/Stockholm:20231025T235959
DTSTAMP:20260424T063623
CREATED:20230731T171600Z
LAST-MODIFIED:20230731T171605Z
UID:10002498-1698192000-1698278399@www.grc2020.com
SUMMARY:ERM Day! Swedish Risk Management Association
DESCRIPTION:REGISTER\n\n\n\n\nFor the eighth year in a row\, the day on Enterprise Risk Management (ERM) will be arranged. This year SWERMA is hosting the event in collaboration with Volvo in Gothenburg. \n\n\n\nGRC 20/20 Analyst will be keynoting at the event . . . \n\n\n\nMichael Rasmussen\n\n\n\nGRC 20/20 ResearchMichael Rasmussen – The GRC Pundit @ GRC 20/20 Research\, Michael Rasmussen is an internationally recognized pundit on governance\, risk management\, and compliance (GRC) – with specific expertise on the topics of GRC strategy\, process\, information\, and technology architectures and solutions. With 30+ years of experience\, Michael helps organizations improve GRC processes\, design and implement GRC architectures and select solutions that are effective\, efficient\, and agile. He is a sought-after keynote speaker\, author\, and advisor and is noted as the “Father of GRC” – being the first to define and model the GRC market in February 2002 while at Forrester Research\, Inc. \n\n\n\nAbout Workiva\n\n\n\n\n\n\n\nSWERMA har som mål att vara den ledande intresseföreningen för alla som ägnar sig åt Risk Management (riskhantering på svenska) i Sverige. Vi ser riskhantering som de samordnade och koordinerade aktiviteter som en organisation använder för att styra och kontrollera sin exponering för risk\, oberoende av om det kallas Enterprise Risk Management\, Business Continuity Management\, Compliance eller liknande. \n\n\n\nSWERMAs vision är att riskhantering skall utvecklas till att vara en naturlig och integrerad del av alla organisationers verksamheter\, vare sig de är privata företag eller delar av den offentliga sektorn som till exempel kommuner\, landsting eller staten. \nShare this:\n				Email a link to a friend (Opens in new window)\n				Email\n			\n				Print (Opens in new window)\n				Print\n			\n				Share on LinkedIn (Opens in new window)\n				LinkedIn\n			\n				Share on X (Opens in new window)\n				X\n			\n				Share on Facebook (Opens in new window)\n				Facebook
URL:https://www.grc2020.com/event/erm-day-swedish-risk-management-association/
CATEGORIES:Conferences
ATTACH;FMTTYPE=image/jpeg:https://www.grc2020.com/wp-content/uploads/2023/07/Screenshot-2023-07-31-at-12.03.37-PM.jpg
END:VEVENT
END:VCALENDAR