BEGIN:VCALENDAR
VERSION:2.0
PRODID:-//GRC 20/20 Research, LLC - ECPv6.15.20//NONSGML v1.0//EN
CALSCALE:GREGORIAN
METHOD:PUBLISH
X-WR-CALNAME:GRC 20/20 Research, LLC
X-ORIGINAL-URL:https://www.grc2020.com
X-WR-CALDESC:Events for GRC 20/20 Research, LLC
REFRESH-INTERVAL;VALUE=DURATION:PT1H
X-Robots-Tag:noindex
X-PUBLISHED-TTL:PT1H
BEGIN:VTIMEZONE
TZID:Europe/London
BEGIN:DAYLIGHT
TZOFFSETFROM:+0000
TZOFFSETTO:+0100
TZNAME:BST
DTSTART:20230326T010000
END:DAYLIGHT
BEGIN:STANDARD
TZOFFSETFROM:+0100
TZOFFSETTO:+0000
TZNAME:GMT
DTSTART:20231029T010000
END:STANDARD
BEGIN:DAYLIGHT
TZOFFSETFROM:+0000
TZOFFSETTO:+0100
TZNAME:BST
DTSTART:20240331T010000
END:DAYLIGHT
BEGIN:STANDARD
TZOFFSETFROM:+0100
TZOFFSETTO:+0000
TZNAME:GMT
DTSTART:20241027T010000
END:STANDARD
BEGIN:DAYLIGHT
TZOFFSETFROM:+0000
TZOFFSETTO:+0100
TZNAME:BST
DTSTART:20250330T010000
END:DAYLIGHT
BEGIN:STANDARD
TZOFFSETFROM:+0100
TZOFFSETTO:+0000
TZNAME:GMT
DTSTART:20251026T010000
END:STANDARD
END:VTIMEZONE
BEGIN:VTIMEZONE
TZID:America/Chicago
BEGIN:DAYLIGHT
TZOFFSETFROM:-0600
TZOFFSETTO:-0500
TZNAME:CDT
DTSTART:20230312T080000
END:DAYLIGHT
BEGIN:STANDARD
TZOFFSETFROM:-0500
TZOFFSETTO:-0600
TZNAME:CST
DTSTART:20231105T070000
END:STANDARD
BEGIN:DAYLIGHT
TZOFFSETFROM:-0600
TZOFFSETTO:-0500
TZNAME:CDT
DTSTART:20240310T080000
END:DAYLIGHT
BEGIN:STANDARD
TZOFFSETFROM:-0500
TZOFFSETTO:-0600
TZNAME:CST
DTSTART:20241103T070000
END:STANDARD
BEGIN:DAYLIGHT
TZOFFSETFROM:-0600
TZOFFSETTO:-0500
TZNAME:CDT
DTSTART:20250309T080000
END:DAYLIGHT
BEGIN:STANDARD
TZOFFSETFROM:-0500
TZOFFSETTO:-0600
TZNAME:CST
DTSTART:20251102T070000
END:STANDARD
END:VTIMEZONE
BEGIN:VEVENT
DTSTART;TZID=Europe/London:20240306T000000
DTEND;TZID=Europe/London:20240307T235959
DTSTAMP:20260423T225146
CREATED:20231009T205628Z
LAST-MODIFIED:20231009T205632Z
UID:10002520-1709683200-1709855999@www.grc2020.com
SUMMARY:SAP for Internal Controls\, Compliance and Risk Management Conference
DESCRIPTION:REGISTER\n\n\n\n\nSAP for Internal Controls\, Compliance and Risk Management Conference\n\n\n\nPresented by TAC Insights \n\n\n\nMARCH 6 – 7\, 2024 | BRUSSELS\, BELGIUM \n\n\n\nRISE with SAP GRC\n\n\n\nWe are thrilled to bring you the SAP for Internal Controls\, Compliance and Risk Management European conference\, returning for its 5th in-person instalment. \n\n\n\nThis event brings together a rich and diverse ecosystem of SAP users\, partners and solution experts to address SAP’s GRC and cyber security portfolio in a practical and business-centric context. It’s the original and only event designed to address these business critical topics in the unique context of SAP. Are you an SAP user looing to learn and do more? Are you new to the world of SAP\, but want to learn how others are gaining competitive advantage and staying one step ahead? Join us in Brussels and see how you can rise with SAP GRC!  \n\n\n\nIn 2024\, we are delighted to bring together both our SAP for Internal Controls\, Compliance and Risk Management and SAP for Cyber Security and Data Protection events under one roof and into one single event. Expect break out sessions and parallel customer tracks covering real-life user cases of a rang of SAP solutions across the domains of controls\, compliance\, risk and security.  \n\n\n\nGRC 20/20 Analyst will be presenting at the event . . . \n\n\n\nMichael Rasmussen\n\n\n\nGRC 20/20 ResearchMichael Rasmussen – The GRC Pundit @ GRC 20/20 Research\, Michael Rasmussen is an internationally recognized pundit on governance\, risk management\, and compliance (GRC) – with specific expertise on the topics of GRC strategy\, process\, information\, and technology architectures and solutions. With 30+ years of experience\, Michael helps organizations improve GRC processes\, design and implement GRC architectures and select solutions that are effective\, efficient\, and agile. He is a sought-after keynote speaker\, author\, and advisor and is noted as the “Father of GRC” – being the first to define and model the GRC market in February 2002 while at Forrester Research\, Inc. \n\n\n\nConference Host\n\n\n\n\n\n\n\nAt TAC Insights\, we inspire\, educate and unite the global SAP ecosystem through powerful events and influential content – whether that’s through our international events\, remote learning via our webinars or gathering inspiration from our content platforms. \n\n\n\nWe focus on sharing knowledge\, bringing the SAP collective together and helping our communities understand and get the most out of their SAP investments. For over twenty years\, our passion for communities\, knowledge and creating experiences has driven our business\, and continues to do so. \n\n\n\n\n\n\n\nAt SAP\, our purpose is to help the world run better and improve people’s lives. Our promise is to innovate to help our customers run at their best. SAP is committed to helping every customer become a best-run business. We engineer solutions to fuel innovation\, foster equality\, and spread opportunity across borders and cultures. Together\, with our customers and partners\, we can transform industries\, grow economies\, lift up societies\, and sustain our environment. \nShare this:\n				Email a link to a friend (Opens in new window)\n				Email\n			\n				Print (Opens in new window)\n				Print\n			\n				Share on LinkedIn (Opens in new window)\n				LinkedIn\n			\n				Share on X (Opens in new window)\n				X\n			\n				Share on Facebook (Opens in new window)\n				Facebook
URL:https://www.grc2020.com/event/sap-for-internal-controls-compliance-and-risk-management-conference/
CATEGORIES:Conferences
ATTACH;FMTTYPE=image/png:https://www.grc2020.com/wp-content/uploads/2023/10/CCR-2024-LinkedIn-2.png
END:VEVENT
BEGIN:VEVENT
DTSTART;TZID=Europe/London:20240312T000000
DTEND;TZID=Europe/London:20240313T235959
DTSTAMP:20260423T225146
CREATED:20231227T212935Z
LAST-MODIFIED:20231227T213428Z
UID:10002544-1710201600-1710374399@www.grc2020.com
SUMMARY:GRC Connect: LONDON
DESCRIPTION:REGISTER\n\n\n\n\nWelcome to the GRC Connect Series\n\n\n\nThis dynamic and content-rich experience encompasses two U.S. cities and the PrivSec London conference\, uniting the foremost experts in GRC for a series of engaging two-day\, in-person events. \n\n\n\nEach stand-alone conference includes keynotes\, panel discussions\, an exhibit hall\, and opportunities for face-to-face meetings with targets and customers\, including potential for pre-scheduled one-on-one meetings with select VIP decision-makers. \n\n\n\nPrivSec & GRC Connect provides a platform that allows organisations to address the cumulative nature of risk\, unite disparate GRC specialties and create a compelling ‘deep dive’ agenda led by subject matter experts and thought leaders.  These co-located events will feature thought leaders\, industry experts and senior professionals from world- renowned companies sharing their knowledge\, case studies and experience – and providing insightful\, actionable content to an audience of end user professionals.  \n\n\n\nGovernance\, Risk & Compliance Theatre\n\n\n\n\nMaking Life Easier for Risk & Audit Executives: Technology for Managing Organisational Risk\n\n\n\nA new Governance model: How GRC practices can be leveraged to support ESG goals\n\n\n\nWhat keeps CROs awake at night? Advocating for your Compliance Program: Proactive Strategies for 2024\n\n\n\nEffective Whistleblowing Arrangements: A Global GRC Priority\n\n\n\nEfficient TPRM and ERM for Business Growth\n\n\n\nNavigating the Storm: A GRC toolbox for a Resilient Future\n\n\n\nMitigating Future Risks: how to anticipate and overcome Reputational Exposures\n\n\n\nKey Risks in Artificial Intelligence: Bias\, Discrimination and other Harms\n\n\n\nCompliance by Design: Bridging the Gap between Regulations and Employee Conduct\n\n\n\nBridging the Silos: The Importance of Holistic Risk Management\n\n\n\n\nPrivacy\, Data Protection & Security Theatre\n\n\n\n\nUK Data Protection Bill No.2 – What has changed?\n\n\n\nOnline Advertising and Privacy Regulation: what is and isn’t working\n\n\n\nCyber Risk Management Outlook: Prepare for 2024\n\n\n\nA runaway train? Generative AI and the concerns for PrivSec professionals\n\n\n\nA constant State of Cyber-Fear: is our Critical Infrastructure equipped?\n\n\n\nAttack surface and exposure management\n\n\n\nSharing and Caring: Privacy Risks of Third-Party Data\n\n\n\nRansomware Tabletop Exercises: Steps to Improve your Company’s Responsiveness\n\n\n\nData Governance for DPOs: Merging Compliance and Privacy\n\n\n\nThreat Detection\, Investigation and Response: what are we missing?\n\n\n\nEthical AI in principle: Innovation overtaking human privacy rights\n\n\n\n\nAttendees learn and hear from some of the most influential industry voices as they address challenges including:\n\n\n\nKeynote & Host Michael Rasmussen\n\n\n\nMichael Rasmussen\n\n\n\nGRC 20/20 ResearchMichael Rasmussen – The GRC Pundit @ GRC 20/20 Research\, Michael Rasmussen is an internationally recognized pundit on governance\, risk management\, and compliance (GRC) – with specific expertise on the topics of GRC strategy\, process\, information\, and technology architectures and solutions. With 30+ years of experience\, Michael helps organizations improve GRC processes\, design and implement GRC architectures and select solutions that are effective\, efficient\, and agile. He is a sought-after keynote speaker\, author\, and advisor and is noted as the “Father of GRC” – being the first to define and model the GRC market in February 2002 while at Forrester Research\, Inc. \n\n\n\nAbout GRC World Forums\n\n\n\n\n\n\n\nBrought to you from the team behind GRC World Forums which includes #Risk\, PrivSec\, DEI Series\, Workplace Wellbeing Series\, Piccaso Privacy Awards and much more. \n\n\n\nWe produce high quality information\, alongside virtual and physical events\, for senior executives and professionals alike. \n\n\n\nOur content and conferences provide opportunities for GRC professionals around the world to gain the latest insights\, guidance and advice from industry experts\, thought-leaders\, vendors and consultancies. \n\n\n\n \nShare this:\n				Email a link to a friend (Opens in new window)\n				Email\n			\n				Print (Opens in new window)\n				Print\n			\n				Share on LinkedIn (Opens in new window)\n				LinkedIn\n			\n				Share on X (Opens in new window)\n				X\n			\n				Share on Facebook (Opens in new window)\n				Facebook
URL:https://www.grc2020.com/event/grc-connect-london/
CATEGORIES:Conferences
ATTACH;FMTTYPE=image/png:https://www.grc2020.com/wp-content/uploads/2023/12/Screenshot-2023-12-27-at-3.27.11 PM.png
END:VEVENT
BEGIN:VEVENT
DTSTART;TZID=Europe/London:20240314T090000
DTEND;TZID=Europe/London:20240314T123000
DTSTAMP:20260423T225146
CREATED:20240221T124512Z
LAST-MODIFIED:20240221T124515Z
UID:10002562-1710406800-1710419400@www.grc2020.com
SUMMARY:What's on the horizon? New governance and regulatory requirements for 2024
DESCRIPTION:REGISTER\n\n\n\n\nThe UK corporate governance and regulatory landscape is moving fast. AI regulation\, corporate governance code changes\, and new audit standards all loom large\, against a background of economic and geo-political volatility. Staying ahead of the curve is essential for governance professionals guiding businesses through change. \n\n\n\nConnect. Share. Learn. Lead. \n\n\n\nJoin our panel of experts and your peers from across the UK as we cut through the noise to clarify what 2024 has in store for governance and regulation in the UK and what it means for you and your organisation. \n\n\n\nAt this unique event\, we invite you to share experiences\, gain insight\, grow your knowledge\, and build your network to help you lead change with confidence. \n\n\n\nIn engaging\, interactive sessions we’ll: \n\n\n\n\nAnalyse emerging EU legislation on artificial intelligence\n\n\n\nExamine the FRC’s latest stance on internal controls\n\n\n\nExplore the implications of the new Economic Crime and Corporate Transparency Act\n\n\n\n\nJoin us for this valuable\, open\, and collaborative session that will give you practical governance\, risk management and control insights to implement in your organisation. \n\n\n\nGRC 20/20 Analyst will be presenting at the event . . . \n\n\n\nMichael Rasmussen\n\n\n\nMichael Rasmussen is an internationally recognized pundit on governance\, risk management\, and compliance (GRC) – with specific expertise on enterprise GRC strategy and processes supported by robust information and technology architectures.  With 30+ years of experience\, Michael helps organizations improve GRC strategy and processes supported by the correct GRC technology architecture. This enables organizations to align GRC with the business and deliver effective\, efficient\, resilient\, and agile capabilities to the organization.  He is a sought-after keynote speaker\, author\, and advisor and is noted as the “Father of GRC” — the first to define and model the GRC market in February 2002 while at Forrester. \n\n\n\nWebinar Hosts\n\n\n\n\n\n\n\nDiligent created the modern governance movement. As the leading governance\, risk and compliance (GRC) SaaS company\, we serve 1 million users from over 25\,000 customers around the globe. Our innovative platform gives leaders a connected view of governance\, risk\, compliance and ESG across their organization. Our world-changing idea is to empower leaders with the technology\, insights and connections they need to drive greater impact and accountability – to lead with purpose. Our employees are passionate\, smart\, and creative people who not only want to help build the software company of the future\, but who want to make the world a more sustainable\, equitable and better place. \nShare this:\n				Email a link to a friend (Opens in new window)\n				Email\n			\n				Print (Opens in new window)\n				Print\n			\n				Share on LinkedIn (Opens in new window)\n				LinkedIn\n			\n				Share on X (Opens in new window)\n				X\n			\n				Share on Facebook (Opens in new window)\n				Facebook
URL:https://www.grc2020.com/event/whats-on-the-horizon-new-governance-and-regulatory-requirements-for-2024/
CATEGORIES:Conferences
ATTACH;FMTTYPE=image/png:https://www.grc2020.com/wp-content/uploads/2024/02/Screenshot-2024-02-21-at-7.40.26 AM.png
END:VEVENT
BEGIN:VEVENT
DTSTART;TZID=Europe/London:20240320T000000
DTEND;TZID=Europe/London:20240320T235959
DTSTAMP:20260423T225146
CREATED:20240214T110702Z
LAST-MODIFIED:20240214T110739Z
UID:10002559-1710892800-1710979199@www.grc2020.com
SUMMARY:ERM Virtual Summit
DESCRIPTION:REGISTER\n\n\n\n\nThis first-of-its-kind event will dive into the future of enterprise risk management and empower your organization to thrive in an ever-changing landscape. Don’t miss this exclusive opportunity to hear from industry experts\, gain valuable insights\, and elevate your ERM strategy. \n\n\n\nWho should attend?\n\n\n\n\nChief Risk Officers\, Heads of Risk\, Risk Managers\n\n\n\nExecutives & Board Members\n\n\n\nGeneral Counsels\, Heads of Legal\n\n\n\nHeads of Internal Audit\n\n\n\nInformation Security Leaders\n\n\n\n\nJoin us at the forefront of ERM innovation—where risks become opportunities! 🚀 #DiligentERM2024 \n\n\n\nGRC 20/20 Analyst will be presenting at the event . . . \n\n\n\nMichael Rasmussen\n\n\n\nMichael Rasmussen is an internationally recognized pundit on governance\, risk management\, and compliance (GRC) – with specific expertise on enterprise GRC strategy and processes supported by robust information and technology architectures.  With 30+ years of experience\, Michael helps organizations improve GRC strategy and processes supported by the correct GRC technology architecture. This enables organizations to align GRC with the business and deliver effective\, efficient\, resilient\, and agile capabilities to the organization.  He is a sought-after keynote speaker\, author\, and advisor and is noted as the “Father of GRC” — the first to define and model the GRC market in February 2002 while at Forrester. \n\n\n\nWebinar Hosts\n\n\n\n\n\n\n\nDiligent created the modern governance movement. As the leading governance\, risk and compliance (GRC) SaaS company\, we serve 1 million users from over 25\,000 customers around the globe. Our innovative platform gives leaders a connected view of governance\, risk\, compliance and ESG across their organization. Our world-changing idea is to empower leaders with the technology\, insights and connections they need to drive greater impact and accountability – to lead with purpose. Our employees are passionate\, smart\, and creative people who not only want to help build the software company of the future\, but who want to make the world a more sustainable\, equitable and better place. \nShare this:\n				Email a link to a friend (Opens in new window)\n				Email\n			\n				Print (Opens in new window)\n				Print\n			\n				Share on LinkedIn (Opens in new window)\n				LinkedIn\n			\n				Share on X (Opens in new window)\n				X\n			\n				Share on Facebook (Opens in new window)\n				Facebook
URL:https://www.grc2020.com/event/erm-virtual-summit/
CATEGORIES:Conferences
ATTACH;FMTTYPE=image/png:https://www.grc2020.com/wp-content/uploads/2024/02/Screenshot-2024-02-14-at-11.03.14 AM.png
END:VEVENT
BEGIN:VEVENT
DTSTART;TZID=Europe/London:20240320T000000
DTEND;TZID=Europe/London:20240321T235959
DTSTAMP:20260423T225146
CREATED:20231227T214511Z
LAST-MODIFIED:20231227T214515Z
UID:10002547-1710892800-1711065599@www.grc2020.com
SUMMARY:#RISK A.I. (Global Livestream)
DESCRIPTION:REGISTER\n\n\n\n\nGRC\, Risk\, Legal\, HR\, Finance Professionals\, software engineers\, founders\, tech workers and business leaders\, who need a clear understanding of the effects AI will have on all stakeholders including\, customers\, employees\, and third-party relationships.Generative AI holds much promise for enterprises of all sizes\, but many organisations are ill prepared to cope with the associated limitations and risks. \n\n\n\nThis event will: \n\n\n\n\nExplore global AI regulations.\n\n\n\nExamine AI risk exposure.\n\n\n\nShowcase potential AI use cases.\n\n\n\nHelp you accelerate your AI adoption\, safely.\n\n\n\nDemonstrate how AI can improve effectiveness\, efficiency\, and reliability.\n\n\n\nDeep-Dive into the Legal\, Ethical and Technological Risks of AI.\n\n\n\nDiscuss why meaningful AI controls are necessary. \n\n\n\nIllustrate how to build safe\, secure\, trustworthy AI systems.\n\n\n\nDebate IP challenges & identify solutions.\n\n\n\nHelp you govern\, map\, measure and manage AI risks.\n\n\n\n\nConcern around AI risks puts safety and compliance in the spotlight. There is widespread public support for AI regulation\, but law makers are still negotiating the EU’s new AI Act.  \n\n\n\n\nWhich systems and applications will be covered by the new law?\n\n\n\nWhen will the A.I Act come into force?\n\n\n\nWhat is the European Commission’s proposed definition for A.I?\n\n\n\nWhat will enforcement look like?\n\n\n\nWhat is the UK government’s direction on A.I. regulation?\n\n\n\nWhat new US A.I regulations can we expect to see?\n\n\n\n\nFind out at #RISK AI… \n\n\n\nAttendees learn and hear from some of the most influential industry voices as they address challenges including:\n\n\n\nKeynote & Host Michael Rasmussen\n\n\n\nMichael Rasmussen\n\n\n\nGRC 20/20 ResearchMichael Rasmussen – The GRC Pundit @ GRC 20/20 Research\, Michael Rasmussen is an internationally recognized pundit on governance\, risk management\, and compliance (GRC) – with specific expertise on the topics of GRC strategy\, process\, information\, and technology architectures and solutions. With 30+ years of experience\, Michael helps organizations improve GRC processes\, design and implement GRC architectures and select solutions that are effective\, efficient\, and agile. He is a sought-after keynote speaker\, author\, and advisor and is noted as the “Father of GRC” – being the first to define and model the GRC market in February 2002 while at Forrester Research\, Inc. \n\n\n\nAbout GRC World Forums\n\n\n\n\n\n\n\nBrought to you from the team behind GRC World Forums which includes #Risk\, PrivSec\, DEI Series\, Workplace Wellbeing Series\, Piccaso Privacy Awards and much more. \n\n\n\nWe produce high quality information\, alongside virtual and physical events\, for senior executives and professionals alike. \n\n\n\nOur content and conferences provide opportunities for GRC professionals around the world to gain the latest insights\, guidance and advice from industry experts\, thought-leaders\, vendors and consultancies. \n\n\n\n \nShare this:\n				Email a link to a friend (Opens in new window)\n				Email\n			\n				Print (Opens in new window)\n				Print\n			\n				Share on LinkedIn (Opens in new window)\n				LinkedIn\n			\n				Share on X (Opens in new window)\n				X\n			\n				Share on Facebook (Opens in new window)\n				Facebook
URL:https://www.grc2020.com/event/risk-a-i-global-livestream/
CATEGORIES:Conferences
ATTACH;FMTTYPE=image/png:https://www.grc2020.com/wp-content/uploads/2023/12/Screenshot-2023-12-27-at-3.37.40 PM.png
END:VEVENT
BEGIN:VEVENT
DTSTART;TZID=America/Chicago:20240320T000000
DTEND;TZID=America/Chicago:20240322T235959
DTSTAMP:20260423T225146
CREATED:20231108T134654Z
LAST-MODIFIED:20231109T140628Z
UID:10002532-1710892800-1711151999@www.grc2020.com
SUMMARY:agility24: by LogicGate
DESCRIPTION:REGISTER\n\n\n\n\nAgility is LogicGate’s annual user conference where we bring together industry leaders and like-minded professionals in risk\, cybersecurity\, and compliance management to explore the industry’s most critical topics. \n\n\n\nDiscover innovative solutions to GRC’s biggest challenges\, learn from the people driving our industry forward\, and uncover real-world use cases that can grow and mature your GRC programs. \n\n\n\n\nCONNECT. Engage with industry leaders\, network with your peers\, and discuss today’s most important GRC topics during conference sessions\, workshops\, and evening entertainment. \n\n\n\nLEARN. Explore practical\, real-world use cases showcasing how GRC solutions effectively address the complex challenges faced by risk and compliance professionals.\n\n\n\nBUILD. Enhance your expertise and skills with certification courses and training sessions designed to assist you in creating and implementing highly effective GRC programs.\n\n\n\nCPE CREDITS. Your attendance at Agility may qualify for Continuing Professional Education (CPE) credits. Learn and earn professional development credits at the same time.\n\n\n\n\nGRC 20/20 Analyst will be presenting at the event . . . \n\n\n\nMichael Rasmussen\n\n\n\nGRC 20/20 ResearchMichael Rasmussen – The GRC Pundit @ GRC 20/20 Research\, Michael Rasmussen is an internationally recognized pundit on governance\, risk management\, and compliance (GRC) – with specific expertise on the topics of GRC strategy\, process\, information\, and technology architectures and solutions. With 30+ years of experience\, Michael helps organizations improve GRC processes\, design and implement GRC architectures and select solutions that are effective\, efficient\, and agile. He is a sought-after keynote speaker\, author\, and advisor and is noted as the “Father of GRC” – being the first to define and model the GRC market in February 2002 while at Forrester Research\, Inc. \n\n\n\nConference Host\n\n\n\n\n\n\n\nLogicGate offers modern risk management technology empowering businesses to proactively transform risk enterprise-wide. Because risk is a team sport\, we created the Risk Cloud Platform® — the most nimble and collaborative GRC solution out there. Rapidly adapt to changing business conditions. Confidently innovate and build new processes as you go. Collaborate on risk across your entire organization. Risk Cloud® gives you an interconnected view of risk across the organization that you just can’t get from point solutions. After all\, great companies are built not by avoiding risks — but by choosing the right ones. \nShare this:\n				Email a link to a friend (Opens in new window)\n				Email\n			\n				Print (Opens in new window)\n				Print\n			\n				Share on LinkedIn (Opens in new window)\n				LinkedIn\n			\n				Share on X (Opens in new window)\n				X\n			\n				Share on Facebook (Opens in new window)\n				Facebook
URL:https://www.grc2020.com/event/agility25-by-logicgate/
CATEGORIES:Conferences
ATTACH;FMTTYPE=image/png:https://www.grc2020.com/wp-content/uploads/2023/11/Screenshot-2023-11-08-at-1.37.28 PM.png
END:VEVENT
END:VCALENDAR