BEGIN:VCALENDAR
VERSION:2.0
PRODID:-//GRC 20/20 Research, LLC - ECPv6.15.20//NONSGML v1.0//EN
CALSCALE:GREGORIAN
METHOD:PUBLISH
X-WR-CALNAME:GRC 20/20 Research, LLC
X-ORIGINAL-URL:https://www.grc2020.com
X-WR-CALDESC:Events for GRC 20/20 Research, LLC
REFRESH-INTERVAL;VALUE=DURATION:PT1H
X-Robots-Tag:noindex
X-PUBLISHED-TTL:PT1H
BEGIN:VTIMEZONE
TZID:America/Chicago
BEGIN:DAYLIGHT
TZOFFSETFROM:-0600
TZOFFSETTO:-0500
TZNAME:CDT
DTSTART:20230312T080000
END:DAYLIGHT
BEGIN:STANDARD
TZOFFSETFROM:-0500
TZOFFSETTO:-0600
TZNAME:CST
DTSTART:20231105T070000
END:STANDARD
BEGIN:DAYLIGHT
TZOFFSETFROM:-0600
TZOFFSETTO:-0500
TZNAME:CDT
DTSTART:20240310T080000
END:DAYLIGHT
BEGIN:STANDARD
TZOFFSETFROM:-0500
TZOFFSETTO:-0600
TZNAME:CST
DTSTART:20241103T070000
END:STANDARD
BEGIN:DAYLIGHT
TZOFFSETFROM:-0600
TZOFFSETTO:-0500
TZNAME:CDT
DTSTART:20250309T080000
END:DAYLIGHT
BEGIN:STANDARD
TZOFFSETFROM:-0500
TZOFFSETTO:-0600
TZNAME:CST
DTSTART:20251102T070000
END:STANDARD
END:VTIMEZONE
BEGIN:VTIMEZONE
TZID:Europe/London
BEGIN:DAYLIGHT
TZOFFSETFROM:+0000
TZOFFSETTO:+0100
TZNAME:BST
DTSTART:20230326T010000
END:DAYLIGHT
BEGIN:STANDARD
TZOFFSETFROM:+0100
TZOFFSETTO:+0000
TZNAME:GMT
DTSTART:20231029T010000
END:STANDARD
BEGIN:DAYLIGHT
TZOFFSETFROM:+0000
TZOFFSETTO:+0100
TZNAME:BST
DTSTART:20240331T010000
END:DAYLIGHT
BEGIN:STANDARD
TZOFFSETFROM:+0100
TZOFFSETTO:+0000
TZNAME:GMT
DTSTART:20241027T010000
END:STANDARD
BEGIN:DAYLIGHT
TZOFFSETFROM:+0000
TZOFFSETTO:+0100
TZNAME:BST
DTSTART:20250330T010000
END:DAYLIGHT
BEGIN:STANDARD
TZOFFSETFROM:+0100
TZOFFSETTO:+0000
TZNAME:GMT
DTSTART:20251026T010000
END:STANDARD
END:VTIMEZONE
BEGIN:VEVENT
DTSTART;TZID=America/Chicago:20240416T000000
DTEND;TZID=America/Chicago:20240417T235959
DTSTAMP:20260423T211819
CREATED:20231227T213405Z
LAST-MODIFIED:20240403T195536Z
UID:10002545-1713225600-1713398399@www.grc2020.com
SUMMARY:GRC Connect: CHICAGO
DESCRIPTION:REGISTER\n\n\n\n\nWelcome to the GRC Connect Series\n\n\n\nThis dynamic and content-rich experience brings together the top minds in GRC\, taking place over April 16-16 at at the Crowne Plaza Chicago West Loop. \n\n\n\nGRC Connect Chicago will feature thought leaders\, industry experts and senior professionals from world- renowned companies sharing their knowledge\, case studies and experience – and providing insightful\, actionable content to an audience of end user professionals. \n\n\n\nGovernance\, Risk & Compliance Theatre\n\n\n\n\nMaking Life Easier for Risk & Audit Executives: Technology for Managing Organisational Risk\n\n\n\nA new Governance model: How GRC practices can be leveraged to support ESG goals\n\n\n\nWhat keeps CROs awake at night? Advocating for your Compliance Program: Proactive Strategies for 2024\n\n\n\nEffective Whistleblowing Arrangements: A Global GRC Priority\n\n\n\nEfficient TPRM and ERM for Business Growth\n\n\n\nNavigating the Storm: A GRC toolbox for a Resilient Future\n\n\n\nMitigating Future Risks: how to anticipate and overcome Reputational Exposures\n\n\n\nKey Risks in Artificial Intelligence: Bias\, Discrimination and other Harms\n\n\n\nCompliance by Design: Bridging the Gap between Regulations and Employee Conduct\n\n\n\nBridging the Silos: The Importance of Holistic Risk Management\n\n\n\n\nPrivacy\, Data Protection & Security Theatre\n\n\n\n\nUK Data Protection Bill No.2 – What has changed?\n\n\n\nOnline Advertising and Privacy Regulation: what is and isn’t working\n\n\n\nCyber Risk Management Outlook: Prepare for 2024\n\n\n\nA runaway train? Generative AI and the concerns for PrivSec professionals\n\n\n\nA constant State of Cyber-Fear: is our Critical Infrastructure equipped?\n\n\n\nAttack surface and exposure management\n\n\n\nSharing and Caring: Privacy Risks of Third-Party Data\n\n\n\nRansomware Tabletop Exercises: Steps to Improve your Company’s Responsiveness\n\n\n\nData Governance for DPOs: Merging Compliance and Privacy\n\n\n\nThreat Detection\, Investigation and Response: what are we missing?\n\n\n\nEthical AI in principle: Innovation overtaking human privacy rights\n\n\n\n\nAttendees learn and hear from some of the most influential industry voices as they address challenges including:\n\n\n\nKeynote & Host Michael Rasmussen\n\n\n\nMichael Rasmussen\n\n\n\nGRC 20/20 ResearchMichael Rasmussen – The GRC Pundit @ GRC 20/20 Research\, Michael Rasmussen is an internationally recognized pundit on governance\, risk management\, and compliance (GRC) – with specific expertise on the topics of GRC strategy\, process\, information\, and technology architectures and solutions. With 30+ years of experience\, Michael helps organizations improve GRC processes\, design and implement GRC architectures and select solutions that are effective\, efficient\, and agile. He is a sought-after keynote speaker\, author\, and advisor and is noted as the “Father of GRC” – being the first to define and model the GRC market in February 2002 while at Forrester Research\, Inc. \n\n\n\nAbout GRC World Forums\n\n\n\n\n\n\n\nBrought to you from the team behind GRC World Forums which includes #Risk\, PrivSec\, DEI Series\, Workplace Wellbeing Series\, Piccaso Privacy Awards and much more. \n\n\n\nWe produce high quality information\, alongside virtual and physical events\, for senior executives and professionals alike. \n\n\n\nOur content and conferences provide opportunities for GRC professionals around the world to gain the latest insights\, guidance and advice from industry experts\, thought-leaders\, vendors and consultancies. \n\n\n\n \nShare this:\n				Email a link to a friend (Opens in new window)\n				Email\n			\n				Print (Opens in new window)\n				Print\n			\n				Share on LinkedIn (Opens in new window)\n				LinkedIn\n			\n				Share on X (Opens in new window)\n				X\n			\n				Share on Facebook (Opens in new window)\n				Facebook
URL:https://www.grc2020.com/event/grc-connect-chicago/
CATEGORIES:Conferences
ATTACH;FMTTYPE=image/png:https://www.grc2020.com/wp-content/uploads/2023/12/Michael-Chicago-Keynote.png
END:VEVENT
BEGIN:VEVENT
DTSTART;TZID=Europe/London:20240424T000000
DTEND;TZID=Europe/London:20240425T235959
DTSTAMP:20260423T211819
CREATED:20240219T123145Z
LAST-MODIFIED:20240219T123149Z
UID:10002560-1713916800-1714089599@www.grc2020.com
SUMMARY:Interact 2024 | London\, UK
DESCRIPTION:REGISTER\n\n\n\n\nInteract Is Heading To London!\n\n\n\nWe’re always ready to meet our Mitratech community where they are (literally) — and Interact 2024 is our chance to prove it. \n\n\n\nThat’s why we’re so excited to package up the heart of the Interact experience and bring it to London\, where users and guests inside and outside of the EMEA region are invited to join us for: \n\n\n\n\nUNPARALLELED EXPERTISE. Thought-leadership focused on the exact challenges and opportunities facing your business​\n\n\n\nROADMAP INSIGHTS. A review of our latest feature enhancements and an update on our technology portfolio at the 2024 MitraTECH Expo​\n\n\n\nHANDS-ON TRAINING. A full day of hands-on user workshops\, product training\, cross-functional presentations\, and more ​\n\n\n\nCO-INNOVATION & NETWORKING. Our renowned Interact Welcome Reception and Networking Happy Hour \n\n\n\n\nWhere Industries Intersect\, Leaders Collaborate & Innovation Keeps Pace With Ingenuity. \n\n\n\nThe world is changing fast – and leaders across legal & claims\, risk\, compliance\, and human resources are ready to have some candid conversations about it. \n\n\n\nAt Interact 2024\, you’ll have a chance to crowdsource new ideas\, unpack challenges\, share product best practices\, and have some important discussions surrounding a cross-section of topics (like regulatory compliance\, cyber risk\, AI application\, workflow automation\, and more!). \n\n\n\nGRC 20/20 Speaker . . . \n\n\n\nMichael Rasmussen\n\n\n\nMichael Rasmussen is an internationally recognized pundit on governance\, risk management\, and compliance (GRC) – with specific expertise on enterprise GRC strategy and processes supported by robust information and technology architectures.  With 30+ years of experience\, Michael helps organizations improve GRC strategy and processes supported by the correct GRC technology architecture.  This enables organizations to align GRC with the business and deliver effective\, efficient\, resilient\, and agile capabilities to the organization.  He is a sought-after keynote speaker\, author\, and advisor and is noted as the “Father of GRC” — the first to define and model the GRC market in February 2002 while at Forrester. \n\n\n\nConference Host . . . \n\n\n\n\n\n\n\nMitratech is a trusted\, global technology partner empowering corporate legal\, risk & compliance\, and HR professionals to maximize productivity\, control expense\, and mitigate risk by deepening operational alignment\, and increasing collaboration & visibility across their organization. With Mitratech’s proven portfolio of end-to-end solutions\, organizations worldwide are able to proactively identify and implement best practices and standardize processes across all lines of business to manage risk and ensure business continuity. Mitratech partners with more than 10\,000 companies worldwide\, from small nimble teams needing tech-enablement\, to the largest organizations in the world trying to centralize\, streamline and collaborate across their legal and risk functions. Mitratech’s user base spans more than 160 countries. \n\n\n\n \nShare this:\n				Email a link to a friend (Opens in new window)\n				Email\n			\n				Print (Opens in new window)\n				Print\n			\n				Share on LinkedIn (Opens in new window)\n				LinkedIn\n			\n				Share on X (Opens in new window)\n				X\n			\n				Share on Facebook (Opens in new window)\n				Facebook
URL:https://www.grc2020.com/event/interact-2024-london-uk/
CATEGORIES:Conferences
ATTACH;FMTTYPE=image/png:https://www.grc2020.com/wp-content/uploads/2024/02/Screenshot-2024-02-19-at-6.24.04 AM.png
END:VEVENT
END:VCALENDAR