BEGIN:VCALENDAR
VERSION:2.0
PRODID:-//GRC 20/20 Research, LLC - ECPv6.15.20//NONSGML v1.0//EN
CALSCALE:GREGORIAN
METHOD:PUBLISH
X-ORIGINAL-URL:https://www.grc2020.com
X-WR-CALDESC:Events for GRC 20/20 Research, LLC
REFRESH-INTERVAL;VALUE=DURATION:PT1H
X-Robots-Tag:noindex
X-PUBLISHED-TTL:PT1H
BEGIN:VTIMEZONE
TZID:America/Chicago
BEGIN:DAYLIGHT
TZOFFSETFROM:-0600
TZOFFSETTO:-0500
TZNAME:CDT
DTSTART:20230312T080000
END:DAYLIGHT
BEGIN:STANDARD
TZOFFSETFROM:-0500
TZOFFSETTO:-0600
TZNAME:CST
DTSTART:20231105T070000
END:STANDARD
BEGIN:DAYLIGHT
TZOFFSETFROM:-0600
TZOFFSETTO:-0500
TZNAME:CDT
DTSTART:20240310T080000
END:DAYLIGHT
BEGIN:STANDARD
TZOFFSETFROM:-0500
TZOFFSETTO:-0600
TZNAME:CST
DTSTART:20241103T070000
END:STANDARD
BEGIN:DAYLIGHT
TZOFFSETFROM:-0600
TZOFFSETTO:-0500
TZNAME:CDT
DTSTART:20250309T080000
END:DAYLIGHT
BEGIN:STANDARD
TZOFFSETFROM:-0500
TZOFFSETTO:-0600
TZNAME:CST
DTSTART:20251102T070000
END:STANDARD
END:VTIMEZONE
BEGIN:VTIMEZONE
TZID:Europe/London
BEGIN:DAYLIGHT
TZOFFSETFROM:+0000
TZOFFSETTO:+0100
TZNAME:BST
DTSTART:20230326T010000
END:DAYLIGHT
BEGIN:STANDARD
TZOFFSETFROM:+0100
TZOFFSETTO:+0000
TZNAME:GMT
DTSTART:20231029T010000
END:STANDARD
BEGIN:DAYLIGHT
TZOFFSETFROM:+0000
TZOFFSETTO:+0100
TZNAME:BST
DTSTART:20240331T010000
END:DAYLIGHT
BEGIN:STANDARD
TZOFFSETFROM:+0100
TZOFFSETTO:+0000
TZNAME:GMT
DTSTART:20241027T010000
END:STANDARD
BEGIN:DAYLIGHT
TZOFFSETFROM:+0000
TZOFFSETTO:+0100
TZNAME:BST
DTSTART:20250330T010000
END:DAYLIGHT
BEGIN:STANDARD
TZOFFSETFROM:+0100
TZOFFSETTO:+0000
TZNAME:GMT
DTSTART:20251026T010000
END:STANDARD
END:VTIMEZONE
BEGIN:VEVENT
DTSTART;TZID=America/Chicago:20240619T000000
DTEND;TZID=America/Chicago:20240619T235959
DTSTAMP:20260423T173455
CREATED:20240515T104545Z
LAST-MODIFIED:20240515T104552Z
UID:10002584-1718755200-1718841599@www.grc2020.com
SUMMARY:Agility UK\, LogicGate
DESCRIPTION:REGISTER\n\n\n\n\nLogicGate’s annual user conference is coming to the UK!\n\n\n\nAgility is where we bring together industry leaders and like-minded professionals in risk\, cybersecurity\, and compliance management to explore the industry’s most critical topics. \n\n\n\nAgility in Chicago was a great success – we’re excited to bring the experience to risk professionals in the UK and EU. \n\n\n\nJoin us on 19 June 2024 to learn from the people driving our industry forward\, discuss innovative solutions to GRC’s biggest challenges\, and uncover real-world use cases that can grow and mature your GRC programs. \n\n\n\nHere’s a glimpse of what you can expect (subject to change).\n\n\n\n8:30 – 9:00Breakfast9:00 – 12:00Risk & Resiliency Workshop with Michael Rasmussen12:00 – 1:00Lunch1:00 – 1:30LogicGate Keynote1:35 – 2:15Risk Cloud in the Real World: A Conversation with LogicGate Customers2:20 – 2:50Driving Efficiency: The Latest in Risk Cloud Functionality3:05 – 3:35Learn how Equiniti Matured its Risk Program into a Holistic GRC Programme3:40 – 4:10Hear from Ascent\, the First Integrated\, Global Regulatory Lifecycle Management Platform4:15 – 4:45LogicGate Product Roadmap5:00 – 6:30Networking Reception\n\n\n\nThis is a free event\, but space is limited. Register now to save your seat. \n\n\n\nGRC 20/20 Analyst will be presenting at the event . . . \n\n\n\nMichael Rasmussen\n\n\n\nMichael Rasmussen is an internationally recognized pundit on governance\, risk management\, and compliance (GRC) – with specific expertise on enterprise GRC strategy and processes supported by robust information and technology architectures.  With 30+ years of experience\, Michael helps organizations improve GRC strategy and processes supported by the correct GRC technology architecture. This enables organizations to align GRC with the business and deliver effective\, efficient\, resilient\, and agile capabilities to the organization.  He is a sought-after keynote speaker\, author\, and advisor and is noted as the “Father of GRC” — the first to define and model the GRC market in February 2002 while at Forrester. \n\n\n\nConference Host\n\n\n\n\n\n\n\nLogicGate offers modern risk management technology empowering businesses to proactively transform risk enterprise-wide. Because risk is a team sport\, we created the Risk Cloud Platform® — the most nimble and collaborative GRC solution out there. Rapidly adapt to changing business conditions. Confidently innovate and build new processes as you go. Collaborate on risk across your entire organization. Risk Cloud® gives you an interconnected view of risk across the organization that you just can’t get from point solutions. After all\, great companies are built not by avoiding risks — but by choosing the right ones. \nShare this:\n				Email a link to a friend (Opens in new window)\n				Email\n			\n				Print (Opens in new window)\n				Print\n			\n				Share on LinkedIn (Opens in new window)\n				LinkedIn\n			\n				Share on X (Opens in new window)\n				X\n			\n				Share on Facebook (Opens in new window)\n				Facebook
URL:https://www.grc2020.com/event/agility-uk-logicgate/
CATEGORIES:Conferences
ATTACH;FMTTYPE=image/webp:https://www.grc2020.com/wp-content/uploads/2024/05/LogicGate_Event_img_1200x640_revised_op2.webp
END:VEVENT
BEGIN:VEVENT
DTSTART;TZID=Europe/London:20240626T163000
DTEND;TZID=Europe/London:20240626T190000
DTSTAMP:20260423T173456
CREATED:20240606T183942Z
LAST-MODIFIED:20240606T183946Z
UID:10002593-1719419400-1719428400@www.grc2020.com
SUMMARY:RegTech Panel & Discussion
DESCRIPTION:Hosted by Acin\, this invitation-only event is taking place on Wednesday\, June 26th for an evening of discussion with our panelists\, followed by networking over drinks. Please contact GRC 20/20’s Michael Rasmussen ASAP if interested as space is limited. \n\n\n\nGRC 20/20’s Michael Rasmussen will open the session with some thoughts and perspectives on GRC and RegTech in financial services which will open to our panel discussion.  \n\n\n\nThe event agenda includes: \n\n\n\n\nThe advantages of an industry utility solution in NFR\n\n\n\nThe importance of quality at the core of Risk Controls\n\n\n\nThe power of technology and Al\n\n\n\nRegulatory Mapping and evidencing you’re ‘in control”\n\n\n\nEnhancing the dialogue with the Regulators\n\n\n\n\nGRC 20/20 Opener . . .\n\n\n\nMichael Rasmussen\n\n\n\nMichael Rasmussen is an internationally recognized pundit on governance\, risk management\, and compliance (GRC) – with specific expertise on enterprise GRC strategy and processes supported by robust information and technology architectures.  With 30+ years of experience\, Michael helps organizations improve GRC strategy and processes supported by the correct GRC technology architecture. This enables organizations to align GRC with the business and deliver effective\, efficient\, resilient\, and agile capabilities to the organization.  He is a sought-after keynote speaker\, author\, and advisor and is noted as the “Father of GRC” — the first to define and model the GRC market in February 2002 while at Forrester. \n\n\n\nEvent Host . . .\n\n\n\n\n\n\n\nAcin is the industry utility solution for non-financial risk. We partner with clients to accelerate the maturity of non-financial risk and bring objective assurance. Our unique approach connects the industry\, powered by AI\, with subject matter expertise to:  \n\n\n\n\nConsolidate a single view of risk and control for analytics \n\n\n\nEnhance and standardise the risk control quality \n\n\n\nBenchmark and calibrate to the industry \n\n\n\nMap to regulatory requirements \n\n\n\nMove to a dynamic risk management framework \n\n\n\n\nOur objective and data-driven quantitative approach enables senior executives to proactively demonstrate they are ‘in control’\, bringing the value of assurance to internal stakeholders and regulators. We also help our clients to reduce risk\, cost\, and spend on external consultants. \n\n\n\n \n\n\n\n\nShare this:\n				Email a link to a friend (Opens in new window)\n				Email\n			\n				Print (Opens in new window)\n				Print\n			\n				Share on LinkedIn (Opens in new window)\n				LinkedIn\n			\n				Share on X (Opens in new window)\n				X\n			\n				Share on Facebook (Opens in new window)\n				Facebook
URL:https://www.grc2020.com/event/regtech-panel-discussion/
CATEGORIES:Conferences
ATTACH;FMTTYPE=image/jpeg:https://www.grc2020.com/wp-content/uploads/2024/06/acin.jpg
END:VEVENT
END:VCALENDAR