BEGIN:VCALENDAR
VERSION:2.0
PRODID:-//GRC 20/20 Research, LLC - ECPv6.15.20//NONSGML v1.0//EN
CALSCALE:GREGORIAN
METHOD:PUBLISH
X-ORIGINAL-URL:https://www.grc2020.com
X-WR-CALDESC:Events for GRC 20/20 Research, LLC
REFRESH-INTERVAL;VALUE=DURATION:PT1H
X-Robots-Tag:noindex
X-PUBLISHED-TTL:PT1H
BEGIN:VTIMEZONE
TZID:Asia/Riyadh
BEGIN:STANDARD
TZOFFSETFROM:+0300
TZOFFSETTO:+0300
TZNAME:+03
DTSTART:20240101T000000
END:STANDARD
END:VTIMEZONE
BEGIN:VTIMEZONE
TZID:Asia/Dubai
BEGIN:STANDARD
TZOFFSETFROM:+0400
TZOFFSETTO:+0400
TZNAME:+04
DTSTART:20240101T000000
END:STANDARD
END:VTIMEZONE
BEGIN:VTIMEZONE
TZID:America/New_York
BEGIN:DAYLIGHT
TZOFFSETFROM:-0500
TZOFFSETTO:-0400
TZNAME:EDT
DTSTART:20240310T070000
END:DAYLIGHT
BEGIN:STANDARD
TZOFFSETFROM:-0400
TZOFFSETTO:-0500
TZNAME:EST
DTSTART:20241103T060000
END:STANDARD
BEGIN:DAYLIGHT
TZOFFSETFROM:-0500
TZOFFSETTO:-0400
TZNAME:EDT
DTSTART:20250309T070000
END:DAYLIGHT
BEGIN:STANDARD
TZOFFSETFROM:-0400
TZOFFSETTO:-0500
TZNAME:EST
DTSTART:20251102T060000
END:STANDARD
BEGIN:DAYLIGHT
TZOFFSETFROM:-0500
TZOFFSETTO:-0400
TZNAME:EDT
DTSTART:20260308T070000
END:DAYLIGHT
BEGIN:STANDARD
TZOFFSETFROM:-0400
TZOFFSETTO:-0500
TZNAME:EST
DTSTART:20261101T060000
END:STANDARD
END:VTIMEZONE
BEGIN:VEVENT
DTSTART;TZID=Asia/Riyadh:20250119T000000
DTEND;TZID=Asia/Riyadh:20250120T235959
DTSTAMP:20260423T063759
CREATED:20241125T163629Z
LAST-MODIFIED:20241125T163902Z
UID:10002624-1737244800-1737417599@www.grc2020.com
SUMMARY:G[P]RC Summit\, Riyadh\, Saudia Arabia
DESCRIPTION:REGISTER\n\n\n\n\nThe G[P]RC Summit is the world’s largest summit on GPRC: GRC integrated with Performance and Strategy – bringing together C-level executives\, GRC experts\, and industry and academia professionals from across the world to share insights\, innovative solutions\, and best practices needed to drive organisational success and resilience in an increasingly complex and interconnected business environment. This year’s summit will be centred around the theme of “Driving Success: Integrating GRC with Strategy Execution in a Hyperconnected World.” \n\n\n\nIn today’s rapidly evolving business landscape\, organisations encounter a myriad of challenges\, from regulatory complexities to disruptive market forces and emerging technologies such as AI. Particularly in the GCC region\, there is a notable shift towards embedding sustainability\, accountability\, and compliance into core organisational strategies. In the UAE\, which hosts COP28 this year\, sustainability is a priority on governmental agendas\, as they integrate ESG frameworks to fuel future growth. The repercussions of non-compliance are significant\, both socially and financially\, making organisational resilience more critical than ever. \n\n\n\nTo thrive in this dynamic environment\, businesses must go beyond traditional governance\, performance management\, risk mitigation\, and compliance. They must transform into “connected enterprises” where these elements are seamlessly integrated\, driving strategic alignment\, digital transformation\, and data-driven decision-making. By focusing on integrating GRC with strategy execution\, organisations can ensure that every facet of the business – people\, processes\, and data – is interconnected and aligned. This integration fosters agility\, adaptability\, and resilience\, empowering businesses to navigate complexities and capitalise on opportunities in an increasingly connected world. \n\n\n\nThe G[P]RC Summit 2025 will be a two-day event featuring keynote addresses and panel discussions led by distinguished regional and international speakers. The summit’s sessions will explore a range of themes\, including governance best practices\, performance optimisation\, risk mitigation strategies\, and regulatory compliance assurance. Attendees will gain valuable insights into the latest trends\, methodologies\, tools\, and innovations in GPRC\, empowering them to navigate future challenges and seize emerging opportunities. \n\n\n\nJoin us at the G[P]RC Summit 2025 and embark on a transformative journey towards driving success in a hyperconnected world. \n\n\n\nGRC 20/20 Analyst will be keynoting at the event . . .\n\n\n\nMichael Rasmussen\n\n\n\nMichael Rasmussen is an internationally recognized thought leader and pioneer in governance\, risk management\, and compliance (GRC). With over 30 years of experience\, he has extensive expertise in enterprise GRC strategy and processes supported by robust information and technology architectures. Known as the “Father of GRC\,” Michael was the first to define and model the GRC market in February 2002 while at Forrester\, setting the foundation for the modern understanding of GRC. \n\n\n\nConference Host\n\n\n\n\n\n\n\nThe G[P]RC Summit is the world’s largest summit on GPRC: GRC integrated with Performance and Strategy – bringing together C-level executives\, GRC experts\, and industry and academia professionals from across the world to share insights\, innovative solutions\, and best practices needed to drive organisational success and resilience in an increasingly complex and interconnected business environment. This year’s theme\, “Driving Success: Integrating GRC with Strategy Execution in a Hyperconnected World\,” focuses on empowering organizations to navigate challenges and seize opportunities through a holistic\, connected approach. Join us in Riyadh on 19 – 20 January or in Dubai on 22 – 23 January 2025\, to gain insights from industry leaders and take your GRC strategy to the next level. Ready to transform your approach? Register at https://gprcsummit.com/and secure your spot. \nShare this:\n				Email a link to a friend (Opens in new window)\n				Email\n			\n				Print (Opens in new window)\n				Print\n			\n				Share on LinkedIn (Opens in new window)\n				LinkedIn\n			\n				Share on X (Opens in new window)\n				X\n			\n				Share on Facebook (Opens in new window)\n				Facebook
URL:https://www.grc2020.com/event/gprc-summit-riyadh-saudia-arabia/
CATEGORIES:Conferences
ATTACH;FMTTYPE=image/png:https://www.grc2020.com/wp-content/uploads/2024/11/Screenshot-2024-11-25-at-10.25.08 AM.png
END:VEVENT
BEGIN:VEVENT
DTSTART;TZID=Asia/Dubai:20250122T000000
DTEND;TZID=Asia/Dubai:20250123T235959
DTSTAMP:20260423T063759
CREATED:20241125T164132Z
LAST-MODIFIED:20241125T164133Z
UID:10002625-1737504000-1737676799@www.grc2020.com
SUMMARY:G[P]RC Summit\, Dubai\, UAE
DESCRIPTION:REGISTER\n\n\n\n\nThe G[P]RC Summit is the world’s largest summit on GPRC: GRC integrated with Performance and Strategy – bringing together C-level executives\, GRC experts\, and industry and academia professionals from across the world to share insights\, innovative solutions\, and best practices needed to drive organisational success and resilience in an increasingly complex and interconnected business environment. This year’s summit will be centred around the theme of “Driving Success: Integrating GRC with Strategy Execution in a Hyperconnected World.” \n\n\n\nIn today’s rapidly evolving business landscape\, organisations encounter a myriad of challenges\, from regulatory complexities to disruptive market forces and emerging technologies such as AI. Particularly in the GCC region\, there is a notable shift towards embedding sustainability\, accountability\, and compliance into core organisational strategies. In the UAE\, which hosts COP28 this year\, sustainability is a priority on governmental agendas\, as they integrate ESG frameworks to fuel future growth. The repercussions of non-compliance are significant\, both socially and financially\, making organisational resilience more critical than ever. \n\n\n\nTo thrive in this dynamic environment\, businesses must go beyond traditional governance\, performance management\, risk mitigation\, and compliance. They must transform into “connected enterprises” where these elements are seamlessly integrated\, driving strategic alignment\, digital transformation\, and data-driven decision-making. By focusing on integrating GRC with strategy execution\, organisations can ensure that every facet of the business – people\, processes\, and data – is interconnected and aligned. This integration fosters agility\, adaptability\, and resilience\, empowering businesses to navigate complexities and capitalise on opportunities in an increasingly connected world. \n\n\n\nThe G[P]RC Summit 2025 will be a two-day event featuring keynote addresses and panel discussions led by distinguished regional and international speakers. The summit’s sessions will explore a range of themes\, including governance best practices\, performance optimisation\, risk mitigation strategies\, and regulatory compliance assurance. Attendees will gain valuable insights into the latest trends\, methodologies\, tools\, and innovations in GPRC\, empowering them to navigate future challenges and seize emerging opportunities. \n\n\n\nJoin us at the G[P]RC Summit 2025 and embark on a transformative journey towards driving success in a hyperconnected world. \n\n\n\nGRC 20/20 Analyst will be keynoting at the event . . .\n\n\n\nMichael Rasmussen\n\n\n\nMichael Rasmussen is an internationally recognized thought leader and pioneer in governance\, risk management\, and compliance (GRC). With over 30 years of experience\, he has extensive expertise in enterprise GRC strategy and processes supported by robust information and technology architectures. Known as the “Father of GRC\,” Michael was the first to define and model the GRC market in February 2002 while at Forrester\, setting the foundation for the modern understanding of GRC. \n\n\n\nConference Host\n\n\n\n\n\n\n\nThe G[P]RC Summit is the world’s largest summit on GPRC: GRC integrated with Performance and Strategy – bringing together C-level executives\, GRC experts\, and industry and academia professionals from across the world to share insights\, innovative solutions\, and best practices needed to drive organisational success and resilience in an increasingly complex and interconnected business environment. This year’s theme\, “Driving Success: Integrating GRC with Strategy Execution in a Hyperconnected World\,” focuses on empowering organizations to navigate challenges and seize opportunities through a holistic\, connected approach. Join us in Riyadh on 19 – 20 January or in Dubai on 22 – 23 January 2025\, to gain insights from industry leaders and take your GRC strategy to the next level. Ready to transform your approach? Register at https://gprcsummit.com/and secure your spot. \nShare this:\n				Email a link to a friend (Opens in new window)\n				Email\n			\n				Print (Opens in new window)\n				Print\n			\n				Share on LinkedIn (Opens in new window)\n				LinkedIn\n			\n				Share on X (Opens in new window)\n				X\n			\n				Share on Facebook (Opens in new window)\n				Facebook
URL:https://www.grc2020.com/event/gprc-summit-dubai-uae/
CATEGORIES:Conferences
ATTACH;FMTTYPE=image/png:https://www.grc2020.com/wp-content/uploads/2024/11/Screenshot-2024-11-25-at-10.39.51 AM.png
END:VEVENT
BEGIN:VEVENT
DTSTART;TZID=America/New_York:20250130T000000
DTEND;TZID=America/New_York:20250130T235959
DTSTAMP:20260423T063759
CREATED:20250109T181310Z
LAST-MODIFIED:20250109T181356Z
UID:10002655-1738195200-1738281599@www.grc2020.com
SUMMARY:#RISK Digital (online) North America
DESCRIPTION:REGISTER\n\n\n\n\n#RISK Digital North AmericaNavigating Uncertainty\, Building Resilience \n\n\n\n#RISK Digital North America is a must-attend online event for senior leaders and risk professionals navigating the complexities of 2025. We invite C-Suite executives\, Risk Management teams\, Heads and Managers of Privacy\, Security\, and Compliance\, alongside Legal Counsel\, RegTech innovators\, MarCom leaders\, and those responsible for Strategic Leadership & Talent\, to join us for this premier event. \n\n\n\n#RISK Digital North America will equip you with the insights and strategies needed to proactively address emerging challenges\, build organizational resilience\, and drive success in an increasingly uncertain environment. \n\n\n\nTaking place on the January 30\, 2025\, we will examine the changing risk landscape in a content rich\, knowledge sharing environment.\n\n\n\nAttendees will be able to learn and better understand how to mitigate risks\, reduce compliance breaches\, and improve business performance. \n\n\n\nPresenter Michael Rasmussen\n\n\n\nMichael Rasmussen\n\n\n\nMichael Rasmussen is an internationally recognized thought leader and pioneer in governance\, risk management\, and compliance (GRC). With over 30 years of experience\, he has extensive expertise in enterprise GRC strategy and processes supported by robust information and technology architectures. Known as the “Father of GRC\,” Michael was the first to define and model the GRC market in February 2002 while at Forrester\, setting the foundation for the modern understanding of GRC. \n\n\n\nAbout GRC World Forums\n\n\n\n\n\n\n\nOur in-person events and livestream experiences provide learning\, networking and benchmarking opportunities to governance\, risk and compliance professionals. \n\n\n\n\nFor speakers & contributors we provide a platform and global audience. \n\n\n\nFor viewers\, attendees and readers our content provides invaluable insight and analysis.\n\n\n\nFor vendors we optimise every stage of the ‘marketing funnel’\n\nShare this:\n				Email a link to a friend (Opens in new window)\n				Email\n			\n				Print (Opens in new window)\n				Print\n			\n				Share on LinkedIn (Opens in new window)\n				LinkedIn\n			\n				Share on X (Opens in new window)\n				X\n			\n				Share on Facebook (Opens in new window)\n				Facebook
URL:https://www.grc2020.com/event/risk-digital-online-north-america/
CATEGORIES:Conferences
ATTACH;FMTTYPE=image/png:https://www.grc2020.com/wp-content/uploads/2025/01/Screenshot-2025-01-09-at-12.11.38 PM.png
END:VEVENT
END:VCALENDAR