BEGIN:VCALENDAR
VERSION:2.0
PRODID:-//GRC 20/20 Research, LLC - ECPv6.15.20//NONSGML v1.0//EN
CALSCALE:GREGORIAN
METHOD:PUBLISH
X-ORIGINAL-URL:https://www.grc2020.com
X-WR-CALDESC:Events for GRC 20/20 Research, LLC
REFRESH-INTERVAL;VALUE=DURATION:PT1H
X-Robots-Tag:noindex
X-PUBLISHED-TTL:PT1H
BEGIN:VTIMEZONE
TZID:Europe/London
BEGIN:DAYLIGHT
TZOFFSETFROM:+0000
TZOFFSETTO:+0100
TZNAME:BST
DTSTART:20240331T010000
END:DAYLIGHT
BEGIN:STANDARD
TZOFFSETFROM:+0100
TZOFFSETTO:+0000
TZNAME:GMT
DTSTART:20241027T010000
END:STANDARD
BEGIN:DAYLIGHT
TZOFFSETFROM:+0000
TZOFFSETTO:+0100
TZNAME:BST
DTSTART:20250330T010000
END:DAYLIGHT
BEGIN:STANDARD
TZOFFSETFROM:+0100
TZOFFSETTO:+0000
TZNAME:GMT
DTSTART:20251026T010000
END:STANDARD
BEGIN:DAYLIGHT
TZOFFSETFROM:+0000
TZOFFSETTO:+0100
TZNAME:BST
DTSTART:20260329T010000
END:DAYLIGHT
BEGIN:STANDARD
TZOFFSETFROM:+0100
TZOFFSETTO:+0000
TZNAME:GMT
DTSTART:20261025T010000
END:STANDARD
END:VTIMEZONE
BEGIN:VEVENT
DTSTART;TZID=Europe/London:20250316T000000
DTEND;TZID=Europe/London:20250318T235959
DTSTAMP:20260423T015010
CREATED:20250109T220136Z
LAST-MODIFIED:20250109T220144Z
UID:10002658-1742083200-1742342399@www.grc2020.com
SUMMARY:icon Conference\, apexanalytix\, Nashville
DESCRIPTION:REGISTER\n\n\n\n\nBreakthrough Best Practices and Networking for Global Leaders of Procurement\, AP and Financial Shared Services\n\n\n\nTruly meaningful educational opportunities related to your work can be hard to find. The apexanalytix Icon Conference is a unique event that allows you to learn from the best in your field. Icon is an exclusive conference attended by leaders of best-in-class\, global financial shared services\, accounts payable\, procurement\, post-audit and supplier governance\, and risk and compliance organizations. The sessions are led by industry innovators from the world’s largest and most admired companies. At Icon\, you can learn best practices and network with your peers in a focused\, vendor-free and inspiring location. \n\n\n\nGRC 20/20 Analyst Presenting at the Event . . .\n\n\n\nMichael Rasmussen\n\n\n\nMichael Rasmussen is an internationally recognized pundit on governance\, risk management\, and compliance (GRC) – with specific expertise on enterprise GRC strategy and processes supported by robust information and technology architectures.  With 30+ years of experience\, Michael helps organizations improve GRC strategy and processes supported by the correct GRC technology architecture. This enables organizations to align GRC with the business and deliver effective\, efficient\, resilient\, and agile capabilities to the organization.  He is a sought-after keynote speaker\, author\, and advisor and is noted as the “Father of GRC” — the first to define and model the GRC market in February 2002 while at Forrester. \n\n\n\nConference Host\n\n\n\n\n\n\n\napexanalytix revolutionized recovery audit with advanced analytics and the introduction of firststrike overpayment and fraud prevention software. Today\, apex also leads the world in supplier management innovation with apexportal and smartvm\, now the most widely used supplier onboarding and compliant master data management solution in global procure to pay processes. With over 250 clients in the Fortune 500 and Global 2000\, apex is dedicated to providing companies and their suppliers with the ultimate supplier management experience. To support our commitment to innovation\, we have built a highly experienced team of associates in key markets around the globe. Together we value performance\, honor a diversity of perspectives\, experiences and cultures\, nurture candor\, give back to the communities where we live and work\, and have fun working together. For more information\, visit www.apexanalytix.com or join our LinkedIn apexanalytix Community. \nShare this:\n				Email a link to a friend (Opens in new window)\n				Email\n			\n				Print (Opens in new window)\n				Print\n			\n				Share on LinkedIn (Opens in new window)\n				LinkedIn\n			\n				Share on X (Opens in new window)\n				X\n			\n				Share on Facebook (Opens in new window)\n				Facebook
URL:https://www.grc2020.com/event/icon-conference-apexanalytix-nashville/
CATEGORIES:Conferences
ATTACH;FMTTYPE=image/png:https://www.grc2020.com/wp-content/uploads/2025/01/Screenshot-2025-01-09-at-3.50.49 PM-e1736459924213.png
END:VEVENT
BEGIN:VEVENT
DTSTART;TZID=Europe/London:20250320T000000
DTEND;TZID=Europe/London:20250320T235959
DTSTAMP:20260423T015010
CREATED:20250109T175115Z
LAST-MODIFIED:20250109T175122Z
UID:10002654-1742428800-1742515199@www.grc2020.com
SUMMARY:AML & FinCrime Tech Forum USA 2024\, NEW YORK CITY
DESCRIPTION:REGISTER\n\n\n\n\nWelcome to our 2025 AML & FinCrime Tech Forum USA – the most exclusive gathering of financial services professionals dedicated to combating Financial Crime\, Money-Laundering & Fraud. After last year’s sell-out event\, we are excited to announce we are coming back to New York!\n\n\n\nWe will be welcoming hundreds of FinCrime fighters through the doors for our most ambitious event to date\, packed full of panel discussions\, presentations\, product demos and networking opportunities. \n\n\n\nJoin us to hear the latest innovations at the heart of the AML\, FinCrime & Technology fields; and meet with those at the helm of the war against fraud and crime in financial services. \n\n\n\nWhy attend?\n\n\n\nConnect with industry leaders in the realms of onboarding\, fraud\, compliance\, AML\, Financial Crime\, KYC\, sanctions\, transformation\, screening\, data\, technology\, and risk management.  \n\n\n\n\nExchange insights on technology strategies and the innovative methods used to combat financial crime. Our distinguished speakers will take the stage to address these crucial topics and how they are protecting their organizations.\n\n\n\nAs a gathering of the top financial professionals\, this is the perfect venue to showcase your solutions to the latest threats and industry problems. \n\n\n\nHarness the power of our AI matchmaking tools and secure meetings with the individuals who will make a difference to your business. Our attendees book on average 2.3x more meetings that other industry events. \n\n\n\n\n\n\n\n\n2025 agenda highlights:\n\n\n\n\nRegulatory Insights and Compliance Updates: Stay informed with the latest financial regulations and compliance requirements\, gaining insights from regulatory authorities.\n\n\n\nTech & Innovation at the Forefront: Explore the latest technologies and AI innovations and how they are reshaping financial crime prevention.\n\n\n\nMastering Risk Management & Optimization: Unlock the keys to effective risk management with a focus on PEP-screening\, data-driven strategies\, and real-time risk assessments.\n\n\n\nFoster Collaboration & Information-Sharing: Build valuable connections in the industry and embrace technology for sharing insights while addressing privacy concerns.\n\n\n\nCrack the Code of Fraud Prevention: Uncover the secrets of fraud prevention\, learn from high-profile investigations\, and leverage cutting-edge tech to safeguard your organization.\n\n\n\n\nGRC 20/20 Analyst Presenting at the Event . . .\n\n\n\nMichael Rasmussen\n\n\n\nMichael Rasmussen is an internationally recognized pundit on governance\, risk management\, and compliance (GRC) – with specific expertise on enterprise GRC strategy and processes supported by robust information and technology architectures.  With 30+ years of experience\, Michael helps organizations improve GRC strategy and processes supported by the correct GRC technology architecture. This enables organizations to align GRC with the business and deliver effective\, efficient\, resilient\, and agile capabilities to the organization.  He is a sought-after keynote speaker\, author\, and advisor and is noted as the “Father of GRC” — the first to define and model the GRC market in February 2002 while at Forrester. \n\n\n\nConference Host\n\n\n\n\n\n\n\nFinTech Global is the world’s leading provider of FinTech information services\, B2B media products and industry events. We inform\, promote and connect FinTech buyers\, sellers\, investors and innovators worldwide. We serve a network of over 300\,000 FinTech professionals from market-leading organisations. \nShare this:\n				Email a link to a friend (Opens in new window)\n				Email\n			\n				Print (Opens in new window)\n				Print\n			\n				Share on LinkedIn (Opens in new window)\n				LinkedIn\n			\n				Share on X (Opens in new window)\n				X\n			\n				Share on Facebook (Opens in new window)\n				Facebook
URL:https://www.grc2020.com/event/aml-fincrime-tech-forum-usa-2024-new-york-city/
CATEGORIES:Conferences
ATTACH;FMTTYPE=image/png:https://www.grc2020.com/wp-content/uploads/2025/01/dg2l2dknlhk2hpvvnbnw-e1736444882694.png
END:VEVENT
END:VCALENDAR