BEGIN:VCALENDAR
VERSION:2.0
PRODID:-//GRC 20/20 Research, LLC - ECPv6.15.20//NONSGML v1.0//EN
CALSCALE:GREGORIAN
METHOD:PUBLISH
X-ORIGINAL-URL:https://www.grc2020.com
X-WR-CALDESC:Events for GRC 20/20 Research, LLC
REFRESH-INTERVAL;VALUE=DURATION:PT1H
X-Robots-Tag:noindex
X-PUBLISHED-TTL:PT1H
BEGIN:VTIMEZONE
TZID:America/Chicago
BEGIN:DAYLIGHT
TZOFFSETFROM:-0600
TZOFFSETTO:-0500
TZNAME:CDT
DTSTART:20240310T080000
END:DAYLIGHT
BEGIN:STANDARD
TZOFFSETFROM:-0500
TZOFFSETTO:-0600
TZNAME:CST
DTSTART:20241103T070000
END:STANDARD
BEGIN:DAYLIGHT
TZOFFSETFROM:-0600
TZOFFSETTO:-0500
TZNAME:CDT
DTSTART:20250309T080000
END:DAYLIGHT
BEGIN:STANDARD
TZOFFSETFROM:-0500
TZOFFSETTO:-0600
TZNAME:CST
DTSTART:20251102T070000
END:STANDARD
BEGIN:DAYLIGHT
TZOFFSETFROM:-0600
TZOFFSETTO:-0500
TZNAME:CDT
DTSTART:20260308T080000
END:DAYLIGHT
BEGIN:STANDARD
TZOFFSETFROM:-0500
TZOFFSETTO:-0600
TZNAME:CST
DTSTART:20261101T070000
END:STANDARD
END:VTIMEZONE
BEGIN:VTIMEZONE
TZID:Europe/London
BEGIN:DAYLIGHT
TZOFFSETFROM:+0000
TZOFFSETTO:+0100
TZNAME:BST
DTSTART:20240331T010000
END:DAYLIGHT
BEGIN:STANDARD
TZOFFSETFROM:+0100
TZOFFSETTO:+0000
TZNAME:GMT
DTSTART:20241027T010000
END:STANDARD
BEGIN:DAYLIGHT
TZOFFSETFROM:+0000
TZOFFSETTO:+0100
TZNAME:BST
DTSTART:20250330T010000
END:DAYLIGHT
BEGIN:STANDARD
TZOFFSETFROM:+0100
TZOFFSETTO:+0000
TZNAME:GMT
DTSTART:20251026T010000
END:STANDARD
BEGIN:DAYLIGHT
TZOFFSETFROM:+0000
TZOFFSETTO:+0100
TZNAME:BST
DTSTART:20260329T010000
END:DAYLIGHT
BEGIN:STANDARD
TZOFFSETFROM:+0100
TZOFFSETTO:+0000
TZNAME:GMT
DTSTART:20261025T010000
END:STANDARD
END:VTIMEZONE
BEGIN:VTIMEZONE
TZID:Europe/Berlin
BEGIN:DAYLIGHT
TZOFFSETFROM:+0100
TZOFFSETTO:+0200
TZNAME:CEST
DTSTART:20240331T010000
END:DAYLIGHT
BEGIN:STANDARD
TZOFFSETFROM:+0200
TZOFFSETTO:+0100
TZNAME:CET
DTSTART:20241027T010000
END:STANDARD
BEGIN:DAYLIGHT
TZOFFSETFROM:+0100
TZOFFSETTO:+0200
TZNAME:CEST
DTSTART:20250330T010000
END:DAYLIGHT
BEGIN:STANDARD
TZOFFSETFROM:+0200
TZOFFSETTO:+0100
TZNAME:CET
DTSTART:20251026T010000
END:STANDARD
BEGIN:DAYLIGHT
TZOFFSETFROM:+0100
TZOFFSETTO:+0200
TZNAME:CEST
DTSTART:20260329T010000
END:DAYLIGHT
BEGIN:STANDARD
TZOFFSETFROM:+0200
TZOFFSETTO:+0100
TZNAME:CET
DTSTART:20261025T010000
END:STANDARD
END:VTIMEZONE
BEGIN:VEVENT
DTSTART;TZID=America/Chicago:20250604T000000
DTEND;TZID=America/Chicago:20250605T235959
DTSTAMP:20260422T213315
CREATED:20250425T114719Z
LAST-MODIFIED:20250512T071549Z
UID:10002686-1748995200-1749167999@www.grc2020.com
SUMMARY:SAI360 Global Connect Tour 2025\, DALLAS
DESCRIPTION:REGISTER\n\n\n\n\nWe are excited to extend a personal invitation to you for our exclusive Global Connect Tour 2025 – next stop\, Dallas! \n\n\n\nWhere: Marriott Dallas Uptown (Hotel room rate $259/night)\n\n\n\nDates: June 4-5\, 2025\n\n\n\nThis event will begin with an intimate customer gathering in the heart of Dallas on day 1. Join us and network with other SAI360 customers\, hear about their customer journeys\, and meet key members of the SAI360 senior management team. \n\n\n\nGRC 20/20 Analyst will be presenting at the event . . . \n\n\n\nMichael Rasmussen\n\n\n\nMichael Rasmussen is an internationally recognized pundit on governance\, risk management\, and compliance (GRC) – with specific expertise on enterprise GRC strategy and processes supported by robust information and technology architectures.  With 30+ years of experience\, Michael helps organizations improve GRC strategy and processes supported by the correct GRC technology architecture. This enables organizations to align GRC with the business and deliver effective\, efficient\, resilient\, and agile capabilities to the organization.  He is a sought-after keynote speaker\, author\, and advisor and is noted as the “Father of GRC” — the first to define and model the GRC market in February 2002 while at Forrester. \n\n\n\nEvent Host\n\n\n\n\n\n\n\nSAI360 is giving companies a new perspective on risk management. By integrating Governance\, Risk\, Compliance (GRC) software and Ethics & Compliance Learning resources\, SAI360 can broaden your risk horizon and increase your ability to identify\, manage\, and mitigate risk. See risk from every angle. \nShare this:\n				Email a link to a friend (Opens in new window)\n				Email\n			\n				Print (Opens in new window)\n				Print\n			\n				Share on LinkedIn (Opens in new window)\n				LinkedIn\n			\n				Share on X (Opens in new window)\n				X\n			\n				Share on Facebook (Opens in new window)\n				Facebook
URL:https://www.grc2020.com/event/sai360-global-connect-tour-2025-dallas/
CATEGORIES:Conferences
ATTACH;FMTTYPE=image/jpeg:https://www.grc2020.com/wp-content/uploads/2025/04/1745442500318.jpeg
END:VEVENT
BEGIN:VEVENT
DTSTART;TZID=America/Chicago:20250609T000000
DTEND;TZID=America/Chicago:20250612T235959
DTSTAMP:20260422T213315
CREATED:20250512T083643Z
LAST-MODIFIED:20250512T083650Z
UID:10002693-1749427200-1749772799@www.grc2020.com
SUMMARY:ProSight Governance\, Compliance\, and Operational Resiliency (GCOR) Virtual Conference
DESCRIPTION:REGISTER\n\n\n\n\nThe Velocity and Constancy of Change\n\n\n\nIn banking\, change is constant. To keep pace\, it’s essential to continually revisit your strategy\, update your skills\, and refresh your operations to get ahead of oncoming risks. At this conference\, you’ll learn best practices from a community of your peers from across the industry on topics ranging from regulation to artificial intelligence to fraud. Industry leaders and expert guest speakers will share their real-world experience managing the challenges many risk and compliance professionals are facing.The conference features sessions tailored to the needs of large\, regional\, mid-tier\, and community banks and credit unions. Attendees will gain valuable insight into how best to address risks\, large and small\, and safeguard their institutions. \n\n\n\nPlease note\, many sessions will be CPE eligible\, regulated per NASBA guidelines.    \n\n\n\nDeveloped by ProSight Councils and Committees\n\n\n\nThanks to the support of various ProSight councils (ORM\, ERM\, Mid-Tier\, Community Bank) and committees (Compliance\, Technology Risk\, Third-Party Risk\, Culture & Conduct)\, this conference has been built to help you find solutions to advance your practices\, regardless of your institution asset size and maturity level. \n\n\n\nIn addition to trending governance\, compliance\, and operational resilience topics\, our sessions will focus on top operational and enterprise risks: \n\n\n\n\nConcentration Risk\n\n\n\nData Governance & Management\n\n\n\nEnterprise Governance\n\n\n\nFraud\n\n\n\nAI’s impact\n\n\n\nIssues Management\n\n\n\nNatural Disasters- Insurance Implications\n\n\n\nRisk Appetite\n\n\n\nThird-party Risk Management\n\n\n\nRegulatory Priorities\n\n\n\nReputation Risk\n\n\n\nQuantum Computing\n\n\n\nAnd many more pressing developments and challenges\n\n\n\n\nWhy Attend?\n\n\n\n\nLearn best practices on a wide array of topics. GCOR events are hosted by the financial industry’s leading experts and practitioners. \n\n\n\nEarn CPE credits. Gather continuing professional education towards your accreditations and certifications.\n\n\n\nExplore new tools and vendors.GCOR is partially sponsored by established and emerging vendors offering the latest risk management tools and systems.  \n\n\n\nEfficiency and convenience. Don’t pack your bags\, 2025’s conference is being offered virtually. Attend live or watch the recordings at your leisure.\n\n\n\nStay current with what is happening in the industry. Content is sourced and guided by our councils of current chief risk officers and senior managers in banking.\n\n\n\n\n\n\n\n\nGRC 20/20 Analyst will be presenting at the event . . . \n\n\n\nAI in Risk and Compliance: Navigating Innovation and Oversight \n\n\n\n\nTuesday\, June 10\, 2025 4:00 PM to 5:00 PM · 1 hr. (America/New_York)\n\n\n\n\n\n1.0 CPE Hour(s) l 1.0 CEU(s)\n\n\n\n\nAs artificial intelligence (AI) becomes increasingly integral to business operations\, organizations face the dual challenge of harnessing its potential while mitigating associated risks. This session brings together two leading experts in governance\, risk\, and compliance (GRC): Michael Rasmussen of GRC 20/20 Research and Renee Murphy of Verdantix. Together\, they will explore the evolving landscape of AI in risk and compliance\, offering insights into effective strategies for responsible AI adoption. \n\n\n\nLearning Objectives: \n\n\n\n\nExplore best practices\, based on the NIST AI Risk Management Framework\, for developing comprehensive AI governance structures that ensure ethical and legal compliance\n\n\n\nIdentify the implications of new regulations\, like the EU’s Artificial Intelligence Act\, and how to align organizational practices proactively\n\n\n\nDefine how to assess\, monitor\, and govern AI technologies across vendor ecosystems to ensure compliance and resilience\n\n\n\nEvaluate the role of AI in improving risk identification and mitigation\, taking into account both the benefits and challenges of AI-driven risk management tools\n\n\n\n\nMichael Rasmussen will be presenting alongside Jimmy Lin of SAI360 and Renee Murphy of Verdantix \n\n\n\nMichael Rasmussen\n\n\n\nMichael Rasmussen is an internationally recognized pundit on governance\, risk management\, and compliance (GRC) – with specific expertise on enterprise GRC strategy and processes supported by robust information and technology architectures.  With 30+ years of experience\, Michael helps organizations improve GRC strategy and processes supported by the correct GRC technology architecture. This enables organizations to align GRC with the business and deliver effective\, efficient\, resilient\, and agile capabilities to the organization.  He is a sought-after keynote speaker\, author\, and advisor and is noted as the “Father of GRC” — the first to define and model the GRC market in February 2002 while at Forrester. \n\n\n\nSession Host/Sponsor\n\n\n\n\n\n\n\nSAI360 is giving companies a new perspective on risk management. By integrating Governance\, Risk\, Compliance (GRC) software and Ethics & Compliance Learning resources\, SAI360 can broaden your risk horizon and increase your ability to identify\, manage\, and mitigate risk. See risk from every angle. \nShare this:\n				Email a link to a friend (Opens in new window)\n				Email\n			\n				Print (Opens in new window)\n				Print\n			\n				Share on LinkedIn (Opens in new window)\n				LinkedIn\n			\n				Share on X (Opens in new window)\n				X\n			\n				Share on Facebook (Opens in new window)\n				Facebook
URL:https://www.grc2020.com/event/prosight-governance-compliance-and-operational-resiliency-gcor-virtual-conference/
CATEGORIES:Conferences
ATTACH;FMTTYPE=image/png:https://www.grc2020.com/wp-content/uploads/2025/05/Screenshot-2025-05-12-at-10.26.40 AM-e1747038563627.png
END:VEVENT
BEGIN:VEVENT
DTSTART;TZID=Europe/London:20250610T000000
DTEND;TZID=Europe/London:20250612T235959
DTSTAMP:20260422T213315
CREATED:20241203T001423Z
LAST-MODIFIED:20250109T175454Z
UID:10002635-1749513600-1749772799@www.grc2020.com
SUMMARY:GRC Summit London 2025
DESCRIPTION:REGISTER\n\n\n\n\nWhat to Expect:\n\n\n\nThe GRC Summit\, hosted by MetricStream\, is a leading annual event that brings together top experts from government and business to explore the latest strategies in Governance\, Risk\, and Compliance (GRC). Join over 250 professionals to gain insights from thought leaders\, engage in interactive discussions\, and discover best practices in risk management\, compliance\, cyber risk\, ESG\, and more. Elevate your GRC programs and learn how to transform risk into a strategic advantage. \n\n\n\n\nExplore MetricStream’s Products and Solutions In-Depth.\n\n\n\nLearn from Global Thought Leaders and Experts.\n\n\n\nEngage Deeply in Our Interactive Workshops.\n\n\n\nGain Insights from Real-World GRC Case Studies.\n\n\n\nAccess Exclusive Insights from Keynote Presentations.\n\n\n\nStay Ahead of Evolving Compliance Requirements.\n\n\n\nKeep Up-To-Date with The Latest Trends in GRC.\n\n\n\nNetwork with Top Industry Professionals.\n\n\n\n\nConnect around operational resilience\, risk management\, compliance\, cyber risk\, ESG and much more. Move beyond just managing risk to embracing and ultimately thriving on risk.  \n\n\n\nGRC 20/20 Analyst will be presenting at the event . . . \n\n\n\nMichael Rasmussen\n\n\n\nMichael Rasmussen is an internationally recognized pundit on governance\, risk management\, and compliance (GRC) – with specific expertise on enterprise GRC strategy and processes supported by robust information and technology architectures.  With 30+ years of experience\, Michael helps organizations improve GRC strategy and processes supported by the correct GRC technology architecture. This enables organizations to align GRC with the business and deliver effective\, efficient\, resilient\, and agile capabilities to the organization.  He is a sought-after keynote speaker\, author\, and advisor and is noted as the “Father of GRC” — the first to define and model the GRC market in February 2002 while at Forrester. \n\n\n\nEvent Host\n\n\n\n\n\n\n\nMetricStream is a global SaaS leader of GRC solutions that empower organizations to thrive on risk by accelerating growth via risk-aware decisions. We connect governance\, risk management and compliance across the extended enterprise. Our ConnectedGRC and three product lines – BusinessGRC\, CyberGRC\, and ESGRC – are based on a single\, scalable platform that supports you wherever you are on your GRC journey. MetricStream is headquartered in San Jose\, California\, with an operations and R&D center in Bangalore\, India\, and sales and operations support around the globe.  \nShare this:\n				Email a link to a friend (Opens in new window)\n				Email\n			\n				Print (Opens in new window)\n				Print\n			\n				Share on LinkedIn (Opens in new window)\n				LinkedIn\n			\n				Share on X (Opens in new window)\n				X\n			\n				Share on Facebook (Opens in new window)\n				Facebook
URL:https://www.grc2020.com/event/grc-summit-london-2025/
CATEGORIES:Conferences
ATTACH;FMTTYPE=image/png:https://www.grc2020.com/wp-content/uploads/2024/12/Screenshot-2025-01-09-at-11.53.06 AM.png
END:VEVENT
BEGIN:VEVENT
DTSTART;TZID=Europe/London:20250618T000000
DTEND;TZID=Europe/London:20250618T235959
DTSTAMP:20260422T213315
CREATED:20250501T204920Z
LAST-MODIFIED:20250513T074239Z
UID:10002690-1750204800-1750291199@www.grc2020.com
SUMMARY:Agility 2025 UK by LogicGate\, London
DESCRIPTION:REGISTER\n\n\n\n\nKoin us this year at Agility 2025 to discover innovative solutions to GRC’s biggest challenges\, learn from the people driving our industry forward\, and uncover real-world use cases that can grow and mature your GRC programs. \n\n\n\nAgility is LogicGate’s annual conference where they bring together industry leaders and like-minded professionals in risk\, cybersecurity\, and compliance management to explore the industry’s most critical topics. \n\n\n\nDiscover innovative solutions to GRC’s biggest challenges\, learn from the people driving our industry forward\, and uncover real-world use cases that can grow and mature your GRC programs. \n\n\n\nJoin us at Agility 2025 to discover innovative solutions to GRC’s biggest challenges\, learn from the people driving our industry forward\, and uncover real-world use cases that can grow and mature your GRC programs. \n\n\n\n\nEXPLORE. Keynotes explore industry-specific content that matters to you and your organization’s challenges.\n\n\n\nCONNECT. Network with industry leaders within the audit\, risk\, and cybersecurity space during the event.\n\n\n\nLEARN. See new innovations \, get your questions answered\, and learn how your peers execute.\n\n\n\nCPE CREDITS. Your attendance may earn professional development credits at the same time.\n\n\n\n\nJoin us at a unique and exciting venue at Lord’s Cricket Ground for a day of insightful sessions and networking. \n\n\n\nGRC 20/20 Analyst Presenting at Event . . . \n\n\n\nMichael Rasmussen\n\n\n\nMichael Rasmussen is an internationally recognized pundit on governance\, risk management\, and compliance (GRC) – with specific expertise on enterprise GRC strategy and processes supported by robust information and technology architectures.  With 30+ years of experience\, Michael helps organizations improve GRC strategy and processes supported by the correct GRC technology architecture. This enables organizations to align GRC with the business and deliver effective\, efficient\, resilient\, and agile capabilities to the organization.  He is a sought-after keynote speaker\, author\, and advisor and is noted as the “Father of GRC” — the first to define and model the GRC market in February 2002 while at Forrester. \n\n\n\nConference Host\n\n\n\n\n\n\n\nLogicGate offers modern risk management technology empowering businesses to proactively transform risk enterprise-wide. Because risk is a team sport\, we created the Risk Cloud Platform® — the most nimble and collaborative GRC solution out there. Rapidly adapt to changing business conditions. Confidently innovate and build new processes as you go. Collaborate on risk across your entire organization. Risk Cloud® gives you an interconnected view of risk across the organization that you just can’t get from point solutions. After all\, great companies are built not by avoiding risks — but by choosing the right ones. \nShare this:\n				Email a link to a friend (Opens in new window)\n				Email\n			\n				Print (Opens in new window)\n				Print\n			\n				Share on LinkedIn (Opens in new window)\n				LinkedIn\n			\n				Share on X (Opens in new window)\n				X\n			\n				Share on Facebook (Opens in new window)\n				Facebook
URL:https://www.grc2020.com/event/agility-2025-uk-by-logicgate-london/
CATEGORIES:Conferences
ATTACH;FMTTYPE=image/png:https://www.grc2020.com/wp-content/uploads/2025/05/Screenshot-2025-05-01-at-3.46.09 PM.png
END:VEVENT
BEGIN:VEVENT
DTSTART;TZID=Europe/Berlin:20250623T000000
DTEND;TZID=Europe/Berlin:20250624T235959
DTSTAMP:20260422T213315
CREATED:20250603T144817Z
LAST-MODIFIED:20250603T145046Z
UID:10002695-1750636800-1750809599@www.grc2020.com
SUMMARY:Corporate Risk Minds 2025
DESCRIPTION:REGISTER\n\n\n\n\nFocus on risk management!In times of war\, inflation and staltering supply chains\, risk management has a duty to get your own company through the storm with a sense of proportion and direct it into calmer waters. To keep up with the pace of current transformations and crises\, many organizations need to modify their risk management. Take a look at the risk and compliance trends and their potential impact on how organizations handle all aspects of a robust risk management process and how an effective risk management program can provide a competitive advantage for their company. For 13 years\, Corporate Risk Minds\, the largest industry meeting on the subject of risk management\, is back for you in Berlin – the conference for decision-makers from medium-sized and large companies as well as hidden champions. A unique mix of case studies and discussion formats on strategic and operational challenges of risk management in industrial companies offers you and more than 480 participants the platform for exchange\, networking and learning! Don’t miss the opportunity to meet your colleagues under one roof.We look forward to welcoming you in Berlin! \n\n\n\nGRC 20/20 Analyst Presenting at Event . . . \n\n\n\nMichael Rasmussen\n\n\n\nMichael Rasmussen is an internationally recognized pundit on governance\, risk management\, and compliance (GRC) – with specific expertise on enterprise GRC strategy and processes supported by robust information and technology architectures.  With 30+ years of experience\, Michael helps organizations improve GRC strategy and processes supported by the correct GRC technology architecture. This enables organizations to align GRC with the business and deliver effective\, efficient\, resilient\, and agile capabilities to the organization.  He is a sought-after keynote speaker\, author\, and advisor and is noted as the “Father of GRC” — the first to define and model the GRC market in February 2002 while at Forrester. \nShare this:\n				Email a link to a friend (Opens in new window)\n				Email\n			\n				Print (Opens in new window)\n				Print\n			\n				Share on LinkedIn (Opens in new window)\n				LinkedIn\n			\n				Share on X (Opens in new window)\n				X\n			\n				Share on Facebook (Opens in new window)\n				Facebook
URL:https://www.grc2020.com/event/corporate-risk-minds-2025/
CATEGORIES:Conferences
ATTACH;FMTTYPE=image/png:https://www.grc2020.com/wp-content/uploads/2025/06/Screenshot-2025-06-03-at-9.40.55 AM-e1748961831704.png
END:VEVENT
BEGIN:VEVENT
DTSTART;TZID=Europe/London:20250625T180000
DTEND;TZID=Europe/London:20250625T220000
DTSTAMP:20260422T213315
CREATED:20250519T104130Z
LAST-MODIFIED:20250519T104133Z
UID:10002694-1750874400-1750888800@www.grc2020.com
SUMMARY:Baird's GRC Networking and Content Reception
DESCRIPTION:INVITE ONLY\n\n\n\n\nThe evening is designed to bring together a range of players of varying scale and sub-vertical focuses (for example – Supply Chain\, RegTech\, ESG / ESHQ and GRC Technology) to create new networking connections and\, if relevant\, explore potential opportunities for collaboration in an informal setting. Baird will be hosting a panel discussion on the theme of De-regulation and its impact on GRC vendors (along with some good food and drinks).  \n\n\n\nGRC 20/20 Analyst Participating at Event . . .\n\n\n\nMichael Rasmussen\n\n\n\nMichael Rasmussen is an internationally recognized pundit on governance\, risk management\, and compliance (GRC) – with specific expertise on enterprise GRC strategy and processes supported by robust information and technology architectures.  With 30+ years of experience\, Michael helps organizations improve GRC strategy and processes supported by the correct GRC technology architecture. This enables organizations to align GRC with the business and deliver effective\, efficient\, resilient\, and agile capabilities to the organization.  He is a sought-after keynote speaker\, author\, and advisor and is noted as the “Father of GRC” — the first to define and model the GRC market in February 2002 while at Forrester. \n\n\n\nSeminar Host\n\n\n\n\n\n\n\nSince 1919\, Baird has guided families\, businesses\, communities and institutions toward their financial goals. Being privately held enables us to prioritize long-term planning and investment – for our clients and the firm – without having to weigh those against the quarterly expectations of outside shareholders. Today Baird offers wealth management\, investment banking\, asset management\, fixed income and equity sales and trading\, equity research\, public finance and private equity services. This balance of cyclical and counter-cyclical businesses provides financial strength and stability across market environments and enables us to consistently reinvest in our ability to serve clients. We manage or oversee more than $455 billion in client assets and employ more than 5\,200 Associates around the world. And\, because nearly 80% of our associates are Baird stockholders\, you can trust we all share a personal stake in your success. For more than 20 consecutive years\, Baird has been one of the FORTUNE 100 Best Companies to Work For®\, making us a workplace of choice for some of the most talented\, passionate people in financial services. It also enables us to emphasize cultural compatibility in those we hire\, many of whom stay their entire careers. All of this helps ensure the quality and consistency of our advice for clients and the timeless values that make the Baird Difference every day for our clients\, our Associates and the communities we share. \nShare this:\n				Email a link to a friend (Opens in new window)\n				Email\n			\n				Print (Opens in new window)\n				Print\n			\n				Share on LinkedIn (Opens in new window)\n				LinkedIn\n			\n				Share on X (Opens in new window)\n				X\n			\n				Share on Facebook (Opens in new window)\n				Facebook
URL:https://www.grc2020.com/event/bairds-grc-networking-and-content-reception/
CATEGORIES:Conferences
ATTACH;FMTTYPE=image/png:https://www.grc2020.com/wp-content/uploads/2025/05/Screenshot-2025-05-19-at-11.30.58 AM-e1747650946540.png
END:VEVENT
END:VCALENDAR