BEGIN:VCALENDAR
VERSION:2.0
PRODID:-//GRC 20/20 Research, LLC - ECPv6.15.20//NONSGML v1.0//EN
CALSCALE:GREGORIAN
METHOD:PUBLISH
X-WR-CALNAME:GRC 20/20 Research, LLC
X-ORIGINAL-URL:https://www.grc2020.com
X-WR-CALDESC:Events for GRC 20/20 Research, LLC
REFRESH-INTERVAL;VALUE=DURATION:PT1H
X-Robots-Tag:noindex
X-PUBLISHED-TTL:PT1H
BEGIN:VTIMEZONE
TZID:America/New_York
BEGIN:DAYLIGHT
TZOFFSETFROM:-0500
TZOFFSETTO:-0400
TZNAME:EDT
DTSTART:20240310T070000
END:DAYLIGHT
BEGIN:STANDARD
TZOFFSETFROM:-0400
TZOFFSETTO:-0500
TZNAME:EST
DTSTART:20241103T060000
END:STANDARD
BEGIN:DAYLIGHT
TZOFFSETFROM:-0500
TZOFFSETTO:-0400
TZNAME:EDT
DTSTART:20250309T070000
END:DAYLIGHT
BEGIN:STANDARD
TZOFFSETFROM:-0400
TZOFFSETTO:-0500
TZNAME:EST
DTSTART:20251102T060000
END:STANDARD
BEGIN:DAYLIGHT
TZOFFSETFROM:-0500
TZOFFSETTO:-0400
TZNAME:EDT
DTSTART:20260308T070000
END:DAYLIGHT
BEGIN:STANDARD
TZOFFSETFROM:-0400
TZOFFSETTO:-0500
TZNAME:EST
DTSTART:20261101T060000
END:STANDARD
END:VTIMEZONE
BEGIN:VTIMEZONE
TZID:America/Chicago
BEGIN:DAYLIGHT
TZOFFSETFROM:-0600
TZOFFSETTO:-0500
TZNAME:CDT
DTSTART:20240310T080000
END:DAYLIGHT
BEGIN:STANDARD
TZOFFSETFROM:-0500
TZOFFSETTO:-0600
TZNAME:CST
DTSTART:20241103T070000
END:STANDARD
BEGIN:DAYLIGHT
TZOFFSETFROM:-0600
TZOFFSETTO:-0500
TZNAME:CDT
DTSTART:20250309T080000
END:DAYLIGHT
BEGIN:STANDARD
TZOFFSETFROM:-0500
TZOFFSETTO:-0600
TZNAME:CST
DTSTART:20251102T070000
END:STANDARD
BEGIN:DAYLIGHT
TZOFFSETFROM:-0600
TZOFFSETTO:-0500
TZNAME:CDT
DTSTART:20260308T080000
END:DAYLIGHT
BEGIN:STANDARD
TZOFFSETFROM:-0500
TZOFFSETTO:-0600
TZNAME:CST
DTSTART:20261101T070000
END:STANDARD
END:VTIMEZONE
BEGIN:VTIMEZONE
TZID:Europe/London
BEGIN:DAYLIGHT
TZOFFSETFROM:+0000
TZOFFSETTO:+0100
TZNAME:BST
DTSTART:20240331T010000
END:DAYLIGHT
BEGIN:STANDARD
TZOFFSETFROM:+0100
TZOFFSETTO:+0000
TZNAME:GMT
DTSTART:20241027T010000
END:STANDARD
BEGIN:DAYLIGHT
TZOFFSETFROM:+0000
TZOFFSETTO:+0100
TZNAME:BST
DTSTART:20250330T010000
END:DAYLIGHT
BEGIN:STANDARD
TZOFFSETFROM:+0100
TZOFFSETTO:+0000
TZNAME:GMT
DTSTART:20251026T010000
END:STANDARD
BEGIN:DAYLIGHT
TZOFFSETFROM:+0000
TZOFFSETTO:+0100
TZNAME:BST
DTSTART:20260329T010000
END:DAYLIGHT
BEGIN:STANDARD
TZOFFSETFROM:+0100
TZOFFSETTO:+0000
TZNAME:GMT
DTSTART:20261025T010000
END:STANDARD
END:VTIMEZONE
BEGIN:VEVENT
DTSTART;TZID=America/New_York:20250908T090000
DTEND;TZID=America/New_York:20250910T150000
DTSTAMP:20260422T152958
CREATED:20241203T010009Z
LAST-MODIFIED:20241203T010011Z
UID:10002636-1757322000-1757516400@www.grc2020.com
SUMMARY:Workiva Amplify Americas\, WASHINGTON DC
DESCRIPTION:REGISTER\n\n\n\n\nReady for Anything!\n\n\n\nChange is constant—new regulations\, increased investor scrutiny\, emerging technologies\, more responsibilities. We tackled all this and more at Amplify 2024.  \n\n\n\nAmplify is the conference to discover new and better ways of addressing the challenges we’re all facing. Amplify is where you can get the facts on the latest legislation one day\, and discover transformative ways of working together the next—all while getting the tools you need to advance your career. \n\n\n\nThousands of passionate accounting\, finance\, ESG\, audit and risk professionals joined forces for 3 days packed with best practices\, thought-provoking sessions\, and peer networking. They got an exclusive look at the latest innovations from Workiva and our partners and met the brightest minds in the business. All this while earning a few CPE credits along the way! \n\n\n\nGRC 20/20 Presenter at Event . . . \n\n\n\nMichael Rasmussen\n\n\n\nMichael Rasmussen is an internationally recognized pundit on governance\, risk management\, and compliance (GRC) – with specific expertise on enterprise GRC strategy and processes supported by robust information and technology architectures.  With 30+ years of experience\, Michael helps organizations improve GRC strategy and processes supported by the correct GRC technology architecture. This enables organizations to align GRC with the business and deliver effective\, efficient\, resilient\, and agile capabilities to the organization.  He is a sought-after keynote speaker\, author\, and advisor and is noted as the “Father of GRC” — the first to define and model the GRC market in February 2002 while at Forrester. \n\n\n\nConference Host\n\n\n\n\n\n\n\nWorkiva is on a mission to power transparent reporting for a better world. We build and deliver the world’s leading cloud platform for assured integrated reporting to meet stakeholder demands for action\, transparency\, and disclosure of financial and non-financial data. Workiva offers the only unified SaaS platform that brings customers’ financial reporting\, Environmental\, Social\, and Governance (ESG)\, and Governance\, Risk\, and Compliance (GRC) together in a controlled\, secure\, audit-ready platform. Our platform simplifies the most complex reporting and disclosure challenges by streamlining processes\, connecting data and teams\, and ensuring consistency. Learn more at workiva.com. \nShare this:\n				Email a link to a friend (Opens in new window)\n				Email\n			\n				Print (Opens in new window)\n				Print\n			\n				Share on LinkedIn (Opens in new window)\n				LinkedIn\n			\n				Share on X (Opens in new window)\n				X\n			\n				Share on Facebook (Opens in new window)\n				Facebook
URL:https://www.grc2020.com/event/workiva-amplify-americas-washington-dc/
CATEGORIES:Conferences
ATTACH;FMTTYPE=image/png:https://www.grc2020.com/wp-content/uploads/2024/12/Screenshot-2024-12-02-at-6.56.01 PM.png
END:VEVENT
BEGIN:VEVENT
DTSTART;TZID=America/Chicago:20250915T000000
DTEND;TZID=America/Chicago:20250918T235959
DTSTAMP:20260422T152958
CREATED:20250106T154324Z
LAST-MODIFIED:20250909T144956Z
UID:10002647-1757894400-1758239999@www.grc2020.com
SUMMARY:Archer Summit 2025
DESCRIPTION:REGISTER\n\n\n\n\nExperience the education\, inspiration\, and fun of Archer Summit. \n\n\n\nLay the foundation for success at Archer Summit 2025. Set against the iconic skyline of Chicago\, this premier gathering of global risk innovators and business leaders will be your blueprint for the future. Over three inspiring days\, we’ll construct new ideas\, analyze data frameworks\, share best practices\, and learn from each other — all while experiencing the vibrant architectural beauty of Chicago. \n\n\n\nEndless Opportunities for Growth\n\n\n\n\nFIND INSPIRATION. Connect with industry leaders\, embrace the future of risk\, and elevate your productivity with cutting-edge digital risk management—all set against Chicago’s iconic architectural backdrop. Discover the latest in customer and product innovations as we build the future of risk management together in the Windy City!\n\n\n\nEXPLORE THE POSSIBILITIES. Connect with Archer partners and explore solutions and products designed to maximize the value of your Archer investment. Whether you’re into hands-on training or insightful sessions\, there’s something for everyone!\n\n\n\nNETWORK WITH THE BEST. Expand your professional network and dive into dynamic discussions with fellow risk professionals about the challenges and solutions shaping the industry. Connect with Archer risk management experts from around the world\, all while soaking in the vibrant energy of Chicago!\n\n\n\nGET ACTIONABLE IDEAS. Whether you’re a fresh face in the Archer scene or a seasoned pro\, Archer Summit’s got the groove to amp up your skills. Immerse yourself in the vibrant talks from dynamic Archer leaders and industry experts\, all set to inspire and energize you. \n\n\n\nGROW YOUR CAREER. Prepare to elevate your expertise at Archer Summit! This is your blueprint for success—a prime opportunity to reinforce your foundation and refine your skills. Build on new knowledge\, strengthen your existing framework\, and join industry-focused user groups and training sessions to construct a stronger\, more resilient future.\n\n\n\nHAVE FUN. Let’s build the excitement! We’re kicking off with a vibrant Welcome Reception to celebrate our Archer community and wrapping up with an unforgettable customer appreciation event. Immerse yourself in Chicago’s dynamic spirit as we celebrate the Archer community!\n\n\n\n\nGRC 20/20 Analyst will be presenting at the event . . .\n\n\n\nMichael Rasmussen\n\n\n\nMichael Rasmussen is an internationally recognized authority\, thought leader\, and pioneer in the disciplines of governance\, risk management\, and compliance (GRC). With over 30 years of experience\, he is globally known for defining and shaping GRC strategy\, processes\, and technology. In February 2002\, while at Forrester Research\, Michael developed the concept of GRC — establishing the foundation for how organizations approach strategy\, process\, and technology in today’s complex business environment. For this\, he is widely acknowledged as the “Father of GRC.” \n\n\n\nA trusted advisor to boards\, executives\, and professionals around the world\, Michael has dedicated his career to helping organizations design and implement effective GRC strategies that are aligned with business objectives. His work empowers organizations to be more effective\, efficient\, resilient\, and agile. He is a sought-after keynote speaker\, author\, and advisor\, with his thought leadership influencing legislation\, regulatory frameworks\, and corporate best practices globally. \n\n\n\nMichael is the host of the Risk is Our Business and the Hitchhiker’s Guide to the GRC Technology podcasts\, where he leads conversations with global experts exploring the evolving frontiers of risk\, resilience\, and corporate integrity. \n\n\n\nConference Host\n\n\n\n\n\n\n\nArcher empowers organizations to manage multiple dimensions of risk on one platform with on-premises and SaaS offerings\, and quickly implement industry-standard processes and best practices for advanced risk management maturity\, informed decision-making and enhanced business performance. Archer has been recognized as a Leader in the most recent Gartner Magic Quadrant reports for IT risk management\, IT vendor risk management tools and business continuity management program solutions\, worldwide. \nShare this:\n				Email a link to a friend (Opens in new window)\n				Email\n			\n				Print (Opens in new window)\n				Print\n			\n				Share on LinkedIn (Opens in new window)\n				LinkedIn\n			\n				Share on X (Opens in new window)\n				X\n			\n				Share on Facebook (Opens in new window)\n				Facebook
URL:https://www.grc2020.com/event/archer-summit-2025/
CATEGORIES:Conferences
ATTACH;FMTTYPE=image/jpeg:https://www.grc2020.com/wp-content/uploads/2025/01/1.jpg
END:VEVENT
BEGIN:VEVENT
DTSTART;TZID=America/New_York:20250916T000000
DTEND;TZID=America/New_York:20250916T235959
DTSTAMP:20260422T152958
CREATED:20250722T201124Z
LAST-MODIFIED:20250723T165735Z
UID:10002709-1757980800-1758067199@www.grc2020.com
SUMMARY:Risk & Resilience Virtual Summit
DESCRIPTION:REGISTER\n\n\n\n\nThe Diligent Risk & Resilience Virtual Summit is the ultimate virtual forum for leaders seeking to transform risk into opportunity. Featuring expert insights\, forward-looking strategies\, and actionable takeaways\, this virtual event explores how to fortify your organization’s resilience against an evolving risk landscape. From navigating new challenges to leveraging resilience as a strategic advantage\, this summit offers unparalleled guidance to help your organization thrive.Register \n\n\n\nIs AI transforming your approach toRisk and Resilience? \n\n\n\nDiscover how at the Risk & Resilience Virtual Summit. Explore actionable AI applications and forward-thinking strategies to ensure your organization stays ahead of emerging challenges. Register now! \n\n\n\n\nExclusive insights.Gain exclusive insights into the state of resilience in 2025 from leading experts.\n\n\n\nDiscover. Discover how to integrate cyber resilience into the core of your organization’s strategy.\n\n\n\nLearn. Learn how audit functions are evolving into strategic enablers for better decision-making.\n\n\n\nExplore. Explore cutting-edge approaches to managing and mitigating risk across your organization.\n\n\n\nEarn Continuing Education Credit. Earn CLE\, CE\, and CPE credit hours while gaining valuable knowledge and strategies for your GRC programs. \n\n\n\n\nKeynote | The resilience blueprint: Turning risk into a strategic advantage\n\n\n\nSpeaker\n\n\n\nMichael RasmussenGRC Analyst & Pundit\, GRC 20/20 Research \n\n\n\nDiscover how leading organizations are reframing risk management from a reactive discipline to a proactive enabler of growth and innovation. This session sets the tone for a resilient future — one where uncertainty becomes opportunity. \n\n\n\nGRC 20/20 Presenter . . .\n\n\n\nMichael Rasmussen\n\n\n\nMichael Rasmussen is an internationally recognized authority\, thought leader\, and pioneer in the disciplines of governance\, risk management\, and compliance (GRC). With over 30 years of experience\, he is globally known for defining and shaping GRC strategy\, processes\, and technology. In February 2002\, while at Forrester Research\, Michael developed the concept of GRC — establishing the foundation for how organizations approach strategy\, process\, and technology in today’s complex business environment. For this\, he is widely acknowledged as the “Father of GRC.” \n\n\n\nA trusted advisor to boards\, executives\, and professionals around the world\, Michael has dedicated his career to helping organizations design and implement effective GRC strategies that are aligned with business objectives. His work empowers organizations to be more effective\, efficient\, resilient\, and agile. He is a sought-after keynote speaker\, author\, and advisor\, with his thought leadership influencing legislation\, regulatory frameworks\, and corporate best practices globally. \n\n\n\nMichael is the host of the Risk is Our Business podcast\, where he leads conversations with global experts exploring the evolving frontiers of risk\, resilience\, and corporate integrity. \n\n\n\nConference Host . . .\n\n\n\n\n\n\n\nDiligent created the modern governance movement. As the leading governance\, risk and compliance (GRC) SaaS company\, we serve 1 million users from over 25\,000 customers around the globe. Our innovative platform gives leaders a connected view of governance\, risk\, compliance and ESG across their organization. Our world-changing idea is to empower leaders with the technology\, insights and connections they need to drive greater impact and accountability – to lead with purpose. Our employees are passionate\, smart\, and creative people who not only want to help build the software company of the future\, but who want to make the world a more sustainable\, equitable and better place. Headquartered in New York\, Diligent also has offices in Washington D.C.\, London\, Galway\, Budapest\, Vancouver\, Bengaluru\, Munich\, Singapore and Sydney. Learn more at diligent.com. \nShare this:\n				Email a link to a friend (Opens in new window)\n				Email\n			\n				Print (Opens in new window)\n				Print\n			\n				Share on LinkedIn (Opens in new window)\n				LinkedIn\n			\n				Share on X (Opens in new window)\n				X\n			\n				Share on Facebook (Opens in new window)\n				Facebook
URL:https://www.grc2020.com/event/risk-resilience-virtual-summit/
CATEGORIES:Conferences
ATTACH;FMTTYPE=image/jpeg:https://www.grc2020.com/wp-content/uploads/2025/07/Risk-Resilience-Vir-1920x1080-px.jpg
END:VEVENT
BEGIN:VEVENT
DTSTART;TZID=Europe/London:20250925T000000
DTEND;TZID=Europe/London:20250925T235959
DTSTAMP:20260422T152958
CREATED:20250109T190027Z
LAST-MODIFIED:20250813T183826Z
UID:10002657-1758758400-1758844799@www.grc2020.com
SUMMARY:Global RegTech Summit USA 2025\, NEW YORK CITY
DESCRIPTION:REGISTER\n\n\n\n\nMeet the people who matter in RegTech \n\n\n\nDon’t miss the largest RegTech event where compliance leaders converge. Secure your place for our second edition in New York and shape the future of RegTech. \n\n\n\nWhy Attend? \n\n\n\n\nUnmatched Networking. Connect with global RegTech leaders\, expand your network\, and unlock new opportunities.\n\n\n\nEngage with Experts. Interact with compliance\, risk management\, technology\, and financial crime prevention leaders. Gain insights\, learn best practices\, and stay updated on RegTech trends and challenges.\n\n\n\nMake Powerful Connections. Connect with RegTech buyers\, sellers\, investors\, and innovators. Foster partnerships\, explore investments\, and collaborate with like-minded professionals.\n\n\n\nExplore Innovations. Experience industry innovations at our Demo Stage\, addressing regulatory challenges and enhancing compliance and risk management efficiency.\n\n\n\nGain Strategic Insights. Learn how financial institutions tackle compliance challenges and gain a competitive edge through collaborations with RegTech innovators. Acquire insights on regulatory requirements\, industry standards\, and emerging trends.\n\n\n\n\nGRC 20/20 Analyst will be presenting at the event . . .\n\n\n\nMichael will be moderating the following sessions . . .  \n\n\n\n\n12:25 – 1:10pm – Reg Change in the Financial Sector: Navigating the Evolving Regulatory Landscape\n\n\n\n2:20 – 3:00pm – RegTech and the Regulators: Striking the Balance Between Innovation and Risk\n\n\n\n\nMichael Rasmussen\n\n\n\nMichael Rasmussen is an internationally recognized pundit on governance\, risk management\, and compliance (GRC) – with specific expertise on enterprise GRC strategy and processes supported by robust information and technology architectures.  With 30+ years of experience\, Michael helps organizations improve GRC strategy and processes supported by the correct GRC technology architecture. This enables organizations to align GRC with the business and deliver effective\, efficient\, resilient\, and agile capabilities to the organization.  He is a sought-after keynote speaker\, author\, and advisor and is noted as the “Father of GRC” — the first to define and model the GRC market in February 2002 while at Forrester. \n\n\n\nConference Host\n\n\n\n\n\n\n\nFinTech Global is the world’s leading provider of FinTech information services\, B2B media products and industry events. We inform\, promote and connect FinTech buyers\, sellers\, investors and innovators worldwide. We serve a network of over 300\,000 FinTech professionals from market-leading organisations. \nShare this:\n				Email a link to a friend (Opens in new window)\n				Email\n			\n				Print (Opens in new window)\n				Print\n			\n				Share on LinkedIn (Opens in new window)\n				LinkedIn\n			\n				Share on X (Opens in new window)\n				X\n			\n				Share on Facebook (Opens in new window)\n				Facebook
URL:https://www.grc2020.com/event/global-regtech-summit-usa-2025-new-york-city/
CATEGORIES:Conferences
ATTACH;FMTTYPE=image/png:https://www.grc2020.com/wp-content/uploads/2025/01/GRTSUSA25-Website-Pop-Up-Banner-v1-e1748948055241.png
END:VEVENT
BEGIN:VEVENT
DTSTART;TZID=Europe/London:20250930T000000
DTEND;TZID=Europe/London:20250930T235959
DTSTAMP:20260422T152958
CREATED:20250811T192940Z
LAST-MODIFIED:20250917T171451Z
UID:10002716-1759190400-1759276799@www.grc2020.com
SUMMARY:SureCloud’s Customer Connect 2025\, LONDON
DESCRIPTION:REGISTER\n\n\n\n\nWe’re thrilled to invite you to SureCloud’s flagship customer event\, designed to bring our user community together for a day of practical insights\, peer learning\, platform previews and future-focused GRC thinking. \n\n\n\nWhether you’re in compliance\, risk\, security\, or operations — if you use SureCloud\, this event is built for you. \n\n\n\nWe’re also honoured to be joined by Michael Rasmussen\, globally recognised as the father of GRC\, for an exclusive 90-minute keynote on the future of governance\, risk and compliance in a changing world. \n\n\n\nSpaces are limited – secure your place now. \n\n\n\nGRC 20/20 Presenter . . .\n\n\n\nMichael Rasmussen\n\n\n\nMichael Rasmussen is an internationally recognized authority\, thought leader\, and pioneer in the disciplines of governance\, risk management\, and compliance (GRC). With over 30 years of experience\, he is globally known for defining and shaping GRC strategy\, processes\, and technology. In February 2002\, while at Forrester Research\, Michael developed the concept of GRC — establishing the foundation for how organizations approach strategy\, process\, and technology in today’s complex business environment. For this\, he is widely acknowledged as the “Father of GRC.” \n\n\n\nA trusted advisor to boards\, executives\, and professionals around the world\, Michael has dedicated his career to helping organizations design and implement effective GRC strategies that are aligned with business objectives. His work empowers organizations to be more effective\, efficient\, resilient\, and agile. He is a sought-after keynote speaker\, author\, and advisor\, with his thought leadership influencing legislation\, regulatory frameworks\, and corporate best practices globally. \n\n\n\nMichael is the host of the Risk is Our Business podcast\, where he leads conversations with global experts exploring the evolving frontiers of risk\, resilience\, and corporate integrity. \n\n\n\nWorkshop Host . . .\n\n\n\n\n\n\n\nKeep your business secure and compliant with SureCloud. Everything you need today and tomorrow\, in our integrated GRC platform\, that everyone can use. SureCloud GRC is built on our industry-first Dynamic Risk Intelligence technology\, designed to empower you to proactively manage your GRC landscape by understanding the story within your data. This allows you to analyze\, predict\, and respond to risks before they become critical issues. The future of GRC delivered today. Our industry-first Dynamic Risk Intelligence technology enables you to be more proactive by revealing the full story and sequence of events across your programs with unparalleled visibility and certainty. It empowers you to anticipate and address potential risks before they escalate\, ensuring you’re always ahead of risk and compliance challenges. Leveraging advanced event-driven architecture and event sourcing\, SureCloud GRC captures and analyzes every detail in real-time\, giving you the tools to take proactive control and provide long-term business assurance. \n\n\n\n \nShare this:\n				Email a link to a friend (Opens in new window)\n				Email\n			\n				Print (Opens in new window)\n				Print\n			\n				Share on LinkedIn (Opens in new window)\n				LinkedIn\n			\n				Share on X (Opens in new window)\n				X\n			\n				Share on Facebook (Opens in new window)\n				Facebook
URL:https://www.grc2020.com/event/sureclouds-customer-connect-2025-london/
CATEGORIES:Conferences
ATTACH;FMTTYPE=image/png:https://www.grc2020.com/wp-content/uploads/2025/08/Screenshot-2025-08-11-at-2.26.52-PM.png
END:VEVENT
END:VCALENDAR