BEGIN:VCALENDAR
VERSION:2.0
PRODID:-//GRC 20/20 Research, LLC - ECPv6.15.20//NONSGML v1.0//EN
CALSCALE:GREGORIAN
METHOD:PUBLISH
X-ORIGINAL-URL:https://www.grc2020.com
X-WR-CALDESC:Events for GRC 20/20 Research, LLC
REFRESH-INTERVAL;VALUE=DURATION:PT1H
X-Robots-Tag:noindex
X-PUBLISHED-TTL:PT1H
BEGIN:VTIMEZONE
TZID:Asia/Riyadh
BEGIN:STANDARD
TZOFFSETFROM:+0300
TZOFFSETTO:+0300
TZNAME:+03
DTSTART:20250101T000000
END:STANDARD
END:VTIMEZONE
BEGIN:VEVENT
DTSTART;TZID=Asia/Riyadh:20260126T000000
DTEND;TZID=Asia/Riyadh:20260127T235959
DTSTAMP:20260422T084837
CREATED:20251120T183018Z
LAST-MODIFIED:20251120T183021Z
UID:10002742-1769385600-1769558399@www.grc2020.com
SUMMARY:G[P]RC Summit 2026\, RIYADH
DESCRIPTION:REGISTER\n\n\n\n\nThe G[P]RC Summit is the world’s largest summit on GPRC: GRC integrated with Performance and Strategy – bringing together C-level executives\, GRC experts\, and industry and academia professionals from across the world to share insights\, innovative solutions\, and best practices needed to drive organisational success and resilience in an increasingly complex and interconnected business environment. This year’s summit will be centred around the theme of  \n\n\n\n\n“Driving Success: Integrating GRC with Strategy Execution in a Hyperconnected World.” \n\n\n\n\nIn today’s rapidly evolving business landscape\, organisations encounter a myriad of challenges\, from regulatory complexities to disruptive market forces and emerging technologies such as AI. Particularly in the GCC region\, there is a notable shift towards embedding sustainability\, accountability\, and compliance into core organisational strategies. In the UAE\, which hosts COP28 this year\, sustainability is a priority on governmental agendas\, as they integrate ESG frameworks to fuel future growth. The repercussions of non-compliance are significant\, both socially and financially\, making organisational resilience more critical than ever. \n\n\n\nTo thrive in this dynamic environment\, businesses must go beyond traditional governance\, performance management\, risk mitigation\, and compliance. They must transform into “connected enterprises” where these elements are seamlessly integrated\, driving strategic alignment\, digital transformation\, and data-driven decision-making. By focusing on integrating GRC with strategy execution\, organisations can ensure that every facet of the business – people\, processes\, and data – is interconnected and aligned. This integration fosters agility\, adaptability\, and resilience\, empowering businesses to navigate complexities and capitalise on opportunities in an increasingly connected world. \n\n\n\nThe G[P]RC Summit 2026 will be a two-day event featuring keynote addresses and panel discussions led by distinguished regional and international speakers. The summit’s sessions will explore a range of themes\, including governance best practices\, performance optimisation\, risk mitigation strategies\, and regulatory compliance assurance. Attendees will gain valuable insights into the latest trends\, methodologies\, tools\, and innovations in GPRC\, empowering them to navigate future challenges and seize emerging opportunities. \n\n\n\nJoin us at the G[P]RC Summit 2026 and embark on a transformative journey towards driving success in a hyperconnected world. \n\n\n\n\n\n\n\nGRC 20/20 Presenter . . .\n\n\n\nMichael Rasmussen\n\n\n\nMichael Rasmussen is an internationally recognized authority\, thought leader\, and pioneer in the disciplines of governance\, risk management\, and compliance (GRC). With over 30 years of experience\, he is globally known for defining and shaping GRC strategy\, processes\, and technology. In February 2002\, while at Forrester Research\, Michael developed the concept of GRC — establishing the foundation for how organizations approach strategy\, process\, and technology in today’s complex business environment. For this\, he is widely acknowledged as the “Father of GRC.” \n\n\n\nA trusted advisor to boards\, executives\, and professionals around the world\, Michael has dedicated his career to helping organizations design and implement effective GRC strategies that are aligned with business objectives. His work empowers organizations to be more effective\, efficient\, resilient\, and agile. He is a sought-after keynote speaker\, author\, and advisor\, with his thought leadership influencing legislation\, regulatory frameworks\, and corporate best practices globally. \n\n\n\nMichael is the host of the Risk is Our Business and the Hitchhiker’s Guide to the GRC Technology podcasts\, where he leads conversations with global experts exploring the evolving frontiers of risk\, resilience\, and corporate integrity. \n\n\n\nWorkshop Host . . .\n\n\n\n\n\n\n\nThe G[P]RC Summit is the world’s largest summit on GPRC: GRC integrated with Performance and Strategy – bringing together C-level executives\, GRC experts\, and industry and academia professionals from across the world to share insights\, innovative solutions\, and best practices needed to drive organisational success and resilience in an increasingly complex and interconnected business environment. This year’s theme\, “Driving Success: Integrating GRC with Strategy Execution in a Hyperconnected World\,” focuses on empowering organizations to navigate challenges and seize opportunities through a holistic\, connected approach. Join us in Johannesburg on 28 October 2025 or in Riyadh on 26 – 27 January 2026 or in Dubai on 23 – 24 January 2026\, to gain insights from industry leaders and take your GRC strategy to the next level. Ready to transform your approach? Register at https://gprcsummit.com/ and secure your spot. \n\n\n\n \nShare this:\n				Email a link to a friend (Opens in new window)\n				Email\n			\n				Print (Opens in new window)\n				Print\n			\n				Share on LinkedIn (Opens in new window)\n				LinkedIn\n			\n				Share on X (Opens in new window)\n				X\n			\n				Share on Facebook (Opens in new window)\n				Facebook
URL:https://www.grc2020.com/event/gprc-summit-2026-riyadh/
CATEGORIES:Conferences
ATTACH;FMTTYPE=image/png:https://www.grc2020.com/wp-content/uploads/2025/11/Screenshot-2025-11-20-at-12.25.01-PM.png
END:VEVENT
END:VCALENDAR