BEGIN:VCALENDAR
VERSION:2.0
PRODID:-//GRC 20/20 Research, LLC - ECPv6.15.20//NONSGML v1.0//EN
CALSCALE:GREGORIAN
METHOD:PUBLISH
X-ORIGINAL-URL:https://www.grc2020.com
X-WR-CALDESC:Events for GRC 20/20 Research, LLC
REFRESH-INTERVAL;VALUE=DURATION:PT1H
X-Robots-Tag:noindex
X-PUBLISHED-TTL:PT1H
BEGIN:VTIMEZONE
TZID:Europe/London
BEGIN:DAYLIGHT
TZOFFSETFROM:+0000
TZOFFSETTO:+0100
TZNAME:BST
DTSTART:20250330T010000
END:DAYLIGHT
BEGIN:STANDARD
TZOFFSETFROM:+0100
TZOFFSETTO:+0000
TZNAME:GMT
DTSTART:20251026T010000
END:STANDARD
BEGIN:DAYLIGHT
TZOFFSETFROM:+0000
TZOFFSETTO:+0100
TZNAME:BST
DTSTART:20260329T010000
END:DAYLIGHT
BEGIN:STANDARD
TZOFFSETFROM:+0100
TZOFFSETTO:+0000
TZNAME:GMT
DTSTART:20261025T010000
END:STANDARD
BEGIN:DAYLIGHT
TZOFFSETFROM:+0000
TZOFFSETTO:+0100
TZNAME:BST
DTSTART:20270328T010000
END:DAYLIGHT
BEGIN:STANDARD
TZOFFSETFROM:+0100
TZOFFSETTO:+0000
TZNAME:GMT
DTSTART:20271031T010000
END:STANDARD
END:VTIMEZONE
BEGIN:VTIMEZONE
TZID:Europe/Oslo
BEGIN:DAYLIGHT
TZOFFSETFROM:+0100
TZOFFSETTO:+0200
TZNAME:CEST
DTSTART:20250330T010000
END:DAYLIGHT
BEGIN:STANDARD
TZOFFSETFROM:+0200
TZOFFSETTO:+0100
TZNAME:CET
DTSTART:20251026T010000
END:STANDARD
BEGIN:DAYLIGHT
TZOFFSETFROM:+0100
TZOFFSETTO:+0200
TZNAME:CEST
DTSTART:20260329T010000
END:DAYLIGHT
BEGIN:STANDARD
TZOFFSETFROM:+0200
TZOFFSETTO:+0100
TZNAME:CET
DTSTART:20261025T010000
END:STANDARD
BEGIN:DAYLIGHT
TZOFFSETFROM:+0100
TZOFFSETTO:+0200
TZNAME:CEST
DTSTART:20270328T010000
END:DAYLIGHT
BEGIN:STANDARD
TZOFFSETFROM:+0200
TZOFFSETTO:+0100
TZNAME:CET
DTSTART:20271031T010000
END:STANDARD
END:VTIMEZONE
BEGIN:VTIMEZONE
TZID:Europe/Berlin
BEGIN:DAYLIGHT
TZOFFSETFROM:+0100
TZOFFSETTO:+0200
TZNAME:CEST
DTSTART:20250330T010000
END:DAYLIGHT
BEGIN:STANDARD
TZOFFSETFROM:+0200
TZOFFSETTO:+0100
TZNAME:CET
DTSTART:20251026T010000
END:STANDARD
BEGIN:DAYLIGHT
TZOFFSETFROM:+0100
TZOFFSETTO:+0200
TZNAME:CEST
DTSTART:20260329T010000
END:DAYLIGHT
BEGIN:STANDARD
TZOFFSETFROM:+0200
TZOFFSETTO:+0100
TZNAME:CET
DTSTART:20261025T010000
END:STANDARD
BEGIN:DAYLIGHT
TZOFFSETFROM:+0100
TZOFFSETTO:+0200
TZNAME:CEST
DTSTART:20270328T010000
END:DAYLIGHT
BEGIN:STANDARD
TZOFFSETFROM:+0200
TZOFFSETTO:+0100
TZNAME:CET
DTSTART:20271031T010000
END:STANDARD
END:VTIMEZONE
BEGIN:VEVENT
DTSTART;TZID=Europe/London:20260602T000000
DTEND;TZID=Europe/London:20260603T235959
DTSTAMP:20260422T170424
CREATED:20260413T175024Z
LAST-MODIFIED:20260413T175027Z
UID:10002778-1780358400-1780531199@www.grc2020.com
SUMMARY:GRC Summit 2026\, LONDON
DESCRIPTION:REGISTER\n\n\n\n\nWhat to Expect\n\n\n\nFor 14 years\, GRC Summit hosted by MetricStream\, is a leading flagship event that brings together Governance\, Risk\, Compliance and Cyber experts from all over the world to share the latest insights\, exchange best practices and discuss what’s next in AI First Connected GRC. \n\n\n\n\nLearn from global GRC thought leaders and experts\n\n\n\nEngage in highly interactive\, hands-on workshops\n\n\n\nGain insights from real-world GRC case studies\n\n\n\nNetwork with leading industry professionals\n\n\n\n\nWhy Attend?\n\n\n\nTransform your GRC strategy . . . \n\n\n\n\nAI-First Risk Intelligence for Confident Decisions\n\n\n\nContinuous Compliance Powered by AI Automation\n\n\n\nProactive\, AI-Driven Assurance for Agile Audits\n\n\n\nDORA-Ready Resilience Aligned to UK Governance\n\n\n\nAI-First GRC Unifying Cyber\, Risk & Compliance\n\n\n\n\n\n\n\n\nGRC 20/20 Presenter . . .\n\n\n\nMichael Rasmussen\n\n\n\nMichael Rasmussen is an internationally recognized authority\, thought leader\, and pioneer in the disciplines of governance\, risk management\, and compliance (GRC). With over 30 years of experience\, he is globally known for defining and shaping GRC strategy\, processes\, and technology. In February 2002\, while at Forrester Research\, Michael developed the concept of GRC — establishing the foundation for how organizations approach strategy\, process\, and technology in today’s complex business environment. For this\, he is widely acknowledged as the “Father of GRC.” \n\n\n\nA trusted advisor to boards\, executives\, and professionals around the world\, Michael has dedicated his career to helping organizations design and implement effective GRC strategies that are aligned with business objectives. His work empowers organizations to be more effective\, efficient\, resilient\, and agile. He is a sought-after keynote speaker\, author\, and advisor\, with his thought leadership influencing legislation\, regulatory frameworks\, and corporate best practices globally. \n\n\n\nMichael is the host of the Risk is Our Business and the Hitchhiker’s Guide to the GRC Technology podcasts\, where he leads conversations with global experts exploring the evolving frontiers of risk\, resilience\, and corporate integrity. \n\n\n\nWorkshop Host . . .\n\n\n\n\n\n\n\nMetricStream simplifies Governance\, Risk\, and Compliance (GRC) with purpose-built AI-first Risk\, Compliance\, Audit\, CyberGRC\, Third-party Risk\, and Resilience products on a single low-code / no-code GRC cloud platform. Trusted by over 1 million GRC professionals across 35+ countries\, our industry-specific products and AI agents help businesses successfully manage audits\, avoid compliance violations and fines\, reduce risk exposure\, and strengthen resilience. MetricStream is headquartered in San Jose\, California\, with operations and offices around the globe. More information is available at www.metricstream.com \nShare this:\n				Email a link to a friend (Opens in new window)\n				Email\n			\n				Print (Opens in new window)\n				Print\n			\n				Share on LinkedIn (Opens in new window)\n				LinkedIn\n			\n				Share on X (Opens in new window)\n				X\n			\n				Share on Facebook (Opens in new window)\n				Facebook
URL:https://www.grc2020.com/event/grc-summit-2026-london/
CATEGORIES:Conferences
ATTACH;FMTTYPE=image/jpeg:https://www.grc2020.com/wp-content/uploads/2026/04/LDNSummit26_Michael-Ras_Workshop_choose-your-own-risk-adventure-0273.jpg
END:VEVENT
BEGIN:VEVENT
DTSTART;TZID=Europe/Oslo:20260610T080000
DTEND;TZID=Europe/Oslo:20260610T173000
DTSTAMP:20260422T170424
CREATED:20260322T234714Z
LAST-MODIFIED:20260322T234717Z
UID:10002770-1781078400-1781112600@www.grc2020.com
SUMMARY:Corporater Connect\, OSLO
DESCRIPTION:REGISTER\n\n\n\n\nJoin us at upcoming Corporater Connect\n\n\n\nJoin us at Corporater Connect\, an exclusive event for professionals in Governance\, Performance\, Risk\, and Compliance (GPRC). \n\n\n\nThis year’s theme\, Breaking Down Silos in GPRC\, focuses on how organizations can move beyond fragmented processes and disconnected systems to achieve more integrated\, transparent\, and effective decision-making. Attendees will connect with industry peers\, share best practices\, explore emerging trends\, and discuss common business challenges. \n\n\n\nHear from a diverse lineup of speakers\, including globally recognized GRC analyst Michael Rasmussen\, who will share insights on the evolution of GPRC and how leading organizations are driving better\, more coordinated decisions. \n\n\n\nThe event takes place at Ambassaden\, one of Oslo’s most unique and exclusive venues\, blending history\, design\, and atmosphere to foster inspiring dialogue and knowledge sharing. \n\n\n\nThe day concludes on Ambassaden’s rooftop terrace with live jazz and refreshments\, offering a relaxed yet sophisticated setting for networking and relationship-building. \n\n\n\n\nWhen: June 10\, 2026\n\n\n\nWhere: Ambassaden\, Henrik Ibsens gate 48\, 0255 Oslo\, Norway\n\n\n\n\n\n\n\n\nGRC 20/20 Presenter . . .\n\n\n\nMichael Rasmussen\n\n\n\nMichael Rasmussen is an internationally recognized authority\, thought leader\, and pioneer in the disciplines of governance\, risk management\, and compliance (GRC). With over 30 years of experience\, he is globally known for defining and shaping GRC strategy\, processes\, and technology. In February 2002\, while at Forrester Research\, Michael developed the concept of GRC — establishing the foundation for how organizations approach strategy\, process\, and technology in today’s complex business environment. For this\, he is widely acknowledged as the “Father of GRC.” \n\n\n\nA trusted advisor to boards\, executives\, and professionals around the world\, Michael has dedicated his career to helping organizations design and implement effective GRC strategies that are aligned with business objectives. His work empowers organizations to be more effective\, efficient\, resilient\, and agile. He is a sought-after keynote speaker\, author\, and advisor\, with his thought leadership influencing legislation\, regulatory frameworks\, and corporate best practices globally. \n\n\n\nMichael is the host of the Risk is Our Business and the Hitchhiker’s Guide to the GRC Technology podcasts\, where he leads conversations with global experts exploring the evolving frontiers of risk\, resilience\, and corporate integrity. \n\n\n\nWorkshop Host . . .\n\n\n\n\n\n\n\nCorporater is a global software company that enables medium and large organizations worldwide to manage their business with integrated software solutions for governance\, performance\, risk\, and compliance (GPRC) built on a single platform. Corporater provides the world’s leading Business Management Platform which offers ‘One View\, One Platform’ for a holistic and complete overview of business. Our signature solutions include Integrated Risk Management\, Enterprise Risk Management\, Operational Risk Management\, Business Continuity Management\, Internal Audit Management\, Operational Resilience\, Regulatory and Organizational Compliance Management\, Data Privacy Management\, Project and Portfolio Management\, Performance Management\, Strategy Management\, and others. All Corporater solutions can be used straight out of the box as point solutions\, or in combination with other Corporater solutions to form a holistic GRC program. Corporater solutions are used by top organizations in various industries and functions\, including state and local government\, energy\, education\, banking and finance\, oil and gas\, shipping\, manufacturing\, healthcare\, communications\, technology\, logistics\, food and agriculture\, media\, and non-profit. \n\n\n\n \nShare this:\n				Email a link to a friend (Opens in new window)\n				Email\n			\n				Print (Opens in new window)\n				Print\n			\n				Share on LinkedIn (Opens in new window)\n				LinkedIn\n			\n				Share on X (Opens in new window)\n				X\n			\n				Share on Facebook (Opens in new window)\n				Facebook
URL:https://www.grc2020.com/event/corporater-connect-oslo/
CATEGORIES:Conferences
ATTACH;FMTTYPE=image/png:https://www.grc2020.com/wp-content/uploads/2026/03/Screenshot-2026-03-22-at-6.44.22-PM-e1774223116550.png
END:VEVENT
BEGIN:VEVENT
DTSTART;TZID=Europe/Berlin:20260617T083000
DTEND;TZID=Europe/Berlin:20260617T160000
DTSTAMP:20260422T170424
CREATED:20260201T190219Z
LAST-MODIFIED:20260330T184856Z
UID:10002755-1781685000-1781712000@www.grc2020.com
SUMMARY:Corporater Connect\, FRANKFURT
DESCRIPTION:REGISTER\n\n\n\n\nJoin us at upcoming Corporater Connect\n\n\n\nJoin us for an exclusive full-day event bringing together Corporater customers\, partners\, and industry peers across Governance\, Performance\, Risk\, and Compliance (GPRC). The event offers a trusted forum to explore emerging trends\, share best practices\, and address today’s complex business challenges through a carefully curated program of expert presentations\, the latest innovations in the Corporater platform\, peer exchange\, and hands-on\, expert-led sessions designed to help you maximize the value of your Corporater solutions. \n\n\n\nGain strategic insight from Michael Rasmussen\, internationally recognized GRC analyst and thought leader\, as he shares perspectives on the evolving GPRC landscape and how leading organizations are breaking down silos to enable more integrated and effective decision-making. \n\n\n\nThe event will be hosted at Place to Be Keisler\, one of Frankfurt’s most sought-after venues\, offering panoramic views and a refined rooftop setting that adds to the exclusivity of the experience. We will conclude the day with live jazz\, drinks\, and light bites\, creating a relaxed and memorable atmosphere to continue conversations and strengthen connections. \n\n\n\nWhen:\n\n\n\nWednesday 17 June 2026 \n\n\n\nPlace to be:\n\n\n\nBaseler Str. 48\,60329 Frankfurt am Main\,Germany \n\n\n\nEvent Agenda\n\n\n\n\n08:30-09:00 – Registration \n\n\n\n09:00-09:15 – Opening Session\, Speaker Mario Keil Head of Sales DACH\, Corporater   \n\n\n\n09:15-09:45 – Our Vision\, Current Position\, and Future Path: Embracing the Growing Role of AI\, Speaker Tor Inge Vasshus CEO & Founder\, Corporater\n\n\n\n09:45-10:15 – Risk Is Our Business: Charting Your Course in Modern Risk Management\, Speaker Michael Rasmussen GRC Analyst and Pundit\, GRC 20/20 LLC\n\n\n\n10:15-10:30 – Coffee Break \n\n\n\n10:30-11:00 – Lufthansa & Protiviti Presentation\, Partner and Customer presentation\n\n\n\n11:00-11:30 – Session 3\, Customer Success story\n\n\n\n11:30-12:00 – Session 4\, Customer presentation\n\n\n\n12:00-13:00 – Lunch\n\n\n\n13:00-13:30 – Corporater Software and Product\, Speakers: Eric Peterson (Chief Product Officer)\, Marko Sundic (CTO)\, Sebe Gerritsen (Director of Sales & Market Expansion)\, Corporater  \n\n\n\n13:30-14:00 – Session 5\, Corporater presentation 1\n\n\n\n14:00-14:30 – Session 6\, Corporater presentation 2\n\n\n\n14:30-15:00 – Coffee Break \n\n\n\n15:00-15:45 – Panel Discussion: Value-Based Risk Management\, From Noise to Decision Advantage\n\n\n\n15:45-16:00 – Closing session \n\n\n\n\n\n\n\n\nGRC 20/20 Presenter . . .\n\n\n\nMichael Rasmussen\n\n\n\nMichael Rasmussen is an internationally recognized authority\, thought leader\, and pioneer in the disciplines of governance\, risk management\, and compliance (GRC). With over 30 years of experience\, he is globally known for defining and shaping GRC strategy\, processes\, and technology. In February 2002\, while at Forrester Research\, Michael developed the concept of GRC — establishing the foundation for how organizations approach strategy\, process\, and technology in today’s complex business environment. For this\, he is widely acknowledged as the “Father of GRC.” \n\n\n\nA trusted advisor to boards\, executives\, and professionals around the world\, Michael has dedicated his career to helping organizations design and implement effective GRC strategies that are aligned with business objectives. His work empowers organizations to be more effective\, efficient\, resilient\, and agile. He is a sought-after keynote speaker\, author\, and advisor\, with his thought leadership influencing legislation\, regulatory frameworks\, and corporate best practices globally. \n\n\n\nMichael is the host of the Risk is Our Business and the Hitchhiker’s Guide to the GRC Technology podcasts\, where he leads conversations with global experts exploring the evolving frontiers of risk\, resilience\, and corporate integrity. \n\n\n\nWorkshop Host . . .\n\n\n\n\n\n\n\nCorporater is a global software company that enables medium and large organizations worldwide to manage their business with integrated software solutions for governance\, performance\, risk\, and compliance (GPRC) built on a single platform. Corporater provides the world’s leading Business Management Platform which offers ‘One View\, One Platform’ for a holistic and complete overview of business. Our signature solutions include Integrated Risk Management\, Enterprise Risk Management\, Operational Risk Management\, Business Continuity Management\, Internal Audit Management\, Operational Resilience\, Regulatory and Organizational Compliance Management\, Data Privacy Management\, Project and Portfolio Management\, Performance Management\, Strategy Management\, and others. All Corporater solutions can be used straight out of the box as point solutions\, or in combination with other Corporater solutions to form a holistic GRC program. Corporater solutions are used by top organizations in various industries and functions\, including state and local government\, energy\, education\, banking and finance\, oil and gas\, shipping\, manufacturing\, healthcare\, communications\, technology\, logistics\, food and agriculture\, media\, and non-profit. \n\n\n\n \nShare this:\n				Email a link to a friend (Opens in new window)\n				Email\n			\n				Print (Opens in new window)\n				Print\n			\n				Share on LinkedIn (Opens in new window)\n				LinkedIn\n			\n				Share on X (Opens in new window)\n				X\n			\n				Share on Facebook (Opens in new window)\n				Facebook
URL:https://www.grc2020.com/event/corporater-connect-frankfurt/
CATEGORIES:Conferences
ATTACH;FMTTYPE=image/png:https://www.grc2020.com/wp-content/uploads/2026/02/Screenshot-2026-02-01-at-6.50.43-PM-e1769972125655.png
END:VEVENT
END:VCALENDAR