BEGIN:VCALENDAR
VERSION:2.0
PRODID:-//GRC 20/20 Research, LLC - ECPv6.15.20//NONSGML v1.0//EN
CALSCALE:GREGORIAN
METHOD:PUBLISH
X-WR-CALNAME:GRC 20/20 Research, LLC
X-ORIGINAL-URL:https://www.grc2020.com
X-WR-CALDESC:Events for GRC 20/20 Research, LLC
REFRESH-INTERVAL;VALUE=DURATION:PT1H
X-Robots-Tag:noindex
X-PUBLISHED-TTL:PT1H
BEGIN:VTIMEZONE
TZID:America/Chicago
BEGIN:DAYLIGHT
TZOFFSETFROM:-0600
TZOFFSETTO:-0500
TZNAME:CDT
DTSTART:20220313T080000
END:DAYLIGHT
BEGIN:STANDARD
TZOFFSETFROM:-0500
TZOFFSETTO:-0600
TZNAME:CST
DTSTART:20221106T070000
END:STANDARD
BEGIN:DAYLIGHT
TZOFFSETFROM:-0600
TZOFFSETTO:-0500
TZNAME:CDT
DTSTART:20230312T080000
END:DAYLIGHT
BEGIN:STANDARD
TZOFFSETFROM:-0500
TZOFFSETTO:-0600
TZNAME:CST
DTSTART:20231105T070000
END:STANDARD
BEGIN:DAYLIGHT
TZOFFSETFROM:-0600
TZOFFSETTO:-0500
TZNAME:CDT
DTSTART:20240310T080000
END:DAYLIGHT
BEGIN:STANDARD
TZOFFSETFROM:-0500
TZOFFSETTO:-0600
TZNAME:CST
DTSTART:20241103T070000
END:STANDARD
END:VTIMEZONE
BEGIN:VTIMEZONE
TZID:Europe/London
BEGIN:DAYLIGHT
TZOFFSETFROM:+0000
TZOFFSETTO:+0100
TZNAME:BST
DTSTART:20210328T010000
END:DAYLIGHT
BEGIN:STANDARD
TZOFFSETFROM:+0100
TZOFFSETTO:+0000
TZNAME:GMT
DTSTART:20211031T010000
END:STANDARD
BEGIN:DAYLIGHT
TZOFFSETFROM:+0000
TZOFFSETTO:+0100
TZNAME:BST
DTSTART:20220327T010000
END:DAYLIGHT
BEGIN:STANDARD
TZOFFSETFROM:+0100
TZOFFSETTO:+0000
TZNAME:GMT
DTSTART:20221030T010000
END:STANDARD
BEGIN:DAYLIGHT
TZOFFSETFROM:+0000
TZOFFSETTO:+0100
TZNAME:BST
DTSTART:20230326T010000
END:DAYLIGHT
BEGIN:STANDARD
TZOFFSETFROM:+0100
TZOFFSETTO:+0000
TZNAME:GMT
DTSTART:20231029T010000
END:STANDARD
BEGIN:DAYLIGHT
TZOFFSETFROM:+0000
TZOFFSETTO:+0100
TZNAME:BST
DTSTART:20240331T010000
END:DAYLIGHT
BEGIN:STANDARD
TZOFFSETFROM:+0100
TZOFFSETTO:+0000
TZNAME:GMT
DTSTART:20241027T010000
END:STANDARD
END:VTIMEZONE
BEGIN:VTIMEZONE
TZID:Asia/Dubai
BEGIN:STANDARD
TZOFFSETFROM:+0400
TZOFFSETTO:+0400
TZNAME:+04
DTSTART:20220101T000000
END:STANDARD
END:VTIMEZONE
BEGIN:VTIMEZONE
TZID:Asia/Riyadh
BEGIN:STANDARD
TZOFFSETFROM:+0300
TZOFFSETTO:+0300
TZNAME:+03
DTSTART:20220101T000000
END:STANDARD
END:VTIMEZONE
BEGIN:VTIMEZONE
TZID:America/New_York
BEGIN:DAYLIGHT
TZOFFSETFROM:-0500
TZOFFSETTO:-0400
TZNAME:EDT
DTSTART:20220313T070000
END:DAYLIGHT
BEGIN:STANDARD
TZOFFSETFROM:-0400
TZOFFSETTO:-0500
TZNAME:EST
DTSTART:20221106T060000
END:STANDARD
BEGIN:DAYLIGHT
TZOFFSETFROM:-0500
TZOFFSETTO:-0400
TZNAME:EDT
DTSTART:20230312T070000
END:DAYLIGHT
BEGIN:STANDARD
TZOFFSETFROM:-0400
TZOFFSETTO:-0500
TZNAME:EST
DTSTART:20231105T060000
END:STANDARD
BEGIN:DAYLIGHT
TZOFFSETFROM:-0500
TZOFFSETTO:-0400
TZNAME:EDT
DTSTART:20240310T070000
END:DAYLIGHT
BEGIN:STANDARD
TZOFFSETFROM:-0400
TZOFFSETTO:-0500
TZNAME:EST
DTSTART:20241103T060000
END:STANDARD
END:VTIMEZONE
BEGIN:VEVENT
DTSTART;TZID=America/Chicago:20230222T100000
DTEND;TZID=America/Chicago:20230222T110000
DTSTAMP:20260421T135947
CREATED:20230131T180549Z
LAST-MODIFIED:20230206T153623Z
UID:10002436-1677060000-1677063600@www.grc2020.com
SUMMARY:Policy & Training Management: The core foundation of a successful ESG program
DESCRIPTION:REGISTER\n\n\n\n\nESG is a hot topic that spans both globe and sectors as organizations of all sizes look to increase agility and resilience in the face of the growing socio-economic pressures and changing regulatory requirements.  \n\n\n\nThe challenge is that ESG has to be a reality in the organization and that requires that the values and commitments set forth in ESG work their way into corporate culture and integrity.  \n\n\n\nThe foundation of this is policy engagement from the code of conduct down into specific ESG related policies. Well-written policies aren’t enough.  \n\n\n\nGood policy management and engagement together (with training) is key – organizations simply can’t build the required ethical compliance culture and ESG integrity they need without it. \n\n\n\nIN THIS WEBINAR… \n\n\n\n\nHear from leading industry analyst\, Michael Rasmussen as he discusses the rise of ESG\, the latest ESG trends\, and why engagement is key for ESG programs to be effective.\n\n\n\nPlus\, LearningZone CEO\, Hertzel Kuriel will share a short demo of the Ekko platform’s integrated policy and training engagement capabilities.\n\n\n\nAttendees will also be invited to have their questions answered\, and have the opportunity to download the latest ESG Trends Report to further explore the ESG challenges organizations face in 2023.\n\n\n\n\nThe GRC 20/20 Speaker\n\n\n\nMichael Rasmussen\n\n\n\nGRC 20/20 ResearchMichael Rasmussen – The GRC Pundit @ GRC 20/20 Research\, Michael Rasmussen is an internationally recognized pundit on governance\, risk management\, and compliance (GRC) – with specific expertise on the topics of GRC strategy\, process\, information\, and technology architectures and solutions. With 30+ years of experience\, Michael helps organizations improve GRC processes\, design and implement GRC architectures and select solutions that are effective\, efficient\, and agile. He is a sought-after keynote speaker\, author\, and advisor and is noted as the “Father of GRC” – being the first to define and model the GRC market in February 2002 while at Forrester Research\, Inc. \n\n\n\nWebinar Host\n\n\n\n\n\n\n\nLearningZone Ekko’s mission is to turn corporate compliance and learning in to a strategic and business advantage. While we simplify compliance management and learning for compliance officers and HR professionals\, we also make it easily accessible and available to the entire workforce and third parties\, thus helping organizations globally to become accountable for their compliance and workforce development strategies and quickly adapt to the ever-changing world of business. \nShare this:\n				Email a link to a friend (Opens in new window)\n				Email\n			\n				Print (Opens in new window)\n				Print\n			\n				Share on LinkedIn (Opens in new window)\n				LinkedIn\n			\n				Share on X (Opens in new window)\n				X\n			\n				Share on Facebook (Opens in new window)\n				Facebook
URL:https://www.grc2020.com/event/policy-training-management-the-core-foundation-of-a-successful-esg-program/
CATEGORIES:Webinars
ATTACH;FMTTYPE=image/png:https://www.grc2020.com/wp-content/uploads/2023/01/Blue-and-White-Modern-Business-LinkedIn-Post-1200-×-627-px-3.png
END:VEVENT
BEGIN:VEVENT
DTSTART;TZID=Europe/London:20230215T173000
DTEND;TZID=Europe/London:20230215T193000
DTSTAMP:20260421T135947
CREATED:20230131T172943Z
LAST-MODIFIED:20230131T173150Z
UID:10002435-1676482200-1676489400@www.grc2020.com
SUMMARY:RegTech/FinTech In Partnership Event\, London
DESCRIPTION:ING\, Hummingbird & GRC 20/20 are hosting an In Partnership networking event at ING Labs in London to provide greater collaboration and networking for the RegTech\, FinTech\, and financial services communities.  \n\n\n\nThe goals . . .  \n\n\n\n\nGrounded in the belief that innovation is the catalyst for transformation we as a financial services industry need to think different\, approach innovation with more focus and deliver the results together\n\n\n\nTo connect with industry experts and knowledge seekers whom collaboratively share\, learn and experience across the fields of Regulation\, Technology and Data to drive better regulatory outcomes for consumers.\n\n\n\nPartnerships are essential in unlocking opportunities\, enabling customers to do more\, even better…  \n\n\n\n\nTo learn more\, email info@grc20202.com. \n\n\n\nThe GRC 20/20 Facilitator\, Michael Rasmussen . . . \n\n\n\nMichael Rasmussen\n\n\n\nMichael Rasmussen is an internationally recognized pundit on governance\, risk management\, and compliance (GRC) – with specific expertise on the topics of GRC strategy\, process\, information\, and technology architectures and solutions. With 30+ years of experience\, Michael helps organizations improve GRC processes\, design and implement GRC architectures and select solutions that are effective\, efficient\, and agile. He is a sought-after keynote speaker\, author\, and advisor and is noted as the “Father of GRC” – being the first to define and model the GRC market in February 2002 while at Forrester Research\, Inc. \n\n\n\n \nShare this:\n				Email a link to a friend (Opens in new window)\n				Email\n			\n				Print (Opens in new window)\n				Print\n			\n				Share on LinkedIn (Opens in new window)\n				LinkedIn\n			\n				Share on X (Opens in new window)\n				X\n			\n				Share on Facebook (Opens in new window)\n				Facebook
URL:https://www.grc2020.com/event/regtech-fintech-in-partnership-event-london/
CATEGORIES:Conferences
ATTACH;FMTTYPE=image/jpeg:https://www.grc2020.com/wp-content/uploads/2023/01/In-Partnership-Event-scaled-e1675185917601.jpg
END:VEVENT
BEGIN:VEVENT
DTSTART;TZID=Asia/Dubai:20230125T000000
DTEND;TZID=Asia/Dubai:20230125T235959
DTSTAMP:20260421T135947
CREATED:20221118T112317Z
LAST-MODIFIED:20221118T112319Z
UID:10002428-1674604800-1674691199@www.grc2020.com
SUMMARY:G[P]RC Summit 2023\, Dubai
DESCRIPTION:REGISTER\n\n\n\n\nG[P]RC – The future of effective enterprise management for government and business organisations\n\n\n\nThe GPRC Summit\, hosted by Corporater\, is the world’s largest summit on GPRC: GRC integrated with Performance and Strategy – bringing together GRC experts\, CEOs\, senior level executives\, and key decision makers from across the region and industries to discuss technology\, insights\, and trends shaping the future of enterprise business management.  \n\n\n\nJoin global and regional C-level executives from top organisations to: \n\n\n\n\nBuild business relationships through shared experiences\n\n\n\nExplore the technology\, insights\, and trends shaping the future of enterprise business management\n\n\n\nGet expert advice on your industry-specific challenges\n\n\n\n\nThis year’s summit will feature keynote presentations\, panels\, and round table discussions designed to provide expert insights centered around the theme of “The future of effective enterprise business management.” World-renowned GRC and strategy experts and C-level executives will share their insights on the latest trends in enterprise business management\, GRC-related challenges faced by today’s top organisations\, and solutions designed to enable organisations to achieve stronger performance and alignment in mission-critical priorities. The summit will also cover strategic insights\, best practices\, and advice on strategy execution\, performance measurement and optimisation\, and digital business transformation.  \n\n\n\nThe GPRC Summit is an exclusive\, invitation-only\, one-day event hosted in Riyadh\, KSA\, on 23 January\, and Dubai\, UAE\, on 25 January 2023. \n\n\n\nThe GRC 20/20 Keynote Speaker\, Michael Rasmussen . . . \n\n\n\nMichael Rasmussen\n\n\n\nMichael Rasmussen is an internationally recognized pundit on governance\, risk management\, and compliance (GRC) – with specific expertise on the topics of GRC strategy\, process\, information\, and technology architectures and solutions. With 29+ years of experience\, Michael helps organizations improve GRC processes\, design and implement GRC architectures and select solutions that are effective\, efficient\, and agile. He is a sought-after keynote speaker\, author\, and advisor and is noted as the “Father of GRC” – being the first to define and model the GRC market in February 2002 while at Forrester Research\, Inc. \n\n\n\nAbout the Event Organizer\n\n\n\n\n\n\n\nThe GPRC Summit\, hosted by Corporater\, is an exclusive\, invitation-only event for CEOs and top senior executives. \n\n\n\nWe are committed to provide a level of information exchange and peer interaction that is unrivaled. To ensure this commitment to our attendees\, we ask that you verify your eligibility to attend. \n\n\n\n \nShare this:\n				Email a link to a friend (Opens in new window)\n				Email\n			\n				Print (Opens in new window)\n				Print\n			\n				Share on LinkedIn (Opens in new window)\n				LinkedIn\n			\n				Share on X (Opens in new window)\n				X\n			\n				Share on Facebook (Opens in new window)\n				Facebook
URL:https://www.grc2020.com/event/gprc-summit-2023-dubai/
CATEGORIES:Conferences
ATTACH;FMTTYPE=image/png:https://www.grc2020.com/wp-content/uploads/2022/11/Screenshot-2022-11-18-at-11.03.33-AM-e1668770095837.png
END:VEVENT
BEGIN:VEVENT
DTSTART;TZID=Asia/Riyadh:20230123T000000
DTEND;TZID=Asia/Riyadh:20230123T235959
DTSTAMP:20260421T135947
CREATED:20221118T112213Z
LAST-MODIFIED:20221118T112216Z
UID:10002427-1674432000-1674518399@www.grc2020.com
SUMMARY:G[P]RC Summit 2023\, Riyadh
DESCRIPTION:REGISTER\n\n\n\n\nG[P]RC – The future of effective enterprise management for government and business organisations\n\n\n\nThe GPRC Summit\, hosted by Corporater\, is the world’s largest summit on GPRC: GRC integrated with Performance and Strategy – bringing together GRC experts\, CEOs\, senior level executives\, and key decision makers from across the region and industries to discuss technology\, insights\, and trends shaping the future of enterprise business management.  \n\n\n\nJoin global and regional C-level executives from top organisations to: \n\n\n\n\nBuild business relationships through shared experiences\n\n\n\nExplore the technology\, insights\, and trends shaping the future of enterprise business management\n\n\n\nGet expert advice on your industry-specific challenges\n\n\n\n\nThis year’s summit will feature keynote presentations\, panels\, and round table discussions designed to provide expert insights centered around the theme of “The future of effective enterprise business management.” World-renowned GRC and strategy experts and C-level executives will share their insights on the latest trends in enterprise business management\, GRC-related challenges faced by today’s top organisations\, and solutions designed to enable organisations to achieve stronger performance and alignment in mission-critical priorities. The summit will also cover strategic insights\, best practices\, and advice on strategy execution\, performance measurement and optimisation\, and digital business transformation.  \n\n\n\nThe GPRC Summit is an exclusive\, invitation-only\, one-day event hosted in Riyadh\, KSA\, on 23 January\, and Dubai\, UAE\, on 25 January 2023. \n\n\n\nThe GRC 20/20 Keynote Speaker\, Michael Rasmussen . . . \n\n\n\nMichael Rasmussen\n\n\n\nMichael Rasmussen is an internationally recognized pundit on governance\, risk management\, and compliance (GRC) – with specific expertise on the topics of GRC strategy\, process\, information\, and technology architectures and solutions. With 29+ years of experience\, Michael helps organizations improve GRC processes\, design and implement GRC architectures and select solutions that are effective\, efficient\, and agile. He is a sought-after keynote speaker\, author\, and advisor and is noted as the “Father of GRC” – being the first to define and model the GRC market in February 2002 while at Forrester Research\, Inc. \n\n\n\nAbout the Event Organizer\n\n\n\n\n\n\n\nThe GPRC Summit\, hosted by Corporater\, is an exclusive\, invitation-only event for CEOs and top senior executives. \n\n\n\nWe are committed to provide a level of information exchange and peer interaction that is unrivaled. To ensure this commitment to our attendees\, we ask that you verify your eligibility to attend. \n\n\n\n \nShare this:\n				Email a link to a friend (Opens in new window)\n				Email\n			\n				Print (Opens in new window)\n				Print\n			\n				Share on LinkedIn (Opens in new window)\n				LinkedIn\n			\n				Share on X (Opens in new window)\n				X\n			\n				Share on Facebook (Opens in new window)\n				Facebook
URL:https://www.grc2020.com/event/gprc-summit-2023-riyadh/
CATEGORIES:Conferences
ATTACH;FMTTYPE=image/png:https://www.grc2020.com/wp-content/uploads/2022/11/Screenshot-2022-11-18-at-11.03.33-AM-e1668770095837.png
END:VEVENT
BEGIN:VEVENT
DTSTART;TZID=America/New_York:20230119T130000
DTEND;TZID=America/New_York:20230119T140000
DTSTAMP:20260421T135947
CREATED:20221219T180849Z
LAST-MODIFIED:20221219T180950Z
UID:10002429-1674133200-1674136800@www.grc2020.com
SUMMARY:Prioritizing Supply Chain Risk Management in 2023 – A Look Ahead
DESCRIPTION:REGISTER\n\n\n\n\nLooking ahead at 2023\, it will be more important than ever for organizations to manage their supplier risk. Larger and more complex supplier networks\, changing regulatory requirements\, and an often volatile global risk landscape will require organizations to ensure effective evaluation of their supply chain dependencies. \n\n\n\nHaving the right strategy and the right tools in place is essential in helping to circumvent potential issues with your suppliers and can significantly contribute to the financial health and overall well-being of your organization. The ability to consistently assess\, monitor\, and manage your organization’s supply chain risk results in better business outcomes for both your organization and your supply chain management program. Join GRC 20/20 market analyst Michael Rasmussen and Archer Senior Product Manager Wes Loeffler to learn: \n\n\n\n\nHow supply chain risk is expected to impact organization in the year ahead\n\n\n\nHow to make supply chain risk management a strategic priority for your organization\n\n\n\nHow Archer can help you manage supply chain risk more effectively\n\n\n\n\nThe GRC 20/20 Speaker\n\n\n\nMichael Rasmussen\n\n\n\nGRC 20/20 ResearchMichael Rasmussen – The GRC Pundit @ GRC 20/20 Research\, Michael Rasmussen is an internationally recognized pundit on governance\, risk management\, and compliance (GRC) – with specific expertise on the topics of GRC strategy\, process\, information\, and technology architectures and solutions. With 28+ years of experience\, Michael helps organizations improve GRC processes\, design and implement GRC architectures and select solutions that are effective\, efficient\, and agile. He is a sought-after keynote speaker\, author\, and advisor and is noted as the “Father of GRC” – being the first to define and model the GRC market in February 2002 while at Forrester Research\, Inc. \n\n\n\nWebinar Host\n\n\n\n\n\n\n\nArcher empowers organizations to manage multiple dimensions of risk on one platform with on-premises and SaaS offerings\, and quickly implement industry-standard processes and best practices for advanced risk management maturity\, informed decision-making and enhanced business performance. Archer has been recognized as a Leader in the most recent Gartner Magic Quadrant reports for IT risk management\, IT vendor risk management tools and business continuity management program solutions\, worldwide. \nShare this:\n				Email a link to a friend (Opens in new window)\n				Email\n			\n				Print (Opens in new window)\n				Print\n			\n				Share on LinkedIn (Opens in new window)\n				LinkedIn\n			\n				Share on X (Opens in new window)\n				X\n			\n				Share on Facebook (Opens in new window)\n				Facebook
URL:https://www.grc2020.com/event/the-critical-role-of-esg-in-grc-programsprioritizing-supply-chain-risk-management-in-2023-a-look-aheadthe-critical-role-of-esg-in-grc-programs/
CATEGORIES:Webinars
END:VEVENT
BEGIN:VEVENT
DTSTART;TZID=America/New_York:20230117T110000
DTEND;TZID=America/New_York:20230117T120000
DTSTAMP:20260421T135947
CREATED:20230106T013845Z
LAST-MODIFIED:20230106T013946Z
UID:10002433-1673953200-1673956800@www.grc2020.com
SUMMARY:2023 GRC Strategies to Accelerate Risk\, Compliance\, and Audit Programs
DESCRIPTION:REGISTER\n\n\n\n\nYour risk and compliance environment changes constantly. After several years of pandemic and supply chain risks dominating the headlines\, we now see geopolitical\, climate\, economic\, operational\, and security risks as top business priorities. The programs you’ve relied on may not be enough for this newly dynamic risk and compliance world. This webinar focuses on new approaches to GRC that will improve your programs – in 2023 and beyond \n\n\n\nJoin the GRC Pundit Michael Rasmussen and MetricStream’s Loren Johnson and Pat McParland to discuss the latest trends in the GRC market as we head into another year full of new demands and opportunities.  \n\n\n\nOur expert panel will discuss how to leverage GRC for: \n\n\n\n\nDelivering competitive advantage for you in 2023\n\n\n\nResponding to operational resiliency requirements\n\n\n\nMeeting and exceeding emerging cyber risk demands in a digitally transforming world\n\n\n\nBuilding strength in your ESG program\n\n\n\n\nSee what 2023 holds for you – and get a jump on your GRC programs with an informed perspective. \n\n\n\nWe look forward to welcoming you to this interactive session. Register today – there is no charge for this session but space is limited! \n\n\n\nPlease bring your questions! We look forward to an informative\, engaging\, and interactive session. \n\n\n\nGRC 20/20 Speaker\n\n\n\nMichael Rasmussen\n\n\n\nGRC 20/20 ResearchMichael Rasmussen – The GRC Pundit @ GRC 20/20 Research\, Michael Rasmussen is an internationally recognized pundit on governance\, risk management\, and compliance (GRC) – with specific expertise on the topics of GRC strategy\, process\, information\, and technology architectures and solutions. With 30+ years of experience\, Michael helps organizations improve GRC processes\, design and implement GRC architectures and select solutions that are effective\, efficient\, and agile. He is a sought-after keynote speaker\, author\, and advisor and is noted as the “Father of GRC” – being the first to define and model the GRC market in February 2002 while at Forrester Research\, Inc. \n\n\n\nWebinar Sponsor\n\n\n\n\n\n\n\nMetricStream is a global SaaS leader of GRC solutions that empowers organizations to thrive on risk by accelerating growth via risk-aware decisions. They connect governance\, risk management and compliance across the extended enterprise.  \n\n\n\nTheir ConnectedGRC and three product lines – BusinessGRC\, CyberGRC\, and ESGRC – are based on a single\, scalable platform that supports you wherever you are on your GRC journey. MetricStream is headquartered in San Jose\, California\, with an operations and R&D center in Bangalore\, India\, and sales and operations support around the globe. More information is available at www.metricstream.com. \nShare this:\n				Email a link to a friend (Opens in new window)\n				Email\n			\n				Print (Opens in new window)\n				Print\n			\n				Share on LinkedIn (Opens in new window)\n				LinkedIn\n			\n				Share on X (Opens in new window)\n				X\n			\n				Share on Facebook (Opens in new window)\n				Facebook
URL:https://www.grc2020.com/event/2023-grc-strategies-to-accelerate-risk-compliance-and-audit-programs/
CATEGORIES:Webinars
ATTACH;FMTTYPE=image/png:https://www.grc2020.com/wp-content/uploads/2023/01/MS_2023-Trends-Webinar_V1.png
END:VEVENT
BEGIN:VEVENT
DTSTART;TZID=Europe/London:20221214T150000
DTEND;TZID=Europe/London:20221214T160000
DTSTAMP:20260421T135947
CREATED:20221116T135536Z
LAST-MODIFIED:20221117T110925Z
UID:10002424-1671030000-1671033600@www.grc2020.com
SUMMARY:Why Enterprise Performance should be at the Heart of GRC
DESCRIPTION:REGISTER\n\n\n\n\nToo often GRC is managed by siloed departments without considering overall enterprise performance as a key driver. In this webinar we want to flip GRC on its head as we discuss why enterprise performance and strategic objectives should be the driving force behind your GRC programme. \n\n\n\nJoin Camms as we speak to renowned thought leader and GRC pundit Michael Rasmussen\, as he explains: \n\n\n\n\nHow organisations create a blinkered view of GRC by focusing on mandatory compliance and risk requirements.\n\n\n\nThe steps organisations should take to evolve a siloed GRC approach to one that considers enterprise performance objectives\n\n\n\nWhat an enterprise performance led GRC framework looks like\n\n\n\nHow small organisations – that are still using spreadsheets and legacy systems – can use enterprise performance to drive the direction of their GRC programmes\n\n\n\n\nGRC 20/20 Speaker\n\n\n\nMichael Rasmussen\n\n\n\nGRC 20/20 ResearchMichael Rasmussen – The GRC Pundit @ GRC 20/20 Research\, Michael Rasmussen is an internationally recognized pundit on governance\, risk management\, and compliance (GRC) – with specific expertise on the topics of GRC strategy\, process\, information\, and technology architectures and solutions. With 29+ years of experience\, Michael helps organizations improve GRC processes\, design and implement GRC architectures\, and select solutions that are effective\, efficient\, and agile. He is a sought-after keynote speaker\, author\, and advisor and is noted as the “Father of GRC” – being the first to define and model the GRC market in February 2002 while at Forrester Research\, Inc. \n\n\n\nWebinar Sponsor\n\n\n\n\n\n\n\nWith integrated solutions in risk\, strategy\, projects and people our business software will help you make the right decisions\, manage risks\, align the talents of your organisation\, and focus on what matters. With nearly 25 years of experience\, we have continually invested in ensuring our software supports organisations to achieve their goals. We have tens of thousands of users across five continents\, with offices in the UK\, North America\, Australia and Asia. We thrive on watching our clients achieve results and stay a step ahead. \nShare this:\n				Email a link to a friend (Opens in new window)\n				Email\n			\n				Print (Opens in new window)\n				Print\n			\n				Share on LinkedIn (Opens in new window)\n				LinkedIn\n			\n				Share on X (Opens in new window)\n				X\n			\n				Share on Facebook (Opens in new window)\n				Facebook
URL:https://www.grc2020.com/event/why-enterprise-performance-should-be-at-the-heart-of-grc/
CATEGORIES:Webinars
ATTACH;FMTTYPE=image/jpeg:https://www.grc2020.com/wp-content/uploads/2022/11/Rasmussen-Enterprise-performance-webinar-Social-Post.jpg
END:VEVENT
END:VCALENDAR