BEGIN:VCALENDAR
VERSION:2.0
PRODID:-//GRC 20/20 Research, LLC - ECPv6.15.20//NONSGML v1.0//EN
CALSCALE:GREGORIAN
METHOD:PUBLISH
X-WR-CALNAME:GRC 20/20 Research, LLC
X-ORIGINAL-URL:https://www.grc2020.com
X-WR-CALDESC:Events for GRC 20/20 Research, LLC
REFRESH-INTERVAL;VALUE=DURATION:PT1H
X-Robots-Tag:noindex
X-PUBLISHED-TTL:PT1H
BEGIN:VTIMEZONE
TZID:America/New_York
BEGIN:DAYLIGHT
TZOFFSETFROM:-0500
TZOFFSETTO:-0400
TZNAME:EDT
DTSTART:20220313T070000
END:DAYLIGHT
BEGIN:STANDARD
TZOFFSETFROM:-0400
TZOFFSETTO:-0500
TZNAME:EST
DTSTART:20221106T060000
END:STANDARD
BEGIN:DAYLIGHT
TZOFFSETFROM:-0500
TZOFFSETTO:-0400
TZNAME:EDT
DTSTART:20230312T070000
END:DAYLIGHT
BEGIN:STANDARD
TZOFFSETFROM:-0400
TZOFFSETTO:-0500
TZNAME:EST
DTSTART:20231105T060000
END:STANDARD
BEGIN:DAYLIGHT
TZOFFSETFROM:-0500
TZOFFSETTO:-0400
TZNAME:EDT
DTSTART:20240310T070000
END:DAYLIGHT
BEGIN:STANDARD
TZOFFSETFROM:-0400
TZOFFSETTO:-0500
TZNAME:EST
DTSTART:20241103T060000
END:STANDARD
END:VTIMEZONE
BEGIN:VTIMEZONE
TZID:Europe/London
BEGIN:DAYLIGHT
TZOFFSETFROM:+0000
TZOFFSETTO:+0100
TZNAME:BST
DTSTART:20210328T010000
END:DAYLIGHT
BEGIN:STANDARD
TZOFFSETFROM:+0100
TZOFFSETTO:+0000
TZNAME:GMT
DTSTART:20211031T010000
END:STANDARD
BEGIN:DAYLIGHT
TZOFFSETFROM:+0000
TZOFFSETTO:+0100
TZNAME:BST
DTSTART:20220327T010000
END:DAYLIGHT
BEGIN:STANDARD
TZOFFSETFROM:+0100
TZOFFSETTO:+0000
TZNAME:GMT
DTSTART:20221030T010000
END:STANDARD
BEGIN:DAYLIGHT
TZOFFSETFROM:+0000
TZOFFSETTO:+0100
TZNAME:BST
DTSTART:20230326T010000
END:DAYLIGHT
BEGIN:STANDARD
TZOFFSETFROM:+0100
TZOFFSETTO:+0000
TZNAME:GMT
DTSTART:20231029T010000
END:STANDARD
END:VTIMEZONE
BEGIN:VEVENT
DTSTART;TZID=America/New_York:20230117T110000
DTEND;TZID=America/New_York:20230117T120000
DTSTAMP:20260424T063807
CREATED:20230106T013845Z
LAST-MODIFIED:20230106T013946Z
UID:10002433-1673953200-1673956800@www.grc2020.com
SUMMARY:2023 GRC Strategies to Accelerate Risk\, Compliance\, and Audit Programs
DESCRIPTION:REGISTER\n\n\n\n\nYour risk and compliance environment changes constantly. After several years of pandemic and supply chain risks dominating the headlines\, we now see geopolitical\, climate\, economic\, operational\, and security risks as top business priorities. The programs you’ve relied on may not be enough for this newly dynamic risk and compliance world. This webinar focuses on new approaches to GRC that will improve your programs – in 2023 and beyond \n\n\n\nJoin the GRC Pundit Michael Rasmussen and MetricStream’s Loren Johnson and Pat McParland to discuss the latest trends in the GRC market as we head into another year full of new demands and opportunities.  \n\n\n\nOur expert panel will discuss how to leverage GRC for: \n\n\n\n\nDelivering competitive advantage for you in 2023\n\n\n\nResponding to operational resiliency requirements\n\n\n\nMeeting and exceeding emerging cyber risk demands in a digitally transforming world\n\n\n\nBuilding strength in your ESG program\n\n\n\n\nSee what 2023 holds for you – and get a jump on your GRC programs with an informed perspective. \n\n\n\nWe look forward to welcoming you to this interactive session. Register today – there is no charge for this session but space is limited! \n\n\n\nPlease bring your questions! We look forward to an informative\, engaging\, and interactive session. \n\n\n\nGRC 20/20 Speaker\n\n\n\nMichael Rasmussen\n\n\n\nGRC 20/20 ResearchMichael Rasmussen – The GRC Pundit @ GRC 20/20 Research\, Michael Rasmussen is an internationally recognized pundit on governance\, risk management\, and compliance (GRC) – with specific expertise on the topics of GRC strategy\, process\, information\, and technology architectures and solutions. With 30+ years of experience\, Michael helps organizations improve GRC processes\, design and implement GRC architectures and select solutions that are effective\, efficient\, and agile. He is a sought-after keynote speaker\, author\, and advisor and is noted as the “Father of GRC” – being the first to define and model the GRC market in February 2002 while at Forrester Research\, Inc. \n\n\n\nWebinar Sponsor\n\n\n\n\n\n\n\nMetricStream is a global SaaS leader of GRC solutions that empowers organizations to thrive on risk by accelerating growth via risk-aware decisions. They connect governance\, risk management and compliance across the extended enterprise.  \n\n\n\nTheir ConnectedGRC and three product lines – BusinessGRC\, CyberGRC\, and ESGRC – are based on a single\, scalable platform that supports you wherever you are on your GRC journey. MetricStream is headquartered in San Jose\, California\, with an operations and R&D center in Bangalore\, India\, and sales and operations support around the globe. More information is available at www.metricstream.com. \nShare this:\n				Email a link to a friend (Opens in new window)\n				Email\n			\n				Print (Opens in new window)\n				Print\n			\n				Share on LinkedIn (Opens in new window)\n				LinkedIn\n			\n				Share on X (Opens in new window)\n				X\n			\n				Share on Facebook (Opens in new window)\n				Facebook
URL:https://www.grc2020.com/event/2023-grc-strategies-to-accelerate-risk-compliance-and-audit-programs/
CATEGORIES:Webinars
ATTACH;FMTTYPE=image/png:https://www.grc2020.com/wp-content/uploads/2023/01/MS_2023-Trends-Webinar_V1.png
END:VEVENT
BEGIN:VEVENT
DTSTART;TZID=Europe/London:20221214T150000
DTEND;TZID=Europe/London:20221214T160000
DTSTAMP:20260424T063807
CREATED:20221116T135536Z
LAST-MODIFIED:20221117T110925Z
UID:10002424-1671030000-1671033600@www.grc2020.com
SUMMARY:Why Enterprise Performance should be at the Heart of GRC
DESCRIPTION:REGISTER\n\n\n\n\nToo often GRC is managed by siloed departments without considering overall enterprise performance as a key driver. In this webinar we want to flip GRC on its head as we discuss why enterprise performance and strategic objectives should be the driving force behind your GRC programme. \n\n\n\nJoin Camms as we speak to renowned thought leader and GRC pundit Michael Rasmussen\, as he explains: \n\n\n\n\nHow organisations create a blinkered view of GRC by focusing on mandatory compliance and risk requirements.\n\n\n\nThe steps organisations should take to evolve a siloed GRC approach to one that considers enterprise performance objectives\n\n\n\nWhat an enterprise performance led GRC framework looks like\n\n\n\nHow small organisations – that are still using spreadsheets and legacy systems – can use enterprise performance to drive the direction of their GRC programmes\n\n\n\n\nGRC 20/20 Speaker\n\n\n\nMichael Rasmussen\n\n\n\nGRC 20/20 ResearchMichael Rasmussen – The GRC Pundit @ GRC 20/20 Research\, Michael Rasmussen is an internationally recognized pundit on governance\, risk management\, and compliance (GRC) – with specific expertise on the topics of GRC strategy\, process\, information\, and technology architectures and solutions. With 29+ years of experience\, Michael helps organizations improve GRC processes\, design and implement GRC architectures\, and select solutions that are effective\, efficient\, and agile. He is a sought-after keynote speaker\, author\, and advisor and is noted as the “Father of GRC” – being the first to define and model the GRC market in February 2002 while at Forrester Research\, Inc. \n\n\n\nWebinar Sponsor\n\n\n\n\n\n\n\nWith integrated solutions in risk\, strategy\, projects and people our business software will help you make the right decisions\, manage risks\, align the talents of your organisation\, and focus on what matters. With nearly 25 years of experience\, we have continually invested in ensuring our software supports organisations to achieve their goals. We have tens of thousands of users across five continents\, with offices in the UK\, North America\, Australia and Asia. We thrive on watching our clients achieve results and stay a step ahead. \nShare this:\n				Email a link to a friend (Opens in new window)\n				Email\n			\n				Print (Opens in new window)\n				Print\n			\n				Share on LinkedIn (Opens in new window)\n				LinkedIn\n			\n				Share on X (Opens in new window)\n				X\n			\n				Share on Facebook (Opens in new window)\n				Facebook
URL:https://www.grc2020.com/event/why-enterprise-performance-should-be-at-the-heart-of-grc/
CATEGORIES:Webinars
ATTACH;FMTTYPE=image/jpeg:https://www.grc2020.com/wp-content/uploads/2022/11/Rasmussen-Enterprise-performance-webinar-Social-Post.jpg
END:VEVENT
END:VCALENDAR