BEGIN:VCALENDAR
VERSION:2.0
PRODID:-//GRC 20/20 Research, LLC - ECPv6.15.20//NONSGML v1.0//EN
CALSCALE:GREGORIAN
METHOD:PUBLISH
X-ORIGINAL-URL:https://www.grc2020.com
X-WR-CALDESC:Events for GRC 20/20 Research, LLC
REFRESH-INTERVAL;VALUE=DURATION:PT1H
X-Robots-Tag:noindex
X-PUBLISHED-TTL:PT1H
BEGIN:VTIMEZONE
TZID:America/Chicago
BEGIN:DAYLIGHT
TZOFFSETFROM:-0600
TZOFFSETTO:-0500
TZNAME:CDT
DTSTART:20220313T080000
END:DAYLIGHT
BEGIN:STANDARD
TZOFFSETFROM:-0500
TZOFFSETTO:-0600
TZNAME:CST
DTSTART:20221106T070000
END:STANDARD
BEGIN:DAYLIGHT
TZOFFSETFROM:-0600
TZOFFSETTO:-0500
TZNAME:CDT
DTSTART:20230312T080000
END:DAYLIGHT
BEGIN:STANDARD
TZOFFSETFROM:-0500
TZOFFSETTO:-0600
TZNAME:CST
DTSTART:20231105T070000
END:STANDARD
BEGIN:DAYLIGHT
TZOFFSETFROM:-0600
TZOFFSETTO:-0500
TZNAME:CDT
DTSTART:20240310T080000
END:DAYLIGHT
BEGIN:STANDARD
TZOFFSETFROM:-0500
TZOFFSETTO:-0600
TZNAME:CST
DTSTART:20241103T070000
END:STANDARD
END:VTIMEZONE
BEGIN:VTIMEZONE
TZID:America/New_York
BEGIN:DAYLIGHT
TZOFFSETFROM:-0500
TZOFFSETTO:-0400
TZNAME:EDT
DTSTART:20220313T070000
END:DAYLIGHT
BEGIN:STANDARD
TZOFFSETFROM:-0400
TZOFFSETTO:-0500
TZNAME:EST
DTSTART:20221106T060000
END:STANDARD
BEGIN:DAYLIGHT
TZOFFSETFROM:-0500
TZOFFSETTO:-0400
TZNAME:EDT
DTSTART:20230312T070000
END:DAYLIGHT
BEGIN:STANDARD
TZOFFSETFROM:-0400
TZOFFSETTO:-0500
TZNAME:EST
DTSTART:20231105T060000
END:STANDARD
BEGIN:DAYLIGHT
TZOFFSETFROM:-0500
TZOFFSETTO:-0400
TZNAME:EDT
DTSTART:20240310T070000
END:DAYLIGHT
BEGIN:STANDARD
TZOFFSETFROM:-0400
TZOFFSETTO:-0500
TZNAME:EST
DTSTART:20241103T060000
END:STANDARD
END:VTIMEZONE
BEGIN:VTIMEZONE
TZID:Europe/London
BEGIN:DAYLIGHT
TZOFFSETFROM:+0000
TZOFFSETTO:+0100
TZNAME:BST
DTSTART:20220327T010000
END:DAYLIGHT
BEGIN:STANDARD
TZOFFSETFROM:+0100
TZOFFSETTO:+0000
TZNAME:GMT
DTSTART:20221030T010000
END:STANDARD
BEGIN:DAYLIGHT
TZOFFSETFROM:+0000
TZOFFSETTO:+0100
TZNAME:BST
DTSTART:20230326T010000
END:DAYLIGHT
BEGIN:STANDARD
TZOFFSETFROM:+0100
TZOFFSETTO:+0000
TZNAME:GMT
DTSTART:20231029T010000
END:STANDARD
BEGIN:DAYLIGHT
TZOFFSETFROM:+0000
TZOFFSETTO:+0100
TZNAME:BST
DTSTART:20240331T010000
END:DAYLIGHT
BEGIN:STANDARD
TZOFFSETFROM:+0100
TZOFFSETTO:+0000
TZNAME:GMT
DTSTART:20241027T010000
END:STANDARD
END:VTIMEZONE
BEGIN:VTIMEZONE
TZID:Australia/Sydney
BEGIN:STANDARD
TZOFFSETFROM:+1100
TZOFFSETTO:+1000
TZNAME:AEST
DTSTART:20220402T160000
END:STANDARD
BEGIN:DAYLIGHT
TZOFFSETFROM:+1000
TZOFFSETTO:+1100
TZNAME:AEDT
DTSTART:20221001T160000
END:DAYLIGHT
BEGIN:STANDARD
TZOFFSETFROM:+1100
TZOFFSETTO:+1000
TZNAME:AEST
DTSTART:20230401T160000
END:STANDARD
BEGIN:DAYLIGHT
TZOFFSETFROM:+1000
TZOFFSETTO:+1100
TZNAME:AEDT
DTSTART:20230930T160000
END:DAYLIGHT
BEGIN:STANDARD
TZOFFSETFROM:+1100
TZOFFSETTO:+1000
TZNAME:AEST
DTSTART:20240406T160000
END:STANDARD
BEGIN:DAYLIGHT
TZOFFSETFROM:+1000
TZOFFSETTO:+1100
TZNAME:AEDT
DTSTART:20241005T160000
END:DAYLIGHT
END:VTIMEZONE
BEGIN:VEVENT
DTSTART;TZID=America/Chicago:20230710T090000
DTEND;TZID=America/Chicago:20230710T110000
DTSTAMP:20260424T131917
CREATED:20230605T213324Z
LAST-MODIFIED:20230627T134808Z
UID:10002476-1688979600-1688986800@www.grc2020.com
SUMMARY:2023: How to Market & Sell ESG Solutions
DESCRIPTION:The ESG market is complicated and diverse. From broad requirements like the EU CSRD and now the EU CSDDD\, to very specific niche requirements. ESG is a fast moving market with a lot of momentum\, but also a lot of nuances.  \n\n\n\nMarketing and selling ESG-related solutions to organizations requires a detailed understanding of geographic differences\, industry views\, roles and departments\, and drivers and trends. Whether you are selling a broad ESG reporting platform or a very specific best-of-breed solution that solves focused needs in ESG\, your team must have a clear understanding of how to find and connect to prospects looking for solutions \n\n\n\nSolution providers fail to find and engage prospects because they do not know the details of the requirements and how to connect with buyers.  \n\n\n\nThis 2-hour GRC 20/20 Research Briefing aims at helping ESG solution and service providers improve their marketing and sales practices to better connect with and close deals. Attendees learn: \n\n\n\n\nDrivers and Trends. What are the latest drivers and trends in the ESG market.\n\n\n\nESG Regulatory Map. A map of regulatory obligations related to ESG and their requirements. \n\n\n\nIndustry Personas. What is critical and hot within industry segments.\n\n\n\nRole/Department Personas. What are the different roles/functions that buy ESG related solutions and what are their needs.\n\n\n\nWhere and How to Connect. What are the leading industry\, media\, events\, and trade associations connected to various roles.\n\n\n\n\nCost for this event is as follows: \n\n\n\n\nGRC Advisor Subscribers\n\nGRC Advisor Subscribers get access for all their employees as part of the subscription cost. You must be logged in under your account for the cost to be removed from your cart.\n\n\n\n\n\nIndividual Access to Event\n\nPre-Registration before live event is $245 which includes on-demand access to the recording.\n\n\n\nPost-Event Registration for access to the on-demand recording after the event is $295\, for those that do not pre-register.\n\n\n\n\n\nGroup Access to Event for All Employees\n\nPre-Registration before live event is $445 which includes on-demand access to the recording.\n\n\n\nPost-Event Registration for access to the on-demand recording after the event is $595\, for those that do not pre-register.\n\n\n\n\n\n\n\n\n\n\n\n\n\nShare this:\n				Email a link to a friend (Opens in new window)\n				Email\n			\n				Print (Opens in new window)\n				Print\n			\n				Share on LinkedIn (Opens in new window)\n				LinkedIn\n			\n				Share on X (Opens in new window)\n				X\n			\n				Share on Facebook (Opens in new window)\n				Facebook
URL:https://www.grc2020.com/event/2023-how-to-market-sell-esg-solutions/
CATEGORIES:Research Briefings
ATTACH;FMTTYPE=image/png:https://www.grc2020.com/wp-content/uploads/2023/06/2023-06-How-to-Market-Sell-ESG-Solutions-and-Services.png
END:VEVENT
BEGIN:VEVENT
DTSTART;TZID=America/New_York:20230711T100000
DTEND;TZID=America/New_York:20230711T110000
DTSTAMP:20260424T131917
CREATED:20230614T145628Z
LAST-MODIFIED:20230614T151930Z
UID:10002482-1689069600-1689073200@www.grc2020.com
SUMMARY:Navigating Complexity & Chaos:Approaching Regulatory RequirementsAcross Jurisdictions with Control Automation
DESCRIPTION:REGISTER\n\n\n\n\nThe physicist Fritjof Capra stated: “The more we study the major problems of our time\, the more we come to realize that they cannot be understood in isolation. They are systemic problems\, which means that they are interconnected and interdependent.” \n\n\n\nOrganizations operate across jurisdictions and face a global barrage of regulatory compliance that impacts their internal control environments. Managing compliance and initiatives as siloed compliance projects leads to gaps and redundancies and has a cost in inefficiency\, ineffectiveness\, and lack of agility. Today’s organization needs to approach control automation that maps and demonstrates compliance with the range of regulations an organization faces. \n\n\n\nAttendees of this webinar will learn: \n\n\n\n– Global perspectives on compliance and internal controls– Mapping regulatory requirements to common internal controls– Role of automation in driving internal control efficiency\, effectiveness\, resilience and agility \n\n\n\nGRC 20/20 Analyst will be presenting at the event . . . \n\n\n\nMichael Rasmussen\n\n\n\nGRC 20/20 ResearchMichael Rasmussen – The GRC Pundit @ GRC 20/20 Research\, Michael Rasmussen is an internationally recognized pundit on governance\, risk management\, and compliance (GRC) – with specific expertise on the topics of GRC strategy\, process\, information\, and technology architectures and solutions. With 30+ years of experience\, Michael helps organizations improve GRC processes\, design and implement GRC architectures and select solutions that are effective\, efficient\, and agile. He is a sought-after keynote speaker\, author\, and advisor and is noted as the “Father of GRC” – being the first to define and model the GRC market in February 2002 while at Forrester Research\, Inc. \n\n\n\nWebinar Host\n\n\n\n\n\n\n\nVOQUZ Labs is the leading provider of SAP License\, Authorization & Compliance Management add ons.Our Approach: we combine best-in-class SAP User Management solutions and a strong consultingexpertise. \n\n\n\n \nShare this:\n				Email a link to a friend (Opens in new window)\n				Email\n			\n				Print (Opens in new window)\n				Print\n			\n				Share on LinkedIn (Opens in new window)\n				LinkedIn\n			\n				Share on X (Opens in new window)\n				X\n			\n				Share on Facebook (Opens in new window)\n				Facebook
URL:https://www.grc2020.com/event/navigating-complexity-chaosapproaching-regulatory-requirementsacross-jurisdictions-with-control-automation/
CATEGORIES:Webinars
ATTACH;FMTTYPE=image/jpeg:https://www.grc2020.com/wp-content/uploads/2023/06/Event-Rasmussen-1-scaled.jpg
END:VEVENT
BEGIN:VEVENT
DTSTART;TZID=America/New_York:20230712T100000
DTEND;TZID=America/New_York:20230712T110000
DTSTAMP:20260424T131917
CREATED:20230613T154931Z
LAST-MODIFIED:20230613T154934Z
UID:10002480-1689156000-1689159600@www.grc2020.com
SUMMARY:Beyond Wishful Thinking: How to Create a Thriving Culture of Compliance
DESCRIPTION:REGISTER\n\n\n\n\nJoin MCO and Michael Rasmussen from GRC 20/20 for a webinar on growing and nurturing your firm’s culture of ethics and compliance. \n\n\n\nIt’s easy to talk about the need for a culture of compliance in theory\, but much harder to put it into practice in a way that’s pragmatic—and that can be evidenced to regulators. \n\n\n\nA focus on conduct and ethical culture isn’t just good for compliance. It’s good for business. Recent industry events including the FTX scandal and U.S. bank collapses have put into sharp focus the fact that addressing ethical breaches after they occur instead of taking a more proactive approach can have catastrophic consequences. \n\n\n\nJoin Michael Rasmussen from GRC 20/20 for a webinar on growing and nurturing your firm’s culture of ethics and compliance. Michael will offer practical guidance on how to execute\, including\, \n\n\n\n\nDriving awareness and understanding of ethical obligations across the organization\n\n\n\nDeveloping structure that embeds communication of obligations – and controls for when standards are breached\n\n\n\nDefining roles and obligations from the C-Suite to the front lines\n\n\n\nUnderstanding areas of focus for potential ethical missteps including personal trading\, gifts and entertainment\, outside business activities and more.\n\n\n\n\nGRC 20/20 Analyst will be presenting at the event . . . \n\n\n\nMichael Rasmussen\n\n\n\nGRC 20/20 ResearchMichael Rasmussen – The GRC Pundit @ GRC 20/20 Research\, Michael Rasmussen is an internationally recognized pundit on governance\, risk management\, and compliance (GRC) – with specific expertise on the topics of GRC strategy\, process\, information\, and technology architectures and solutions. With 30+ years of experience\, Michael helps organizations improve GRC processes\, design and implement GRC architectures and select solutions that are effective\, efficient\, and agile. He is a sought-after keynote speaker\, author\, and advisor and is noted as the “Father of GRC” – being the first to define and model the GRC market in February 2002 while at Forrester Research\, Inc. \n\n\n\nWebinar Host\n\n\n\n\n\n\n\nMCO provides compliance management software that enables companies around the world to reduce their risk of misconduct. The MyComplianceOffice platform lets compliance professionals demonstrate they are proactively managing the regulated activities of employees\, third-party vendors and other agents of the firm. Available as a unified suite or à la carte\, our easy-to-use and extensible SaaS-based solutions get clients up and running quickly and cost-efficiently. Find out more about our integrated conduct risk product suite: https://mco.mycomplianceoffice.com \n\n\n\n \nShare this:\n				Email a link to a friend (Opens in new window)\n				Email\n			\n				Print (Opens in new window)\n				Print\n			\n				Share on LinkedIn (Opens in new window)\n				LinkedIn\n			\n				Share on X (Opens in new window)\n				X\n			\n				Share on Facebook (Opens in new window)\n				Facebook
URL:https://www.grc2020.com/event/beyond-wishful-thinking-how-to-create-a-thriving-culture-of-compliance/
CATEGORIES:Webinars
ATTACH;FMTTYPE=image/jpeg:https://www.grc2020.com/wp-content/uploads/2023/06/Culture-of-compliance-photo-LinkedIn.jpg
END:VEVENT
BEGIN:VEVENT
DTSTART;TZID=America/New_York:20230713T090000
DTEND;TZID=America/New_York:20230713T100000
DTSTAMP:20260424T131917
CREATED:20230707T151931Z
LAST-MODIFIED:20230707T153745Z
UID:10002485-1689238800-1689242400@www.grc2020.com
SUMMARY:Designing GRC Programs to Manage Risk and Regulatory Requirements
DESCRIPTION:REGISTER\n\n\n\n\nAs the UK and Europe continue to grapple with an evolving regulatory landscape\, companies across industries are looking to navigate new and complex requirements. Join us for a webinar that delves into the latest trends and developments in UK SOX\, Consumer Duty\, ESG (including UK Modern Slavery and UK Bribery Act)\, FCA/BoE/PRA Operational Resilience\, German regulations\, UK SMCR\, and more. \n\n\n\nJoin the GRC Pundit Michael Rasmussen & Fabien Robichon from Zurich Insurance Company Ltd\, and MetricStream’s Harry Nota for this timely and informative webinar focused on the latest developments in UK and European risk and regulation\, where industry experts will share insights and strategies for staying on top of the changing regulatory landscape in the region.  \n\n\n\nWe’ll discuss key topics such as:  \n\n\n\n\nKey regulatory requirements and how to prepare for compliance \n\n\n\nBest practices for managing operational resilience in the face of changing regulatory expectations from the FCA\, BoE\, and PRA \n\n\n\nComplying with emerging EU regulations like the Corporate Sustainability Reporting Directive (CSRD) and Germany’s Corporate Supply Chain Due Diligence law\, and their implications \n\n\n\nDesigning a GRC Strategy to help manage risk and compliance with multiple regulatory requirements \n\n\n\n\nGRC 20/20 Speaker\n\n\n\nMichael Rasmussen\n\n\n\nGRC 20/20 ResearchMichael Rasmussen – The GRC Pundit @ GRC 20/20 Research\, Michael Rasmussen is an internationally recognized pundit on governance\, risk management\, and compliance (GRC) – with specific expertise on the topics of GRC strategy\, process\, information\, and technology architectures and solutions. With 30+ years of experience\, Michael helps organizations improve GRC processes\, design and implement GRC architectures and select solutions that are effective\, efficient\, and agile. He is a sought-after keynote speaker\, author\, and advisor and is noted as the “Father of GRC” – being the first to define and model the GRC market in February 2002 while at Forrester Research\, Inc. \n\n\n\nWebinar Host\n\n\n\n\n\n\n\nMetricStream is a global SaaS leader of GRC solutions that empowers organizations to thrive on risk by accelerating growth via risk-aware decisions. They connect governance\, risk management and compliance across the extended enterprise.  \n\n\n\nTheir ConnectedGRC and three product lines – BusinessGRC\, CyberGRC\, and ESGRC – are based on a single\, scalable platform that supports you wherever you are on your GRC journey. MetricStream is headquartered in San Jose\, California\, with an operations and R&D center in Bangalore\, India\, and sales and operations support around the globe. More information is available at www.metricstream.com. \nShare this:\n				Email a link to a friend (Opens in new window)\n				Email\n			\n				Print (Opens in new window)\n				Print\n			\n				Share on LinkedIn (Opens in new window)\n				LinkedIn\n			\n				Share on X (Opens in new window)\n				X\n			\n				Share on Facebook (Opens in new window)\n				Facebook
URL:https://www.grc2020.com/event/designing-grc-programs-to-manage-risk-and-regulatory-requirements/
CATEGORIES:Webinars
ATTACH;FMTTYPE=image/jpeg:https://www.grc2020.com/wp-content/uploads/2023/07/image001.jpg
END:VEVENT
BEGIN:VEVENT
DTSTART;TZID=Europe/London:20230718T000000
DTEND;TZID=Europe/London:20230718T235959
DTSTAMP:20260424T131917
CREATED:20230621T121054Z
LAST-MODIFIED:20230621T121058Z
UID:10002483-1689638400-1689724799@www.grc2020.com
SUMMARY:GRC: The Resilient & Responsible Enterprise
DESCRIPTION:REGISTER\n\n\n\n\nIn partnership with LexisNexis®\, join industry leaders to discuss the challenges and opportunities in building resilient and responsible organisations at Ansarada’s inaugural GRC event. This day-long occasion is designed to provide a platform for connections\, education\, and workshops focused on Operational Resilience and Environmental\, Social\, and Governance (ESG) practices. \n\n\n\nThe day will be divided into two main tracks:The Resilient Enterprise (10am-2:15pm) – This track will focus on Operational Resilience and GRC practices\, targeting Chief Risk Officers (CROs) and risk managers. Through informative sessions\, interactive discussions\, and case studies\, attendees will gain insights into building and maintaining operational resilience\, addressing regulatory challenges\, and effectively managing risks within their organisations. \n\n\n\nThe Responsible Enterprise (2:15pm-5:00pm) – This track will centre around ESG considerations\, aimed at non-executive directors and CEOs. Attendees will learn about the importance of ESG factors in driving sustainability\, social responsibility\, and long-term value creation. Expert speakers will share practical strategies and tools for integrating ESG practices into corporate governance and decision-making processes. \n\n\n\nOur Keynote speakers include: \n\n\n\n\nMichael Rasmussen\, GRC Analyst & Pundit – GRC 20/20\n\n\n\nSusan Bennett\, Founder & Executive Director – InfoGovANZ\n\n\n\nJustin Smith\, Chief Revenue & Marketing Officer – Ansarada\n\n\n\nRachel Riley\, Co-founder and Head of GRC/ESG – Ansarada\n\n\n\nPriyal Bhosale\, Head of Product – GRC/ESG – Ansarada\n\n\n\n\nRegister now to secure your spot!  \n\n\n\nThis is a full day event with morning tea\, lunch\, and afternoon tea included. Please only register if you can attend in-person.  \n\n\n\nLOCATION \n\n\n\nThe Apartment\, Hoxton Hotel199-206 High HolbornLondon WC1V 7BD  \n\n\n\nDATE & TIME \n\n\n\nTuesday 18th July 20238:30 AM – 5:00 PM \n\n\n\nThe GRC 20/20 Speaker\n\n\n\nMichael Rasmussen\n\n\n\nGRC 20/20 ResearchMichael Rasmussen – The GRC Pundit @ GRC 20/20 Research\, Michael Rasmussen is an internationally recognized pundit on governance\, risk management\, and compliance (GRC) – with specific expertise on the topics of GRC strategy\, process\, information\, and technology architectures and solutions. With 30+ years of experience\, Michael helps organizations improve GRC processes\, design and implement GRC architectures and select solutions that are effective\, efficient\, and agile. He is a sought-after keynote speaker\, author\, and advisor and is noted as the “Father of GRC” – being the first to define and model the GRC market in February 2002 while at Forrester Research\, Inc. \n\n\n\nEvent Sponsor \n\n\n\n\n\n\n\nLexisNexis® is a leading global provider of legal\, regulatory and business information. With its advanced content\, it seamlessly integrates into Ansarada’s GRC platform\, empowering users with tailored regulatory updates\, efficient alerts\, and an extensive library of content. The LexisNexis Regulatory Compliance® content is at the core of Ansarada’s GRC platform\, enabling businesses to streamline compliance processes and stay ahead of regulatory changes. It features jargon-free registers that are aligned to business processes\, SourceData for comprehensive regulatory insights\, and a Community Portal for engaging with the broader compliance community. Thanks to the integration of LexisNexis into Ansarada’s GRC\, businesses can manage their regulatory obligations efficiently\, saving time\, money\, and offering peace of mind. \n\n\n\n\n\n\n\nWebinar Host\n\n\n\n\n\n\n\nWe bring order to organizational chaos. We’re in the business of creating long-term value for our customers – but we go about it a very different way to others. We believe that for businesses to prosper\, they must seek order amid the complexity of the world and the whirlwind of daily operations. Lack of order creates an environment ripe with misinformation\, disruption\, and lowers business’s resilience and accountability. The lifeblood of your business is in its critical processes. The way day to day operations are set up to run\, how information is distributed and secured\, and ultimately\, how decisions are made. Getting your governance processes right is key to your success. \nShare this:\n				Email a link to a friend (Opens in new window)\n				Email\n			\n				Print (Opens in new window)\n				Print\n			\n				Share on LinkedIn (Opens in new window)\n				LinkedIn\n			\n				Share on X (Opens in new window)\n				X\n			\n				Share on Facebook (Opens in new window)\n				Facebook
URL:https://www.grc2020.com/event/grc-the-resilient-responsible-enterprise/
CATEGORIES:Conferences
ATTACH;FMTTYPE=image/jpeg:https://www.grc2020.com/wp-content/uploads/2023/06/Screenshot-2023-06-21-at-1.06.06-PM-scaled.jpg
END:VEVENT
BEGIN:VEVENT
DTSTART;TZID=Australia/Sydney:20230726T110000
DTEND;TZID=Australia/Sydney:20230726T120000
DTSTAMP:20260424T131917
CREATED:20230621T121757Z
LAST-MODIFIED:20230622T093906Z
UID:10002484-1690369200-1690372800@www.grc2020.com
SUMMARY:How Transurban built its best-in-class compliance program
DESCRIPTION:REGISTER\n\n\n\n\nOrganisations today operate in a field of ethical\, social\, regulatory\, environmental\, and legal landmines. Oversight demands are changing the role of the compliance department to an active\, independent program that can manage and monitor compliance across the business. \n\n\n\nMultinational toll road operator Transurban Group – which builds\, develops\, and manages road infrastructure across Australia\, the United States\, and Canada – found that its legacy compliance system couldn’t meet its needs in this changing environment. \n\n\n\nTogether with Protecht\, Transurban has implemented a solution that meets their core needs – and gone beyond. Transurban’s implementation of Protecht ERM won the Best in Class Compliance & Ethics Management Award at the 2023 GRC 20/20 Awards. \n\n\n\nJoin this webinar for an introduction from GRC Pundit Michael Rasmussen setting the compliance landscape in context\, followed by a discussion between Michael and Transurban’s Tracie Heyward on Transurban’s needs and the system they built. Protecht’s Matthew Bayliss will join Michael and Tracie for a Q&A at the end of the session. \n\n\n\nThe webinar will run live in Asia-Pacific and will be available on demand from start of business Wednesday 26 July in other regions. If you are unable to attend the live session in Asia-Pacific\, the webinar will also be available on demand. We will send all registrants an email update including a link to the webinar recording on Wednesday 26 July. \n\n\n\nThe GRC 20/20 Speaker\n\n\n\nMichael Rasmussen\n\n\n\nGRC 20/20 ResearchMichael Rasmussen – The GRC Pundit @ GRC 20/20 Research\, Michael Rasmussen is an internationally recognized pundit on governance\, risk management\, and compliance (GRC) – with specific expertise on the topics of GRC strategy\, process\, information\, and technology architectures and solutions. With 30+ years of experience\, Michael helps organizations improve GRC processes\, design and implement GRC architectures and select solutions that are effective\, efficient\, and agile. He is a sought-after keynote speaker\, author\, and advisor and is noted as the “Father of GRC” – being the first to define and model the GRC market in February 2002 while at Forrester Research\, Inc. \n\n\n\nWebinar Sponsor\n\n\n\n\n\n\n\nProtecht is more than a software company\, we guide you through your risk management journey. The Protecht Group is a leader in Enterprise Risk Management Software and Services that enables organisations to achieve their strategic objectives through efficient\, effective and agile Risk Management. Since 1999\, we have delivered training\, advisory and software solutions that intensify the Risk Management focus and discipline of corporations and government departments alike. Protecht.ERM™\, Protecht’s flagship product\, has been deployed in a SaaS model since development commenced in 2002 and remains ahead of the curve on innovation and functionality. Used by government agencies\, regulators\, commercial and not-for-profit organisations of all sizes and risk maturity\, Protecht.ERM™ allows companies to seamlessly integrate risk management into their day-to-day activities and gain operating efficiencies through its flexible web-based forms\, workflow engine and highly adaptable reports and dashboards. \nShare this:\n				Email a link to a friend (Opens in new window)\n				Email\n			\n				Print (Opens in new window)\n				Print\n			\n				Share on LinkedIn (Opens in new window)\n				LinkedIn\n			\n				Share on X (Opens in new window)\n				X\n			\n				Share on Facebook (Opens in new window)\n				Facebook
URL:https://www.grc2020.com/event/how-transurban-built-its-best-in-class-compliance-program/
CATEGORIES:Webinars
ATTACH;FMTTYPE=image/jpeg:https://www.grc2020.com/wp-content/uploads/2023/06/transurban-grc-protecht-webinar-scaled-e1687426728460.jpg
END:VEVENT
BEGIN:VEVENT
DTSTART;TZID=America/New_York:20230726T130000
DTEND;TZID=America/New_York:20230726T140000
DTSTAMP:20260424T131917
CREATED:20230707T171842Z
LAST-MODIFIED:20230707T171845Z
UID:10002486-1690376400-1690380000@www.grc2020.com
SUMMARY:Finding the Balance: Regulatory Compliance and Stakeholder Expectations
DESCRIPTION:REGISTER\n\n\n\n\nRegister now for Aravo’s next LinkedIn Live focused on how TPRM programs in the Financial Services industry findbalance between the demands of regulatory compliance and meeting stakeholder expectations. Join MichaelRasmussen of GRC20/20 and our very own Senior Strategic Accounts Director\, Dan Gibson as they discuss the newInteragency Guidance on Third-Party Relationships: Risk Management\, and how to look beyond compliance to makeyour stakeholders happier\, and build a more resilient business. \n\n\n\nThe GRC 20/20 Speaker\n\n\n\nMichael Rasmussen\n\n\n\nGRC 20/20 ResearchMichael Rasmussen – The GRC Pundit @ GRC 20/20 Research\, Michael Rasmussen is an internationally recognized pundit on governance\, risk management\, and compliance (GRC) – with specific expertise on the topics of GRC strategy\, process\, information\, and technology architectures and solutions. With 30+ years of experience\, Michael helps organizations improve GRC processes\, design and implement GRC architectures and select solutions that are effective\, efficient\, and agile. He is a sought-after keynote speaker\, author\, and advisor and is noted as the “Father of GRC” – being the first to define and model the GRC market in February 2002 while at Forrester Research\, Inc. \n\n\n\nWebinar Host\n\n\n\n\n\n\n\nAravo delivers the market’s smartest third-party risk and resilience solutions\, powered by intelligent automation. For more than 20 years now\, Aravo’s combination of award-winning technology and unrivaled domain expertise has helped the world’s most respected brands accelerate and optimize their third-party management programs\, delivering better business outcomes faster and ensuring the agility to adapt as programs evolve. With solutions built on technology designed for usability\, agility\, and scale\, even the most complex organizations can keep pace with the high velocity of regulatory change. As a centralized system of record for all data related to third-party risk\, Aravo helps organizations achieve a complete view of their third-party ecosystem throughout the lifecycle of the relationship\, from intake through off-boarding and all stages in between and across all risk domains. Aravo is trusted by the world’s leading brands\, helping them manage their risk and improve the performance of more than 6 million third parties\, suppliers and vendors across the globe. \nShare this:\n				Email a link to a friend (Opens in new window)\n				Email\n			\n				Print (Opens in new window)\n				Print\n			\n				Share on LinkedIn (Opens in new window)\n				LinkedIn\n			\n				Share on X (Opens in new window)\n				X\n			\n				Share on Facebook (Opens in new window)\n				Facebook
URL:https://www.grc2020.com/event/finding-the-balance-regulatory-compliance-and-stakeholder-expectations/
CATEGORIES:Webinars
ATTACH;FMTTYPE=image/jpeg:https://www.grc2020.com/wp-content/uploads/2023/07/1688598454049.jpeg
END:VEVENT
END:VCALENDAR