BEGIN:VCALENDAR
VERSION:2.0
PRODID:-//GRC 20/20 Research, LLC - ECPv6.15.20//NONSGML v1.0//EN
CALSCALE:GREGORIAN
METHOD:PUBLISH
X-ORIGINAL-URL:https://www.grc2020.com
X-WR-CALDESC:Events for GRC 20/20 Research, LLC
REFRESH-INTERVAL;VALUE=DURATION:PT1H
X-Robots-Tag:noindex
X-PUBLISHED-TTL:PT1H
BEGIN:VTIMEZONE
TZID:Europe/London
BEGIN:DAYLIGHT
TZOFFSETFROM:+0000
TZOFFSETTO:+0100
TZNAME:BST
DTSTART:20220327T010000
END:DAYLIGHT
BEGIN:STANDARD
TZOFFSETFROM:+0100
TZOFFSETTO:+0000
TZNAME:GMT
DTSTART:20221030T010000
END:STANDARD
BEGIN:DAYLIGHT
TZOFFSETFROM:+0000
TZOFFSETTO:+0100
TZNAME:BST
DTSTART:20230326T010000
END:DAYLIGHT
BEGIN:STANDARD
TZOFFSETFROM:+0100
TZOFFSETTO:+0000
TZNAME:GMT
DTSTART:20231029T010000
END:STANDARD
BEGIN:DAYLIGHT
TZOFFSETFROM:+0000
TZOFFSETTO:+0100
TZNAME:BST
DTSTART:20240331T010000
END:DAYLIGHT
BEGIN:STANDARD
TZOFFSETFROM:+0100
TZOFFSETTO:+0000
TZNAME:GMT
DTSTART:20241027T010000
END:STANDARD
END:VTIMEZONE
BEGIN:VTIMEZONE
TZID:America/Chicago
BEGIN:DAYLIGHT
TZOFFSETFROM:-0600
TZOFFSETTO:-0500
TZNAME:CDT
DTSTART:20220313T080000
END:DAYLIGHT
BEGIN:STANDARD
TZOFFSETFROM:-0500
TZOFFSETTO:-0600
TZNAME:CST
DTSTART:20221106T070000
END:STANDARD
BEGIN:DAYLIGHT
TZOFFSETFROM:-0600
TZOFFSETTO:-0500
TZNAME:CDT
DTSTART:20230312T080000
END:DAYLIGHT
BEGIN:STANDARD
TZOFFSETFROM:-0500
TZOFFSETTO:-0600
TZNAME:CST
DTSTART:20231105T070000
END:STANDARD
BEGIN:DAYLIGHT
TZOFFSETFROM:-0600
TZOFFSETTO:-0500
TZNAME:CDT
DTSTART:20240310T080000
END:DAYLIGHT
BEGIN:STANDARD
TZOFFSETFROM:-0500
TZOFFSETTO:-0600
TZNAME:CST
DTSTART:20241103T070000
END:STANDARD
END:VTIMEZONE
BEGIN:VTIMEZONE
TZID:America/New_York
BEGIN:DAYLIGHT
TZOFFSETFROM:-0500
TZOFFSETTO:-0400
TZNAME:EDT
DTSTART:20220313T070000
END:DAYLIGHT
BEGIN:STANDARD
TZOFFSETFROM:-0400
TZOFFSETTO:-0500
TZNAME:EST
DTSTART:20221106T060000
END:STANDARD
BEGIN:DAYLIGHT
TZOFFSETFROM:-0500
TZOFFSETTO:-0400
TZNAME:EDT
DTSTART:20230312T070000
END:DAYLIGHT
BEGIN:STANDARD
TZOFFSETFROM:-0400
TZOFFSETTO:-0500
TZNAME:EST
DTSTART:20231105T060000
END:STANDARD
BEGIN:DAYLIGHT
TZOFFSETFROM:-0500
TZOFFSETTO:-0400
TZNAME:EDT
DTSTART:20240310T070000
END:DAYLIGHT
BEGIN:STANDARD
TZOFFSETFROM:-0400
TZOFFSETTO:-0500
TZNAME:EST
DTSTART:20241103T060000
END:STANDARD
END:VTIMEZONE
BEGIN:VEVENT
DTSTART;TZID=Europe/London:20231107T083000
DTEND;TZID=Europe/London:20231107T113000
DTSTAMP:20260424T074941
CREATED:20230919T203200Z
LAST-MODIFIED:20230920T114720Z
UID:10002512-1699345800-1699356600@www.grc2020.com
SUMMARY:Driving corporate governance: A view from the Audit Committee
DESCRIPTION:REGISTER\n\n\n\n\nAs the FRC digests feedback on its proposals to update the UK Corporate Governance Code\, including that from the ACCIF\, Diligent is pleased to invite you to an exclusive Breakfast Briefing on the evolving landscape of corporate governance and audit committee responsibilities. Tailored for those charged with delivering the changes\, this high-profile event at the Ivy in central London will bring together Audit Committee chairs and other thought leaders from the FTSE 100 and FTSE 250 to provide practical guidance and insight on the latest on UK audit and corporate governance reform. \n\n\n\nAgenda \n\n\n\n\n08.30 – 09.00 Registration & Networking\n\n\n\n09.00-09.15 Welcome from Diligent\n\n\n\n09.15-09.50 Panel Discussion\n\n\n\n09.50-10.00 Networking Break\n\n\n\n10.00-10.40 Panel Discussion continues\n\n\n\n10.45-11.30 Closing remarks & Product Show case\n\n\n\n\nWho Should Attend \n\n\n\n\nAudit Committee Chairs and Board members: As debate continues about the role of the Audit Committee and the scope of the proposed changes on internal control\, Audit Committee and Board members will gain insight into the latest updates on the reforms and the implications for Audit Committees in particular.\n\n\n\nFinance Directors and General Counsels : Executives with accountability for making the change happen will benefit from an understanding of the benefits and challenges of implementation – to optimise the cost and disruption of implementation.\n\n\n\nHead of Internal Audit\, Risk and Controls\, Company Secretaries and all those charged with delivering the change in practice: gain practical insights into how to smooth the path to a successful implementation.\n\n\n\n\nDon’t miss out on this exceptional opportunity to deepen your understanding of governance through an engaging panel discussion and interactive Q&A session. Join us at the Annual Governance Exchange\, where Audit Committee Chairs\, Executives and Heads of Internal Audit\, Risk and Control can come together to strengthen their organisations’ governance practices. Reserve your spot today! \n\n\n\nGRC 20/20 Analyst will be presenting at the event . . . \n\n\n\nMichael Rasmussen\n\n\n\nGRC 20/20 ResearchMichael Rasmussen – The GRC Pundit @ GRC 20/20 Research\, Michael Rasmussen is an internationally recognized pundit on governance\, risk management\, and compliance (GRC) – with specific expertise on the topics of GRC strategy\, process\, information\, and technology architectures and solutions. With 30+ years of experience\, Michael helps organizations improve GRC processes\, design and implement GRC architectures and select solutions that are effective\, efficient\, and agile. He is a sought-after keynote speaker\, author\, and advisor and is noted as the “Father of GRC” – being the first to define and model the GRC market in February 2002 while at Forrester Research\, Inc. \n\n\n\nin-person breakfast briefing host\n\n\n\n\n\n\n\nDiligent created the modern governance movement. As the leading governance\, risk and compliance (GRC) SaaS company\, we serve 1 million users from over 25\,000 customers around the globe. Our innovative platform gives leaders a connected view of governance\, risk\, compliance and ESG across their organization. Our world-changing idea is to empower leaders with the technology\, insights and connections they need to drive greater impact and accountability – to lead with purpose. Our employees are passionate\, smart\, and creative people who not only want to help build the software company of the future\, but who want to make the world a more sustainable\, equitable and better place. Headquartered in New York\, Diligent also has offices in Washington D.C.\, London\, Galway\, Budapest\, Vancouver\, Bengaluru\, Munich\, Singapore and Sydney. Learn more at diligent.com. \n\n\n\n \nShare this:\n				Email a link to a friend (Opens in new window)\n				Email\n			\n				Print (Opens in new window)\n				Print\n			\n				Share on LinkedIn (Opens in new window)\n				LinkedIn\n			\n				Share on X (Opens in new window)\n				X\n			\n				Share on Facebook (Opens in new window)\n				Facebook
URL:https://www.grc2020.com/event/driving-corporate-governance-a-view-from-the-audit-committee/
CATEGORIES:Conferences
ATTACH;FMTTYPE=image/png:https://www.grc2020.com/wp-content/uploads/2023/09/Screenshot-2023-09-19-at-3.27.15-PM.png
END:VEVENT
BEGIN:VEVENT
DTSTART;TZID=America/Chicago:20231107T120000
DTEND;TZID=America/Chicago:20231107T130000
DTSTAMP:20260424T074941
CREATED:20230921T133924Z
LAST-MODIFIED:20230921T134012Z
UID:10002516-1699358400-1699362000@www.grc2020.com
SUMMARY:Navigating the AI Landscape: Responsibility\, Risks\, and Compliance
DESCRIPTION:REGISTER\n\n\n\n\nJoin us for an insightful webinar addressing the most pressing concern in GRC: preparing for AI regulations.  \n\n\n\nDiscover how compliance professionals\, authorities\, and risk managers play a pivotal role in ensuring responsible AI use. Explore key frameworks like ISO\, EU AI Act\, and NIST\, gaining valuable insights on transparent\, secure\, and ethical AI adoption.  \n\n\n\nLearn how to navigate the evolving landscape of AI governance and compliance\, equipping your organization for a responsible and future-ready digital transformation.  \n\n\n\nGRC 20/20 Analyst will be presenting at the event . . . \n\n\n\nMichael Rasmussen\n\n\n\nGRC 20/20 ResearchMichael Rasmussen – The GRC Pundit @ GRC 20/20 Research\, Michael Rasmussen is an internationally recognized pundit on governance\, risk management\, and compliance (GRC) – with specific expertise on the topics of GRC strategy\, process\, information\, and technology architectures and solutions. With 30+ years of experience\, Michael helps organizations improve GRC processes\, design and implement GRC architectures and select solutions that are effective\, efficient\, and agile. He is a sought-after keynote speaker\, author\, and advisor and is noted as the “Father of GRC” – being the first to define and model the GRC market in February 2002 while at Forrester Research\, Inc. \n\n\n\nAbout Event Host . . .\n\n\n\n\n\n\n\nStandardFusion is a cloud-based SaaS GRC application designed to make security and compliance simple and approachable. Designed to allow organizations to quickly and easily manage their GRC program\, operational risk\, manage their organizations controls\, control testing and follow best practices. \n\n\n\n \nShare this:\n				Email a link to a friend (Opens in new window)\n				Email\n			\n				Print (Opens in new window)\n				Print\n			\n				Share on LinkedIn (Opens in new window)\n				LinkedIn\n			\n				Share on X (Opens in new window)\n				X\n			\n				Share on Facebook (Opens in new window)\n				Facebook
URL:https://www.grc2020.com/event/navigating-the-ai-landscape-responsibility-risks-and-compliance/
CATEGORIES:Webinars
ATTACH;FMTTYPE=image/png:https://www.grc2020.com/wp-content/uploads/2023/09/Screenshot-2023-09-21-at-8.34.26-AM.png
END:VEVENT
BEGIN:VEVENT
DTSTART;TZID=Europe/London:20231108T000000
DTEND;TZID=Europe/London:20231108T235959
DTSTAMP:20260424T074941
CREATED:20230905T195928Z
LAST-MODIFIED:20230905T195932Z
UID:10002509-1699401600-1699487999@www.grc2020.com
SUMMARY:Ideagen Frontier 2023
DESCRIPTION:REGISTER\n\n\n\n\nRedefining what matters in regulated industries\n\n\n\nFrontier is designed to bring clarity and confidence to the safe hands and trusted voices transforming risk into resilience. Connect with industry experts and discover the latest insight\, strategies and techniques in this virtual innovation summit. \n\n\n\nGain insight that will help you navigate the future of regulated industries\n\n\n\nThe business landscape has never been more complex. Supply chain disruption\, the battle for talent\, geopolitical instability and adoption of emerging technologies are testing our compliance and resilience. Join us at Frontier and discover how leading companies have successfully tackled their complex compliance challenges\, enabling them to expand their global presence. \n\n\n\nRegister now for Frontier and create a more resilient and agile business environment for you and your organization. \n\n\n\n\nPractical advice and foresight from industry experts.\n\n\n\nActionable insights from real-world success stories.\n\n\n\nStrategies for uncertainty in volatile times.\n\n\n\n\nGain insight on the areas that matter most – quality\, safety and resilience\n\n\n\nGRC 20/20 Analyst will be presenting at the event . . . \n\n\n\nMichael Rasmussen\n\n\n\nGRC 20/20 ResearchMichael Rasmussen – The GRC Pundit @ GRC 20/20 Research\, Michael Rasmussen is an internationally recognized pundit on governance\, risk management\, and compliance (GRC) – with specific expertise on the topics of GRC strategy\, process\, information\, and technology architectures and solutions. With 30+ years of experience\, Michael helps organizations improve GRC processes\, design and implement GRC architectures\, and select effective\, efficient\, and agile solutions. He is a sought-after keynote speaker\, author\, and advisor and is noted as the “Father of GRC” – being the first to define and model the GRC market in February 2002 while at Forrester Research\, Inc. \n\n\n\nConference Host\n\n\n\n\n\n\n\nIdeagen help the quiet voices and safe hands that protect organisations – a name trusted globally to deliver world-class\, innovative regulatory and compliance software. Our portfolio of solutions and services help solve complex quality\, risk\, audit and compliance challenges in highly regulated industries such as aviation\, financial services\, life sciences\, healthcare and manufacturing. Headquartered in Nottingham UK\, but with offices across the globe\, including the United States\, Australia and Malaysia\, we have more than 1000 engaged colleagues who\, through our values of ‘ambition’\, ‘adventure’ and ‘community’\, serve more than 10\,000 customers worldwide\, including 15 of the top 20 global pharmaceutical companies\, nine of the top ten UK accounting firms\, seven of the top global aerospace and defence companies and over 300 global aviation organisations. \nShare this:\n				Email a link to a friend (Opens in new window)\n				Email\n			\n				Print (Opens in new window)\n				Print\n			\n				Share on LinkedIn (Opens in new window)\n				LinkedIn\n			\n				Share on X (Opens in new window)\n				X\n			\n				Share on Facebook (Opens in new window)\n				Facebook
URL:https://www.grc2020.com/event/ideagen-frontier-2023/
CATEGORIES:Conferences
ATTACH;FMTTYPE=image/png:https://www.grc2020.com/wp-content/uploads/2023/09/Screenshot-2023-09-05-at-2.53.23-PM-e1693943736319.png
END:VEVENT
BEGIN:VEVENT
DTSTART;TZID=Europe/London:20231109T120000
DTEND;TZID=Europe/London:20231109T180000
DTSTAMP:20260424T074941
CREATED:20230920T120040Z
LAST-MODIFIED:20230920T161136Z
UID:10002514-1699531200-1699552800@www.grc2020.com
SUMMARY:Archer Accelerate 2023\, London
DESCRIPTION:REGISTER\n\n\n\n\nAre you ready to discover strategies and initiatives that can ignite\, advance\, and elevate endeavors within your organization. It’s time to rev your engines\, fasten your seat belts\, and join us on 9 November 2023 at Archer Accelerate London where innovation and driving risk management excellence takes center stage. \n\n\n\nAGENDA \n\n\n\n \n\n\n\n\n12:00 PM – 13:00 PM GMT: Registration & Lunch\n\n\n\n13:00 PM – 13:05 PM GMT: Welcome: Rev Your Engines\n\n\n\n13:05 PM – 13:15 PM GMT: Where Are You Going: The Road To The Chief Risk Officer\n\n\n\n13:15 PM – 13:45 PM GMT: Our Direction: Archer EMEA Business Update\n\n\n\n13:45 PM – 14:30 PM GMT: Archer Product Roadmap\n\n\n\n14:30 PM – 15:00 PM GMT: Pit Stop: Coffee Break\n\n\n\n15:00 PM – 15:30 PM GMT: Customer Success Story\n\n\n\n15:30 PM – 16:00 PM GMT: Customer Success Story\n\n\n\n16:00 PM – 16:30 PM GMT: Customer Success Story\n\n\n\n16:45 PM – 17:00 PM GMT: Pit Stop: Coffee Break\n\n\n\n17:00 PM – 17:45 PM GMT: Guest Speaker: Michael Rasmussen\n\n\n\n17:45 PM – 18:00 PM GMT: Closing Remarks\n\n\n\n18:00 PM GMT – Onward : Networking\, canapés and drinks\n\n\n\n\nGRC 20/20 Analyst will be presenting at the event . . . \n\n\n\nMichael Rasmussen\n\n\n\nGRC 20/20 ResearchMichael Rasmussen – The GRC Pundit @ GRC 20/20 Research\, Michael Rasmussen is an internationally recognized pundit on governance\, risk management\, and compliance (GRC) – with specific expertise on the topics of GRC strategy\, process\, information\, and technology architectures and solutions. With 30+ years of experience\, Michael helps organizations improve GRC processes\, design and implement GRC architectures and select solutions that are effective\, efficient\, and agile. He is a sought-after keynote speaker\, author\, and advisor and is noted as the “Father of GRC” – being the first to define and model the GRC market in February 2002 while at Forrester Research\, Inc. \n\n\n\nConference Host\n\n\n\n\n\n\n\nArcher empowers organizations to manage multiple dimensions of risk on one platform with on-premises and SaaS offerings\, and quickly implement industry-standard processes and best practices for advanced risk management maturity\, informed decision-making and enhanced business performance. Archer has been recognized as a Leader in the most recent Gartner Magic Quadrant reports for IT risk management\, IT vendor risk management tools and business continuity management program solutions\, worldwide. \nShare this:\n				Email a link to a friend (Opens in new window)\n				Email\n			\n				Print (Opens in new window)\n				Print\n			\n				Share on LinkedIn (Opens in new window)\n				LinkedIn\n			\n				Share on X (Opens in new window)\n				X\n			\n				Share on Facebook (Opens in new window)\n				Facebook
URL:https://www.grc2020.com/event/archer-accelerate-2023-london/
CATEGORIES:Conferences
ATTACH;FMTTYPE=image/jpeg:https://www.grc2020.com/wp-content/uploads/2023/09/1695217820020.jpeg
END:VEVENT
BEGIN:VEVENT
DTSTART;TZID=America/New_York:20231114T100000
DTEND;TZID=America/New_York:20231114T110000
DTSTAMP:20260424T074942
CREATED:20231031T130338Z
LAST-MODIFIED:20231031T130342Z
UID:10002527-1699956000-1699959600@www.grc2020.com
SUMMARY:GRC in 2024: Regulatory changes\, emerging risks\, and technology trends to expect
DESCRIPTION:REGISTER\n\n\n\n\nBest-in-Class organizations know that proper preparation prevents poor performance. They also understand that an effective governance\, risk management\, and compliance (GRC) program helps to achieve business\, financial\, and operational objectives. As we approach a new year\, it’s a good time to think about your GRC plans and strategies for 2024. \n\n\n\nTo drive success in 2024\, you must anticipate\, and prepare for\, regulatory developments\, emerging risks\, and technology trends. But where can you find insights on such a wide range of topics\, all in one place? \n\n\n\nWhat if you could benefit from the knowledge of GRC experts with a combined experience of over 50 years? \n\n\n\nJoin us for an exclusive webinar featuring Michael Rasmussen\, an internationally-recognized thought leader considered as the “father of GRC”; Daniel Garcia\, Risk Management Research Practice Lead at Verdantix\, a leading independent research firm with the distinction of combining expertise in Risk Management\, Environment\, Health & Safety (EHS)\, ESG & Sustainability\, Operational Excellence\, and Climate Risk; and Matt Eger\, a principal GRC expert at Wolters Kluwer Enablon. \n\n\n\nThe following topics will be explored: \n\n\n\n\nMain regulatory trends and emerging risks expected in 2024\n\n\n\nImpacts of ESG on GRC programs\n\n\n\nRisks\, opportunities\, and challenges associated with Artificial Intelligence\n\n\n\nKey attributes of GRC software that help to achieve corporate goals\n\n\n\n\nDate & Time: Tuesday\, November 14\, 2023  | 10:00am EST | 16:00 CET \n\n\n\nGRC 20/20’s Analyst Presenter . . . \n\n\n\nMichael Rasmussen\n\n\n\nGRC 20/20 ResearchMichael Rasmussen – The GRC Pundit @ GRC 20/20 Research\, Michael Rasmussen is an internationally recognized pundit on governance\, risk management\, and compliance (GRC) – with specific expertise on the topics of GRC strategy\, process\, information\, and technology architectures and solutions. With 30+ years of experience\, Michael helps organizations improve GRC processes\, design and implement GRC architectures\, and select solutions that are effective\, efficient\, and agile. He is a sought-after keynote speaker\, author\, and advisor and is noted as the “Father of GRC” – being the first to define and model the GRC market in February 2002 while at Forrester Research\, Inc. \n\n\n\nAbout the Webinar Host\n\n\n\n\n\n\n\nEnablon\, part of Wolters Kluwer’s Corporate Performance & ESG division\, is the world’s leading provider of integrated software solutions for Environment\, Health and Safety (EHS)\, Environmental\, Social and Governance (ESG) management\, Operational Excellence\, and Governance\, Risk and Compliance (GRC). The business helps create a better world by making organizations responsible\, productive\, and safe through innovative technology. Hundreds of industry-leading enterprises and millions of users worldwide rely on Enablon’s solutions to minimize risks\, increase worker safety\, prevent incidents from happening\, achieve regulatory compliance\, and reduce their environmental impact. Wolters Kluwer Enablon empowers leading organizations to make better decisions\, every single day. With Enablon’s award-winning solutions\, you can drive positive change from plant floor to corporate office. Boost your sustainability\, foster on-site safety\, and manage global risk with unprecedented ease. \n\n\n\n \nShare this:\n				Email a link to a friend (Opens in new window)\n				Email\n			\n				Print (Opens in new window)\n				Print\n			\n				Share on LinkedIn (Opens in new window)\n				LinkedIn\n			\n				Share on X (Opens in new window)\n				X\n			\n				Share on Facebook (Opens in new window)\n				Facebook
URL:https://www.grc2020.com/event/grc-in-2024-regulatory-changes-emerging-risks-and-technology-trends-to-expect/
CATEGORIES:Webinars
ATTACH;FMTTYPE=image/png:https://www.grc2020.com/wp-content/uploads/2023/10/Screenshot-2023-10-26-at-10.07.29 AM.png
END:VEVENT
BEGIN:VEVENT
DTSTART;TZID=America/New_York:20231116T100000
DTEND;TZID=America/New_York:20231116T110000
DTSTAMP:20260424T074942
CREATED:20231019T103036Z
LAST-MODIFIED:20231019T103040Z
UID:10002524-1700128800-1700132400@www.grc2020.com
SUMMARY:Guardians of Integrity: How Third-Party Risk Management and Anti-Bribery Defend Your Reputation
DESCRIPTION:REGISTER\n\n\n\n\nJoin this special Ethixbase360 webinar\, Guardians of Integrity: How Third-Party Risk Management and Anti-Bribery Defend Your Reputation\, featuring renowned industry expert\, Michael Rasmussen. \n\n\n\nJoin us as Michael delves into key areas of safeguarding reputation and integrity in the business world. Michael’s insights are backed by years of experience and expertise in compliance\, risk management\, and governance. \n\n\n\nAgenda: \n\n\n\n\nIntroduction: Safeguarding Reputation through Integrity\n\n\n\nUnderstanding Third-Party Risk Management\n\n\n\nAnti-Bribery Measures: Legal and Ethical Framework\n\n\n\nIntegrating Technology and Innovation for Enhanced Integrity\n\n\n\nSafeguarding Reputation: Building a Culture of Integrity\n\n\n\n\nDate: November 16\, 2023Time: 11am EST | 4pm GMT \n\n\n\nGain valuable insights and practical strategies from a leading authority in the field. Don’t miss out – register now to begin building integrity and a more resilient reputation through your third party risk strategy.  \n\n\n\nGRC 20/20 Analyst will be presenting at the event . . . \n\n\n\nMichael Rasmussen\n\n\n\nGRC 20/20 ResearchMichael Rasmussen – The GRC Pundit @ GRC 20/20 Research\, Michael Rasmussen is an internationally recognized pundit on governance\, risk management\, and compliance (GRC) – with specific expertise on the topics of GRC strategy\, process\, information\, and technology architectures and solutions. With 30+ years of experience\, Michael helps organizations improve GRC processes\, design and implement GRC architectures and select solutions that are effective\, efficient\, and agile. He is a sought-after keynote speaker\, author\, and advisor and is noted as the “Father of GRC” – being the first to define and model the GRC market in February 2002 while at Forrester Research\, Inc. \n\n\n\nAbout Event Host . . .\n\n\n\n\n\n\n\nEthixbase360 delivers market-leading technology to help companies identify\, manage\, and mitigate risks in their third-party network. The Ethixbase360 platform was designed to automate the identification of relevant risk indicators\, provide insights from the data collected\, and then create a positive impact for both its clients and their third parties with monitoring and training. Ethixbase360 acquired Tcompliance\, formerly known as TRACE Inc.\, in 2022 expanding its suite of risk-based due diligence solutions to offer a unique collaborative approach that reduces screening costs for companies. Combined\, the two companies have conducted over 600\,000 due diligence reviews in every non-sanctioned country and monitor more than 2 million third parties daily. Ethixbase360’s solutions are aligned with the 10 principles of the United Nations Global Compact\, the world’s leading corporate sustainability framework. \n\n\n\n \nShare this:\n				Email a link to a friend (Opens in new window)\n				Email\n			\n				Print (Opens in new window)\n				Print\n			\n				Share on LinkedIn (Opens in new window)\n				LinkedIn\n			\n				Share on X (Opens in new window)\n				X\n			\n				Share on Facebook (Opens in new window)\n				Facebook
URL:https://www.grc2020.com/event/guardians-of-integrity-how-third-party-risk-management-and-anti-bribery-defend-your-reputation/
CATEGORIES:Webinars
ATTACH;FMTTYPE=image/jpeg:https://www.grc2020.com/wp-content/uploads/2023/10/1697709141040.jpeg
END:VEVENT
BEGIN:VEVENT
DTSTART;TZID=America/New_York:20231128T120000
DTEND;TZID=America/New_York:20231128T130000
DTSTAMP:20260424T074942
CREATED:20231031T132819Z
LAST-MODIFIED:20231031T132822Z
UID:10002525-1701172800-1701176400@www.grc2020.com
SUMMARY:Policy Management in Global Operation
DESCRIPTION:REGISTER\n\n\n\n\nJoin us to hear our expert educators on Policy Management discuss the challenges that are unique to global organizations. \n\n\n\nHighlights\n\n\n\n\nLearn about the challenges distributed organizations have in managing policies\n\n\n\nLearn about the policy management lifecycle and structure for distributed complex organizations\n\n\n\nIdentify pitfalls of failure in poor policy management and engagement in global business\n\n\n\nDetermine how technology automates and facilitates the policy management lifecycle in global business \n\n\n\n\nPolicy management in a domestic organization is challenging enough. You add global and distributed businesses operating across many jurisdictions in different cultures and languages; it can be a maze or a mess. Organizations must manage hundreds to thousands of policies as they map them to master policies and track different languages or jurisdictions/geographies. \n\n\n\nDistributed organizations need a well-defined strategy and process to inventory\, author\, manage\, monitor\, communicate\, engage\, measure\, maintain\, and retire policies. Doing this haphazardly leaves the organization in a cultural chaos plagued with issues. Doing this in manual processes with documents\, spreadsheets\, and emails will lead to the inevitability of failure. \n\n\n\nGRC 20/20 Speaker\n\n\n\nMichael Rasmussen\n\n\n\nGRC 20/20 ResearchMichael Rasmussen – The GRC Pundit @ GRC 20/20 Research\, Michael Rasmussen is an internationally recognized pundit on governance\, risk management\, and compliance (GRC) – with specific expertise on the topics of GRC strategy\, process\, information\, and technology architectures and solutions. With 30+ years of experience\, Michael helps organizations improve GRC processes\, design and implement GRC architectures and select solutions that are effective\, efficient\, and agile. He is a sought-after keynote speaker\, author\, and advisor and is noted as the “Father of GRC” – being the first to define and model the GRC market in February 2002 while at Forrester Research\, Inc. \n\n\n\nWebinar Sponsor\n\n\n\n\n\n\n\nDocTract revolutionizes how organizations leverage key documents through a dedicated cloud solution with advanced collaboration capabilities . Policy Management and Policy Distribution transform into true value added processes that directly enable organizations to collaborate\, deploy and secure key documents . DocTract understands the special requirements needed to process Policies\, Procedures and SOPs. Built-in capabilities assist throughout the process from collaborating on revisions to approval levels and electronic signatures. Upload it. Review it. Done. \n\n\n\nWebinar Host\n\n\n\n\n\n\n\nOCEG (formerly the Open Compliance and Ethics Group) is a global\, nonprofit think tank and community. We inform\, empower\, and help advance our 120\,000+ members on governance\, risk management\, and compliance (GRC). Independent of specific professions\, we provide resources\, education\, and certifications to drive leadership and strategy through the application of the OCEG GRC Capability Model™ and Principled Performance®. An OCEG differentiator\, Principled Performance enables the reliable achievement of objectives while addressing uncertainty and acting with integrity. Our members include c-suite\, executive\, management\, and other professionals from small and midsize businesses\, international corporations\, nonprofits\, and government agencies. Founded in 2002\, OCEG has locations around the globe. \nShare this:\n				Email a link to a friend (Opens in new window)\n				Email\n			\n				Print (Opens in new window)\n				Print\n			\n				Share on LinkedIn (Opens in new window)\n				LinkedIn\n			\n				Share on X (Opens in new window)\n				X\n			\n				Share on Facebook (Opens in new window)\n				Facebook
URL:https://www.grc2020.com/event/policy-management-in-global-operation/
CATEGORIES:Webinars
ATTACH;FMTTYPE=image/png:https://www.grc2020.com/wp-content/uploads/2023/10/Screenshot-2023-10-31-at-1.24.26 PM.png
END:VEVENT
END:VCALENDAR