BEGIN:VCALENDAR
VERSION:2.0
PRODID:-//GRC 20/20 Research, LLC - ECPv6.15.20//NONSGML v1.0//EN
CALSCALE:GREGORIAN
METHOD:PUBLISH
X-ORIGINAL-URL:https://www.grc2020.com
X-WR-CALDESC:Events for GRC 20/20 Research, LLC
REFRESH-INTERVAL;VALUE=DURATION:PT1H
X-Robots-Tag:noindex
X-PUBLISHED-TTL:PT1H
BEGIN:VTIMEZONE
TZID:Europe/London
BEGIN:DAYLIGHT
TZOFFSETFROM:+0000
TZOFFSETTO:+0100
TZNAME:BST
DTSTART:20220327T010000
END:DAYLIGHT
BEGIN:STANDARD
TZOFFSETFROM:+0100
TZOFFSETTO:+0000
TZNAME:GMT
DTSTART:20221030T010000
END:STANDARD
BEGIN:DAYLIGHT
TZOFFSETFROM:+0000
TZOFFSETTO:+0100
TZNAME:BST
DTSTART:20230326T010000
END:DAYLIGHT
BEGIN:STANDARD
TZOFFSETFROM:+0100
TZOFFSETTO:+0000
TZNAME:GMT
DTSTART:20231029T010000
END:STANDARD
BEGIN:DAYLIGHT
TZOFFSETFROM:+0000
TZOFFSETTO:+0100
TZNAME:BST
DTSTART:20240331T010000
END:DAYLIGHT
BEGIN:STANDARD
TZOFFSETFROM:+0100
TZOFFSETTO:+0000
TZNAME:GMT
DTSTART:20241027T010000
END:STANDARD
END:VTIMEZONE
BEGIN:VTIMEZONE
TZID:America/New_York
BEGIN:DAYLIGHT
TZOFFSETFROM:-0500
TZOFFSETTO:-0400
TZNAME:EDT
DTSTART:20220313T070000
END:DAYLIGHT
BEGIN:STANDARD
TZOFFSETFROM:-0400
TZOFFSETTO:-0500
TZNAME:EST
DTSTART:20221106T060000
END:STANDARD
BEGIN:DAYLIGHT
TZOFFSETFROM:-0500
TZOFFSETTO:-0400
TZNAME:EDT
DTSTART:20230312T070000
END:DAYLIGHT
BEGIN:STANDARD
TZOFFSETFROM:-0400
TZOFFSETTO:-0500
TZNAME:EST
DTSTART:20231105T060000
END:STANDARD
BEGIN:DAYLIGHT
TZOFFSETFROM:-0500
TZOFFSETTO:-0400
TZNAME:EDT
DTSTART:20240310T070000
END:DAYLIGHT
BEGIN:STANDARD
TZOFFSETFROM:-0400
TZOFFSETTO:-0500
TZNAME:EST
DTSTART:20241103T060000
END:STANDARD
END:VTIMEZONE
BEGIN:VEVENT
DTSTART;TZID=Europe/London:20231204T140000
DTEND;TZID=Europe/London:20231204T174500
DTSTAMP:20260424T063613
CREATED:20231031T125140Z
LAST-MODIFIED:20231031T125144Z
UID:10002529-1701698400-1701711900@www.grc2020.com
SUMMARY:GRC 2024: Navigating risks\, seizing opportunities 
DESCRIPTION:REGISTER\n\n\n\n\nAs 2024 draws ever closer\, risk and security professionals are facing another year of evolution in the world of GRC. Yet\, while 2024 will no doubt present challenges\, within these challenges lie untapped opportunities reserved for businesses committed to managing risk effectively.  \n\n\n\nAt this event\, renowned GRC expert Michael Rasmussen will explore the emerging risks on the horizon for 2024. But he will also explain how opportunity can be found in these risks – focusing specifically on the case of AI\, where advancement of technology presents both a compelling opportunity and considerable risk.  \n\n\n\nFollowing Michael’s insights\, SAP and Turnkey experts will host an interactive panel discussion\, which will provide a platform for open debate and allow attendees to pose questions directly to our panel guests.  \n\n\n\nLater\, delve into specific topics with sessions from Turnkey and SAP\, and conclude the day by networking with peers and enjoying refreshments during the networking session.   \n\n\n\n📅 When: Monday 4th December\, 14:00 GMT \n\n\n\n📍Where: SAP\, The Scalpel\, 52-54 Lime Street\, London EC3M 7AG  \n\n\n\nDon’t miss this opportunity to navigate risk and unlock the potential within the evolving GRC landscape of 2024. Spaces are very limited\, so register for free now to hold your place.  \n\n\n\nGRC 20/20 Analyst will be presenting at the event . . . \n\n\n\nMichael Rasmussen\n\n\n\nGRC 20/20 ResearchMichael Rasmussen – The GRC Pundit @ GRC 20/20 Research\, Michael Rasmussen is an internationally recognized pundit on governance\, risk management\, and compliance (GRC) – with specific expertise on the topics of GRC strategy\, process\, information\, and technology architectures and solutions. With 30+ years of experience\, Michael helps organizations improve GRC processes\, design and implement GRC architectures and select solutions that are effective\, efficient\, and agile. He is a sought-after keynote speaker\, author\, and advisor and is noted as the “Father of GRC” – being the first to define and model the GRC market in February 2002 while at Forrester Research\, Inc. \n\n\n\nConference Host\n\n\n\n\n\n\n\nTurnkey Consulting is the leading provider of Integrated Risk Management (IRM)\, Identity Access Management (IAM)\, and Cyber and Application Security. Built on nearly two decades of expertise\, we help leading organisations around the world to safeguard their critical business applications to ensure the associated risks are minimised and controlled. Our culture is built upon quality\, satisfaction\, and knowledge sharing to ensure that your company’s need is at the forefront of our offerings. We are a group of passionate individuals with a shared purpose to help the world’s leading companies act with integrity and embrace best practices for Risk Management\, Identity Management and Application & Cybersecurity. With headquarters in the UK\, we have established ourselves as a truly global organisation with offices in the UK\, France\, Germany\, Malaysia\, Singapore\, Australia and the US. \n\n\n\n\n\n\n\nAt SAP\, our purpose is to help the world run better and improve people’s lives. Our promise is to innovate to help our customers run at their best. SAP is committed to helping every customer become a best-run business. We engineer solutions to fuel innovation\, foster equality\, and spread opportunity across borders and cultures. Together\, with our customers and partners\, we can transform industries\, grow economies\, lift up societies\, and sustain our environment. \nShare this:\n				Email a link to a friend (Opens in new window)\n				Email\n			\n				Print (Opens in new window)\n				Print\n			\n				Share on LinkedIn (Opens in new window)\n				LinkedIn\n			\n				Share on X (Opens in new window)\n				X\n			\n				Share on Facebook (Opens in new window)\n				Facebook
URL:https://www.grc2020.com/event/grc-2024-navigating-risks-seizing-opportunities/
CATEGORIES:Conferences
ATTACH;FMTTYPE=image/png:https://www.grc2020.com/wp-content/uploads/2023/10/Screenshot-2023-10-31-at-12.47.25 PM.png
END:VEVENT
BEGIN:VEVENT
DTSTART;TZID=Europe/London:20231206T000000
DTEND;TZID=Europe/London:20231206T235959
DTSTAMP:20260424T063613
CREATED:20231031T112314Z
LAST-MODIFIED:20231031T112318Z
UID:10002528-1701820800-1701907199@www.grc2020.com
SUMMARY:ISACA Virtual Summit 2023
DESCRIPTION:REGISTER\n\n\n\n\nISACA Virtual Summit 2023: GRC Tools & Techniques for Evolving Business & Emerging Technology\n\n\n\n6 December 2023 | 10:00 am (ET) / 9:00 am (CT) / 7:00 am (PT) / 14:00 (UTC) \n\n\n\nThe digital transformation is accelerating and so is the rate of change in the business world. While technology is changing so are regulations across the globe. As a result\, technology and business risks are evolving rapidly because they are interconnected. As such\, both small and large enterprises must implement comprehensive governance\, risk and compliance tools and techniques to not only protect the organization\, but also identify opportunities to advance. This virtual summit will cover tools\, techniques and best practices that can be utilized immediately in this changing environment. \n\n\n\nAcquire 3 FREE CPE**Upon completion of the required amount of minutes per session. \n\n\n\nGRC 20/20 Analyst will be presenting at the event . . . \n\n\n\nMichael Rasmussen\n\n\n\nGRC 20/20 ResearchMichael Rasmussen – The GRC Pundit @ GRC 20/20 Research\, Michael Rasmussen is an internationally recognized pundit on governance\, risk management\, and compliance (GRC) – with specific expertise on the topics of GRC strategy\, process\, information\, and technology architectures and solutions. With 30+ years of experience\, Michael helps organizations improve GRC processes\, design and implement GRC architectures and select solutions that are effective\, efficient\, and agile. He is a sought-after keynote speaker\, author\, and advisor and is noted as the “Father of GRC” – being the first to define and model the GRC market in February 2002 while at Forrester Research\, Inc. \n\n\n\nConference Host\n\n\n\n\n\n\n\nA global association of nearly 170\,000 professionals in 188 countries\, ISACA® (www.isaca.org) helps business and IT leaders maximize value and manage risk related to information and technology. Founded in 1969\, the nonprofit\, independent ISACA is an advocate for professionals involved in information security\, assurance\, risk management and governance. These professionals rely on ISACA as the trusted source for information and technology knowledge\, community\, standards\, and certification. The association\, which has 225 chapters worldwide\, advances and validates business-critical skills and knowledge through the globally respected Certified Information Systems Auditor® (CISA®)\, Certified Information Security Manager® (CISM®)\, Certified in the Governance of Enterprise IT® (CGEIT®) and Certified in Risk and Information Systems Control™ (CRISC™) credentials. ISACA also developed and continually updates COBIT®\, a business framework that helps enterprises in all industries and geographies govern and manage their information and technology. \nShare this:\n				Email a link to a friend (Opens in new window)\n				Email\n			\n				Print (Opens in new window)\n				Print\n			\n				Share on LinkedIn (Opens in new window)\n				LinkedIn\n			\n				Share on X (Opens in new window)\n				X\n			\n				Share on Facebook (Opens in new window)\n				Facebook
URL:https://www.grc2020.com/event/isaca-virtual-summit-2023/
CATEGORIES:Conferences
ATTACH;FMTTYPE=image/png:https://www.grc2020.com/wp-content/uploads/2023/10/Screenshot-2023-10-31-at-10.50.06 AM-e1698751154485.png
END:VEVENT
BEGIN:VEVENT
DTSTART;TZID=Europe/London:20231206T093000
DTEND;TZID=Europe/London:20231206T163000
DTSTAMP:20260424T063613
CREATED:20231031T131432Z
LAST-MODIFIED:20231031T131712Z
UID:10002530-1701855000-1701880200@www.grc2020.com
SUMMARY:London Workshop: Third-Party Risk Management by Design
DESCRIPTION:REGISTER\n\n\n\n\nWhat you can expect\n\n\n\nIn this workshop\, participants will gain a holistic perspective on third-party management\, mastering both top-down and bottom-up strategies. We’ll delve into integrating third-party management seamlessly into your business strategy\, processes\, and operations\, ensuring a cohesive approach. You’ll explore diverse third-party management architecture models tailored to your organization’s unique needs\, enabling you to make informed decisions. Discover a range of assessment and monitoring techniques designed to safeguard your business effectively. We’ll guide you in developing a structured third-party information architecture that aligns seamlessly with your business operations\, enhancing efficiency. Moreover\, you’ll learn the art of clear and persuasive communication\, essential for gathering attestation and fostering strong partnerships across your entire organization. Join us to empower your business with comprehensive\, strategic third-party management skills. \n\n\n\nAgenda\n\n\n\n\nThird Party Management by Design\n\n\n\nThe Blueprint for Effective Third Party Management\n\n\n\nFrom onboarding to offboarding; managing third parties\n\n\n\nEnabling information and technology management of third party relationships\n\n\n\nThe strategic evolution of TPRM landscape\n\n\n\n\nObjectives: \n\n\n\nThe objective of this workshop is to leave attendees with the ability to effectively manage due diligence and third-party risk. Participants will gain a deep understanding of the challenges and pitfalls associated with managing third-party risk\, achieving success by capitalizing on these relationships while ensuring compliance. The workshop will facilitate ongoing monitoring of third-party partners\, helping attendees define a structured third-party management lifecycle for managing and monitoring relationships. \n\n\n\nOwnership and accountability for third-party management will be established\, ensuring process consistency and effective communication with partners on matters of risk and compliance. Attendees will also learn to track critical workflows and tasks internally and with third-party relationships. Furthermore\, the workshop will equip participants with the skills to deliver effective third-party governance and assurance to the board of directors\, regulators\, and stakeholders. Metrics will be monitored to establish the effectiveness of third-party management\, and attendees will become adept at identifying and resolving issues with third parties. \n\n\n\nThe workshop will also cover mapping third-party relationships to objectives\, risks\, controls\, issues\, and other GRC areas. \n\n\n\nDetailed Agenda\n\n\n\nPart 1: Third Party Management by Design\n\n\n\n\nWhy Third Party Management Matters\n\n\n\nThird Parties in Disarray: how organizations mismanage third parties\n\n\n\nThird Party Exposure: how mismanaged third parties expose the organization to risk\n\n\n\nCurrent drivers & trends pressuring organizations in third party management\n\n\n\nDifferent ways organizations approach third party management\n\n\n\nWhat Effective Third Party Management Achieves: third party management’s role in governance\, risk management\, and compliance\n\n\n\n\nPart 2: Third Party Governance\n\n\n\n\nBlueprint for Effective Third Party Management\n\n\n\nThird Party Governance Committee: bringing together the range of third party management roles and responsibilities in the organization\n\n\n\nThird Party Management Charter: defining a structure to govern third party relationships\n\n\n\nHow to Develop a Third Party Management Strategic Plan\n\n\n\n\nPart 3: Third Party Management Lifecycle\n\n\n\n\nManaging Third Parties from Onboard to Offboarding\n\n\n\nThird party identification & onboarding\n\n\n\nOngoing context monitoring\n\n\n\nThird party communications & attestations\n\n\n\nThird party monitoring & assessment\n\n\n\nThird party forms & approvals\n\n\n\nThird party metrics & reporting\n\n\n\nThird party re-evaluation and offboarding\n\n\n\n\nPart 4: Third Party Management Architecture\n\n\n\n\nEnabling Information & Technology Management of Third Party Relationships\n\n\n\nThird Party Management Information Architecture: Blueprint for Managing Third Party Content and Related Data\n\n\n\nTypes of third party management information and how it integrates into third party processes\n\n\n\nComponents and requirements for a third party information architecture\n\n\n\nThird Party Management Technology Architecture: Blueprint for Enabling Third Party Management Processes with Technology\n\n\n\nKinds of third party management technologies and what best serves the organization\n\n\n\nCapabilities and requirements of third party management platforms\n\n\n\nThird Party Management Business Case: Articulating the Value of Effective Third Party Management\n\n\n\nDefining a business case and value of third party management platforms\n\n\n\n\nGRC 20/20 Analyst will be facilitating this workshop . . . \n\n\n\nMichael Rasmussen\n\n\n\nGRC 20/20 ResearchMichael Rasmussen – The GRC Pundit @ GRC 20/20 Research\, Michael Rasmussen is an internationally recognized pundit on governance\, risk management\, and compliance (GRC) – with specific expertise on the topics of GRC strategy\, process\, information\, and technology architectures and solutions. With 30+ years of experience\, Michael helps organizations improve GRC processes\, design and implement GRC architectures and select solutions that are effective\, efficient\, and agile. He is a sought-after keynote speaker\, author\, and advisor and is noted as the “Father of GRC” – being the first to define and model the GRC market in February 2002 while at Forrester Research\, Inc. \n\n\n\nAbout Event Host . . .\n\n\n\n\n\n\n\nEthixbase360 delivers market-leading technology to help companies identify\, manage\, and mitigate risks in their third-party network. The Ethixbase360 platform was designed to automate the identification of relevant risk indicators\, provide insights from the data collected\, and then create a positive impact for both its clients and their third parties with monitoring and training. Ethixbase360 acquired Tcompliance\, formerly known as TRACE Inc.\, in 2022 expanding its suite of risk-based due diligence solutions to offer a unique collaborative approach that reduces screening costs for companies. Combined\, the two companies have conducted over 600\,000 due diligence reviews in every non-sanctioned country and monitor more than 2 million third parties daily. Ethixbase360’s solutions are aligned with the 10 principles of the United Nations Global Compact\, the world’s leading corporate sustainability framework. \n\n\n\n \n\n\n\n\n\n\n\n\n\n\nShare this:\n				Email a link to a friend (Opens in new window)\n				Email\n			\n				Print (Opens in new window)\n				Print\n			\n				Share on LinkedIn (Opens in new window)\n				LinkedIn\n			\n				Share on X (Opens in new window)\n				X\n			\n				Share on Facebook (Opens in new window)\n				Facebook
URL:https://www.grc2020.com/event/london-workshop-third-party-risk-management-by-design/
CATEGORIES:20/20 Workshops
ATTACH;FMTTYPE=image/png:https://www.grc2020.com/wp-content/uploads/2023/10/Screenshot-2023-10-31-at-1.05.26 PM-e1698757684272.png
END:VEVENT
BEGIN:VEVENT
DTSTART;TZID=America/New_York:20231206T110000
DTEND;TZID=America/New_York:20231206T120000
DTSTAMP:20260424T063613
CREATED:20231121T175814Z
LAST-MODIFIED:20231121T175821Z
UID:10002534-1701860400-1701864000@www.grc2020.com
SUMMARY:Enterprise Risk Management Trends for 2024
DESCRIPTION:REGISTER\n\n\n\n\nIn today’s rapidly evolving landscape\, organizations face an unprecedented array of risks that can significantly impact their operations\, reputation\, and bottom line. To navigate this complex terrain successfully\, it is essential to stay ahead of the curve when it comes to Enterprise Risk Management (ERM). Led by two top GRC analysts and thought leaders\, Renee Murphy and Michael Rasmussen\, this engaging and informative webinar will provide you with valuable insights and strategies to fortify your organization’s risk management practices for the year ahead. Key takeaways:  \n\n\n\n\nExplore emerging risk management trends for 2024\n\n\n\nUnderstand the importance of ERM in both the private and public sector\n\n\n\nLearn from real-world case studies and success stories\n\n\n\nGain actionable insights and strategies to enhance your organization’s risk resilience\n\n\n\n\nDon’t miss this opportunity to prepare your organization for the challenges and opportunities that lie ahead in 2024. Register today! \n\n\n\nGRC 20/20 Analyst will be presenting at the event . . . \n\n\n\nMichael Rasmussen\n\n\n\nGRC 20/20 ResearchMichael Rasmussen – The GRC Pundit @ GRC 20/20 Research\, Michael Rasmussen is an internationally recognized pundit on governance\, risk management\, and compliance (GRC) – with specific expertise on the topics of GRC strategy\, process\, information\, and technology architectures and solutions. With 30+ years of experience\, Michael helps organizations improve GRC processes\, design and implement GRC architectures and select solutions that are effective\, efficient\, and agile. He is a sought-after keynote speaker\, author\, and advisor and is noted as the “Father of GRC” – being the first to define and model the GRC market in February 2002 while at Forrester Research\, Inc. \n\n\n\nWebinar Hosts\n\n\n\n\n\n\n\nDiligent created the modern governance movement. As the leading governance\, risk and compliance (GRC) SaaS company\, we serve 1 million users from over 25\,000 customers around the globe. Our innovative platform gives leaders a connected view of governance\, risk\, compliance and ESG across their organization. Our world-changing idea is to empower leaders with the technology\, insights and connections they need to drive greater impact and accountability – to lead with purpose. Our employees are passionate\, smart\, and creative people who not only want to help build the software company of the future\, but who want to make the world a more sustainable\, equitable and better place. \nShare this:\n				Email a link to a friend (Opens in new window)\n				Email\n			\n				Print (Opens in new window)\n				Print\n			\n				Share on LinkedIn (Opens in new window)\n				LinkedIn\n			\n				Share on X (Opens in new window)\n				X\n			\n				Share on Facebook (Opens in new window)\n				Facebook
URL:https://www.grc2020.com/event/enterprise-risk-management-trends-for-2024/
CATEGORIES:Webinars
ATTACH;FMTTYPE=image/png:https://www.grc2020.com/wp-content/uploads/2023/11/Screenshot-2023-11-21-at-11.55.09 AM.png
END:VEVENT
BEGIN:VEVENT
DTSTART;TZID=America/New_York:20231213T110000
DTEND;TZID=America/New_York:20231213T120000
DTSTAMP:20260424T063613
CREATED:20231107T111746Z
LAST-MODIFIED:20231108T164158Z
UID:10002531-1702465200-1702468800@www.grc2020.com
SUMMARY:GRC 6.0 & Regulatory Intelligence: Truly Integrate Your Risk & Compliance into Your Business Operation 
DESCRIPTION:REGISTER\n\n\n\n\nToo often\, companies approach Governance\, Risk\, and Compliance (GRC) backward\, where compliance focuses more on the regulator audits rather than a truly integrated way of managing the business. GRC should be about performance\, objectives\, strategy\, and processes in which risk and compliance are managed in this context. To deliver on this requires full awareness and integration of GRC into the business and its processes. \n\n\n\nWith regulation requirements only going in one direction\, businesses must manage their operations in a GRC context. \n\n\n\nJoin: \n\n\n\n\nJon Darbyshire\, the original entrepreneur in the GRC space\, CEO of SmartSuite\, and founder of Archer Technologies\n\n\n\nMichael Rasmussen\, the renowned GRC pundit\n\n\n\nScott Jordan\, SoHo Dragon’s GRC practice lead\n\n\n\n\nFor an informative webinar about: \n\n\n\n\nGRC 6.0\, the next evolution of GRC\n\n\n\nA No-Code/Low-Code approach to building workflows to integrate GRC regulations into your business.\n\n\n\n\nIntended Audience:   Compliance / Audit / Risk / Security roles   \n\n\n\nGRC 20/20 Analyst will be presenting at the event . . . \n\n\n\nMichael Rasmussen\n\n\n\nGRC 20/20 ResearchMichael Rasmussen – The GRC Pundit @ GRC 20/20 Research\, Michael Rasmussen is an internationally recognized pundit on governance\, risk management\, and compliance (GRC) – with specific expertise on the topics of GRC strategy\, process\, information\, and technology architectures and solutions. With 30+ years of experience\, Michael helps organizations improve GRC processes\, design and implement GRC architectures and select solutions that are effective\, efficient\, and agile. He is a sought-after keynote speaker\, author\, and advisor and is noted as the “Father of GRC” – being the first to define and model the GRC market in February 2002 while at Forrester Research\, Inc. \n\n\n\nWebinar Hosts\n\n\n\n\n\n\n\nSmartSuite provides a collaborative Work Management platform that enables teams to plan\, track and manage workflows – whether it be a project\, an ongoing process\, or routine everyday tasks. SmartSuite helps coordinate people and work across all levels of an organization to ensure that team members have the information they need to accomplish the work that matters most. Team members can create the perfect workflow in minutes or choose from over 200 industry-leading templates that can be quickly tailored to their exact needs. From simple to complex and everything in between\, we have you covered! \n\n\n\n\n\n\n\nSoHo Dragon is a full-service Software Application Development company that focuses on portals\, document management\, collaboration\, business intelligence\, CRM tools\, cloud technology\, and data. Much of the work done for our clients are based in the Microsoft Application stack of business tools. In addition to providing our clients with project-based services\, SoHo Dragon Solutions also provides staff augmentation and direct placement services. \nShare this:\n				Email a link to a friend (Opens in new window)\n				Email\n			\n				Print (Opens in new window)\n				Print\n			\n				Share on LinkedIn (Opens in new window)\n				LinkedIn\n			\n				Share on X (Opens in new window)\n				X\n			\n				Share on Facebook (Opens in new window)\n				Facebook
URL:https://www.grc2020.com/event/grc-6-0-regulatory-intelligence-truly-integrate-your-risk-compliance-into-your-business-operation/
CATEGORIES:Webinars
ATTACH;FMTTYPE=image/png:https://www.grc2020.com/wp-content/uploads/2023/11/SmartSuite-SoHo-Event-banner-11-8-23.png
END:VEVENT
BEGIN:VEVENT
DTSTART;TZID=America/New_York:20231214T100000
DTEND;TZID=America/New_York:20231214T110000
DTSTAMP:20260424T063613
CREATED:20231121T175409Z
LAST-MODIFIED:20231121T175411Z
UID:10002533-1702548000-1702551600@www.grc2020.com
SUMMARY:Beyond the Buzz: A Practical Approach to Adopting (and Governing) AI within Your GRC Program
DESCRIPTION:REGISTER\n\n\n\n\nJoin us as our experts discuss the evolution of Artificial Intelligence within GRC and walk you through how to get ahead\, and stay ahead\, in the shifting landscape of AI-enabled compliance management. \n\n\n\nHighlights\n\n\n\n\nReview a snapshot of current global AI trends\, regulations\, and initiatives (designed to give you a better understanding of any gaps/violations of regulations that should be on your radar) \n\n\n\nLearn about GRC Relevant AI Capabilities\n\n\n\nLearn about peer-tested AI in GRC use cases that you can start applying within your organization today\n\n\n\nLearn best practices for aligning your AI use with organizational policy and future-proofing your AI governance strategy in 2024 and beyond \n\n\n\n\nAI is the talk of the town. But while the headlines follow tools like Chat GPT and Google Assistant\, few are focusing on its transformative capabilities within the governance\, risk\, and compliance sector. And while many technology partners are quick to point out the roadblocks\, risks\, and challenges of implementing AI\, even fewer are coming prepared with solutions and frameworks to help your organization mitigate its risks and capitalize on adoption. Until now. \n\n\n\nJoin Michael Rasmussen\, Claudia Howe\, and Stefan Feiler as they discuss the evolution of Artificial Intelligence within GRC. Our experts will walk you through how to get ahead and stay ahead in the shifting landscape of AI-enabled compliance management. \n\n\n\nGRC 20/20 Speaker\n\n\n\nMichael Rasmussen\n\n\n\nGRC 20/20 ResearchMichael Rasmussen – The GRC Pundit @ GRC 20/20 Research\, Michael Rasmussen is an internationally recognized pundit on governance\, risk management\, and compliance (GRC) – with specific expertise on the topics of GRC strategy\, process\, information\, and technology architectures and solutions. With 30+ years of experience\, Michael helps organizations improve GRC processes\, design and implement GRC architectures and select solutions that are effective\, efficient\, and agile. He is a sought-after keynote speaker\, author\, and advisor and is noted as the “Father of GRC” – being the first to define and model the GRC market in February 2002 while at Forrester Research\, Inc. \n\n\n\nWebinar Sponsor\n\n\n\n\n\n\n\nMitratech is a trusted\, global technology partner empowering corporate legal\, risk & compliance\, and HR professionals to maximize productivity\, control expense\, and mitigate risk by deepening operational alignment\, and increasing collaboration & visibility across their organization. With Mitratech’s proven portfolio of end-to-end solutions\, organizations worldwide are able to proactively identify and implement best practices and standardize processes across all lines of business to manage risk and ensure business continuity. Mitratech partners with more than 10\,000 companies worldwide\, from small nimble teams needing tech-enablement\, to the largest organizations in the world trying to centralize\, streamline and collaborate across their legal and risk functions. Mitratech’s user base spans more than 160 countries. \n\n\n\nWebinar Host\n\n\n\n\n\n\n\nOCEG (formerly the Open Compliance and Ethics Group) is a global\, nonprofit think tank and community. We inform\, empower\, and help advance our 120\,000+ members on governance\, risk management\, and compliance (GRC). Independent of specific professions\, we provide resources\, education\, and certifications to drive leadership and strategy through the application of the OCEG GRC Capability Model™ and Principled Performance®. An OCEG differentiator\, Principled Performance enables the reliable achievement of objectives while addressing uncertainty and acting with integrity. Our members include c-suite\, executive\, management\, and other professionals from small and midsize businesses\, international corporations\, nonprofits\, and government agencies. Founded in 2002\, OCEG has locations around the globe. \nShare this:\n				Email a link to a friend (Opens in new window)\n				Email\n			\n				Print (Opens in new window)\n				Print\n			\n				Share on LinkedIn (Opens in new window)\n				LinkedIn\n			\n				Share on X (Opens in new window)\n				X\n			\n				Share on Facebook (Opens in new window)\n				Facebook
URL:https://www.grc2020.com/event/beyond-the-buzz-a-practical-approach-to-adopting-and-governing-ai-within-your-grc-program/
CATEGORIES:Webinars
ATTACH;FMTTYPE=image/png:https://www.grc2020.com/wp-content/uploads/2023/11/Screenshot-2023-11-21-at-11.48.57 AM.png
END:VEVENT
END:VCALENDAR