BEGIN:VCALENDAR
VERSION:2.0
PRODID:-//GRC 20/20 Research, LLC - ECPv6.15.20//NONSGML v1.0//EN
CALSCALE:GREGORIAN
METHOD:PUBLISH
X-ORIGINAL-URL:https://www.grc2020.com
X-WR-CALDESC:Events for GRC 20/20 Research, LLC
REFRESH-INTERVAL;VALUE=DURATION:PT1H
X-Robots-Tag:noindex
X-PUBLISHED-TTL:PT1H
BEGIN:VTIMEZONE
TZID:America/Chicago
BEGIN:DAYLIGHT
TZOFFSETFROM:-0600
TZOFFSETTO:-0500
TZNAME:CDT
DTSTART:20230312T080000
END:DAYLIGHT
BEGIN:STANDARD
TZOFFSETFROM:-0500
TZOFFSETTO:-0600
TZNAME:CST
DTSTART:20231105T070000
END:STANDARD
BEGIN:DAYLIGHT
TZOFFSETFROM:-0600
TZOFFSETTO:-0500
TZNAME:CDT
DTSTART:20240310T080000
END:DAYLIGHT
BEGIN:STANDARD
TZOFFSETFROM:-0500
TZOFFSETTO:-0600
TZNAME:CST
DTSTART:20241103T070000
END:STANDARD
BEGIN:DAYLIGHT
TZOFFSETFROM:-0600
TZOFFSETTO:-0500
TZNAME:CDT
DTSTART:20250309T080000
END:DAYLIGHT
BEGIN:STANDARD
TZOFFSETFROM:-0500
TZOFFSETTO:-0600
TZNAME:CST
DTSTART:20251102T070000
END:STANDARD
END:VTIMEZONE
BEGIN:VTIMEZONE
TZID:America/New_York
BEGIN:DAYLIGHT
TZOFFSETFROM:-0500
TZOFFSETTO:-0400
TZNAME:EDT
DTSTART:20230312T070000
END:DAYLIGHT
BEGIN:STANDARD
TZOFFSETFROM:-0400
TZOFFSETTO:-0500
TZNAME:EST
DTSTART:20231105T060000
END:STANDARD
BEGIN:DAYLIGHT
TZOFFSETFROM:-0500
TZOFFSETTO:-0400
TZNAME:EDT
DTSTART:20240310T070000
END:DAYLIGHT
BEGIN:STANDARD
TZOFFSETFROM:-0400
TZOFFSETTO:-0500
TZNAME:EST
DTSTART:20241103T060000
END:STANDARD
BEGIN:DAYLIGHT
TZOFFSETFROM:-0500
TZOFFSETTO:-0400
TZNAME:EDT
DTSTART:20250309T070000
END:DAYLIGHT
BEGIN:STANDARD
TZOFFSETFROM:-0400
TZOFFSETTO:-0500
TZNAME:EST
DTSTART:20251102T060000
END:STANDARD
END:VTIMEZONE
BEGIN:VTIMEZONE
TZID:Asia/Riyadh
BEGIN:STANDARD
TZOFFSETFROM:+0300
TZOFFSETTO:+0300
TZNAME:+03
DTSTART:20230101T000000
END:STANDARD
END:VTIMEZONE
BEGIN:VTIMEZONE
TZID:Asia/Dubai
BEGIN:STANDARD
TZOFFSETFROM:+0400
TZOFFSETTO:+0400
TZNAME:+04
DTSTART:20230101T000000
END:STANDARD
END:VTIMEZONE
BEGIN:VEVENT
DTSTART;TZID=America/Chicago:20240116T100000
DTEND;TZID=America/Chicago:20240116T120000
DTSTAMP:20260424T051139
CREATED:20231122T143101Z
LAST-MODIFIED:20240122T174347Z
UID:10002535-1705399200-1705406400@www.grc2020.com
SUMMARY:2024 State of the GRC Market
DESCRIPTION:Drivers\, Trends\, Segmentation & Direction\n\n\n\nThe #GRC Market is complex\, with broad platforms and focused best-of-breed solutions solving specific problems and challenges. \n\n\n\nThere are 365 solution providers (not counting professional service firms) that GRC 20/20 Research\, LLC monitors in the market. Seventy-four can be classified as an Enterprise/Integrated GRC Platform that can cross departments and use cases; the rest are best-of-breed point solutions. Of these 365\, GRC 20/20 actively monitors 83 of them more deeply annually\, and the rest keeps abreast of and interacts with in briefings every two or three years. \n\n\n\nGRC 20/20 answers between 10 and 20 inquiry/research questions from organizations asking about and looking for solutions every week. So far\, this accounts for over 750 interactions in 2023. These come in via email\, text\, LinkedIn messages\, and more. Most are simple responses to questions; others go deeper. In 2023\, there were 53 RFPs that GRC 20/20 monitored around the world. Some deeply\, some from a distance. \n\n\n\nThe GRC Market is complex with a broad platforms and many focused best of breed solutions solving specific problems and challenges. It is a fast-moving market with a lot of momentum\, but also a lot of nuances and niches. \n\n\n\nJoin GRC 20/20 for this in-depth analysis of the GRC market and its segments in the upcoming 2024 State of the GRC Market Research Briefing . . . \n\n\n\n\nDiscover drivers and trends in GRC across solution segments\, industries\, geographies\, and roles/departments. \n\n\n\nIdentify the segments of the GRC Market and how they are defined.\n\n\n\nUnderstand the market for GRC related solutions and what to expect over the next few years.\n\n\n\n\nThis Market Perspective & Research Briefing: 2024 State of the GRC Market is a 2-hour detailed research briefing that covers the breadth and depth of the GRC market across its niches. It is broadcast live and then available on-demand. GRC Advisor subscription clients get full access to the live and recorded research briefing for all of their employees as part of their subscription. Others pay for individual or group access. This is $100 cheaper if registered for before the live broadcast date.  \n\n\n\nThis is ideal Research Briefing for any organization trying to understand and scope the breadth of GRC solutions in the market\, and is of particular value to GRC solution and service providers as well as venture and private equity firms investing in GRC related solutions.  \n\n\n\nNOTE: this research briefing will NOT be presenting market sizing and forecasting of individual GRC segments. \n\n\n\nThe outline for the 2024 GRC Market Overview is as follows: \n\n\n\n\nGRC – Definition & Scope\n\nGRC Definition\n\n\n\nHistory of GRC Technology\n\nGRC 1.0 – SOX Captivity of GRC\n\n\n\nGRC 2.0 – Enterprise GRC\n\n\n\nGRC 3.0 – GRC Architecture\n\n\n\nGRC 4.0 – Agile GRC (no-code/low-code)\n\n\n\nGRC 5.0 – Cognitive GRC\n\n\n\nGRC 6.0 – Business Integrated GRC\n\n\n\n\n\nGRC Market Segmentation\n\n\n\n\n\nMarket Drivers & Trends\n\nOverall GRC Market Drivers & Trends\n\n\n\nMarket Drivers & Trends by Industry\n\n\n\nMarket Drivers & Trends by Geography\n\n\n\nMarket Drivers & Trends by Role/Department\n\n\n\nMarket Drivers & Trends by Size of Organization\n\n\n\n\n\nGRC Market Segments (Definitions\, Sub-Segmentation\, Drivers & Trends)\n\nEnterprise GRC Platforms\n\n\n\nStrategy\, Performance & Objective Management\n\n\n\nRisk & Resilience Management\n\n\n\nCompliance\, Ethics & Obligation Management\n\n\n\nPolicy & Training Management\n\n\n\nInternal Control Management\, Monitoring & Automation\n\n\n\nIssue Reporting & Case Management\n\n\n\nESG Management & Reporting\n\n\n\nAudit Management\, Analytics & Assurance\n\n\n\nDomain Specific GRC Solutions\n\nIT GRC (IT Risk Management)\n\n\n\nThird-Party GRC (Third-Party Risk Management)\n\n\n\nFinance GRC\n\n\n\nHuman Resources GRC\n\n\n\nArtificial Intelligence GRC\n\n\n\nEnvironmental GRC\n\n\n\nHealth & Safety GRC\n\n\n\nQuality GRC\n\n\n\nLegal GRC\n\n\n\nPrivacy GRC\n\n\n\nIdentity GRC\n\n\n\n\n\n\n\nAnalysis of Inquiry & RFP Trends & Perspectives\n\n\n\n\nWHO SHOULD ATTEND\n\n\n\nThis Market Research Briefing of the GRC Market is designed for anyone interested in understanding the GRC market and its segments\, adoption and growth of GRC solutions\, market drivers and trends\, what companies are looking for\, and recent inquiries and RFP analysis. \n\n\n\nCOST\n\n\n\nCost for this event is as follows: \n\n\n\n\nGRC Advisor Subscribers\n\nGRC Advisor Subscribers get access for all their employees as part of the subscription cost. You must be logged in under your account for the cost to be removed from your cart.\n\n\n\n\n\nIndividual Access to Event\n\nPre-Registration before live event on January 8th is $495 which includes on-demand access to the recording.\n\n\n\nPost-Event Registration for access to the on-demand recording after March 15th is $595\, for those that do not pre-register.\n\n\n\n\n\nGroup Access to Event for All Employees\n\nPre-Registration before live event on January 8th is $895 which includes on-demand access to the recording.\n\n\n\nPost-Event Registration for access to the on-demand recording after March 1st is $995\, for those that do not pre-register.\n\n\n\n\n\n\n\n\n\n\n\n\n\nShare this:\n				Email a link to a friend (Opens in new window)\n				Email\n			\n				Print (Opens in new window)\n				Print\n			\n				Share on LinkedIn (Opens in new window)\n				LinkedIn\n			\n				Share on X (Opens in new window)\n				X\n			\n				Share on Facebook (Opens in new window)\n				Facebook
URL:https://www.grc2020.com/event/2024-state-of-the-grc-market/
CATEGORIES:Research Briefings
ATTACH;FMTTYPE=image/png:https://www.grc2020.com/wp-content/uploads/2023/11/2024-01-State-of-the-GRC-Market.png
END:VEVENT
BEGIN:VEVENT
DTSTART;TZID=America/Chicago:20240118T090000
DTEND;TZID=America/Chicago:20240118T100000
DTSTAMP:20260424T051139
CREATED:20231219T210935Z
LAST-MODIFIED:20240109T141013Z
UID:10002538-1705568400-1705572000@www.grc2020.com
SUMMARY:Integrated ESG Compliance and Risk Management
DESCRIPTION:REGISTER\n\n\n\n\nHow Laws Like CSRD/CS3D\, Germany’s LkSG\, Canada S-211 Can Help Build an Agile\, Resilient & Ethical Supply Chain\n\n\n\nThe time to act is now!\n\n\n\nIn the modern “extended enterprise”\, value chain relationships define your business – from risk to profit. That global landscape is replete with ‘permacrisis’ risks\, plus a wave of supply chain ESG regulations – like LkSG\, CSRD\, CS3D\, Canada’s “S-211 Modern Slavery act. Investors\, boards\, and C-Suite peers expect a proactive strategy to preempt regulatory – and underlying human rights and carbon risks deep in the value chain.To respond\, corporate risk\, compliance\, ESG/sustainability\, and CPOs all must collaborate to adopt a rigorous supply chain risk management framework to integrate agility\, resilience\, ESG\, and compliance/ethical risks. Join us to hear Michael Rasmussen of GRC 20/20 and Nicole Sherwin of EcoVadis combine decades of experience with 1000’s of global enterprise risk management and sustainable procurement programs\, to bring perspective on:  \n\n\n\n\nImperative to Act Now. Why organizations cannot wait to address third-party risk agility\, resilience\, and ESG in the extended enterprise.\n\n\n\nCohesive Third-Party Risk Framework. Organizations need a holistic and integrated strategy\, process\, and technology that integrates third-party risk intelligence to provide ongoing agile risk monitoring of the extended enterprise.\n\n\n\nAvoid Common Challenges & Pitfalls. Learn how organizations can define and implement a strategy and avoid mistakes while reducing risk exposure\, with an aim at providing greater performance and achieving objectives in third-party relationships.\n\n\n\nThe EcoVadis Perspective. Understand ‘best practices’ and some case studies on how EcoVadis has enabled its clients to achieve agile\, resilient\, ethical supply chains that reduce risk exposure to the organization.\n\n\n\n\nGRC 20/20 Speaker\n\n\n\nMichael Rasmussen\n\n\n\nGRC 20/20 ResearchMichael Rasmussen – The GRC Pundit @ GRC 20/20 Research\, Michael Rasmussen is an internationally recognized pundit on governance\, risk management\, and compliance (GRC) – with specific expertise on the topics of GRC strategy\, process\, information\, and technology architectures and solutions. With 30+ years of experience\, Michael helps organizations improve GRC processes\, design and implement GRC architectures\, and select solutions that are effective\, efficient\, and agile. He is a sought-after keynote speaker\, author\, and advisor and is noted as the “Father of GRC” – the first to define and model the GRC market in February 2002 while at Forrester Research\, Inc. \n\n\n\nWebinar Sponsor\n\n\n\n\n\n\n\nEcoVadis is a purpose-driven company whose mission is to provide the world’s most trusted business sustainability ratings. Businesses of all sizes rely on EcoVadis’ expert intelligence and evidence-based ratings to monitor and improve the sustainability performance of their business and trading partners. Its actionable scorecards\, benchmarks\, carbon action tools\, and insights guide an improvement journey for environmental\, social and ethical practices across 200 industry categories and 175 countries. Industry leaders such as Johnson & Johnson\, L’Oréal\, Unilever\, LVMH\, Bridgestone\, BASF and JPMorgan are among the 100\,000 businesses that collaborate with EcoVadis to drive resilience\, sustainable growth and positive impact worldwide. Discover what life at EcoVadis looks like: linkedin.com/showcase/life-at-ecovadis & check our latest job opportunities: ecovadis.com/careers. \n\n\n\n\nShare this:\n				Email a link to a friend (Opens in new window)\n				Email\n			\n				Print (Opens in new window)\n				Print\n			\n				Share on LinkedIn (Opens in new window)\n				LinkedIn\n			\n				Share on X (Opens in new window)\n				X\n			\n				Share on Facebook (Opens in new window)\n				Facebook
URL:https://www.grc2020.com/event/integrated-esg-compliance-and-risk-management/
CATEGORIES:Webinars
ATTACH;FMTTYPE=image/jpeg:https://www.grc2020.com/wp-content/uploads/2023/12/GRC20_20_Linkedin_B-16_9-1920x1080-ev.jpg
END:VEVENT
BEGIN:VEVENT
DTSTART;TZID=America/New_York:20240118T140000
DTEND;TZID=America/New_York:20240118T150000
DTSTAMP:20260424T051139
CREATED:20231220T210955Z
LAST-MODIFIED:20231220T211023Z
UID:10002539-1705586400-1705590000@www.grc2020.com
SUMMARY:The New Data Governance\, Risk & Compliance Imperative
DESCRIPTION:REGISTER\n\n\n\n\nJoin Archive360 and Michael Rasmussen as we discuss the new world of data governance. Stay ahead of the curve in 2024 and register now for this insightful webinar! \n\n\n\nIn the age of artificial intelligence\, data breaches\, and increasing data privacy and security regulations\, data governance\, risk\, and compliance (Data GRC) has become more vital than ever to an organization’s success.  \n\n\n\nAttendees of this webinar will learn:  \n\n\n\n\nThe risks associated with inaccessible\, poorly structured\, and improperly curated data \n\n\n\nA new paradigm for data governance \n\n\n\nCrucial components of an effective data governance program \n\n\n\nWhat it takes to succeed in the AI future \n\n\n\nHow Data GRC technology can deliver value \n\n\n\n\nGRC 20/20 Speaker\n\n\n\nMichael Rasmussen\n\n\n\nGRC 20/20 ResearchMichael Rasmussen – The GRC Pundit @ GRC 20/20 Research\, Michael Rasmussen is an internationally recognized pundit on governance\, risk management\, and compliance (GRC) – with specific expertise on the topics of GRC strategy\, process\, information\, and technology architectures and solutions. With 30+ years of experience\, Michael helps organizations improve GRC processes\, design and implement GRC architectures\, and select solutions that are effective\, efficient\, and agile. He is a sought-after keynote speaker\, author\, and advisor and is noted as the “Father of GRC” – the first to define and model the GRC market in February 2002 while at Forrester Research\, Inc. \n\n\n\nWebinar Sponsor\n\n\n\n\n\n\n\nArchive 360’s Unified Data Governance platform transforms how data is identified\, collected\, managed\, accessed and acted on. Businesses and government agencies worldwide rely on the security\, scalability and scope of our cloud-native platform to address their increasing data governance obligations across growing volumes of disparate data. Archive360 is a global organization that delivers its solutions both directly and through a worldwide network of partners. \n\n\n\n\nShare this:\n				Email a link to a friend (Opens in new window)\n				Email\n			\n				Print (Opens in new window)\n				Print\n			\n				Share on LinkedIn (Opens in new window)\n				LinkedIn\n			\n				Share on X (Opens in new window)\n				X\n			\n				Share on Facebook (Opens in new window)\n				Facebook
URL:https://www.grc2020.com/event/the-new-data-governance-risk-compliance-imperative/
CATEGORIES:Webinars
ATTACH;FMTTYPE=image/jpeg:https://www.grc2020.com/wp-content/uploads/2023/12/1703087647116.jpeg
END:VEVENT
BEGIN:VEVENT
DTSTART;TZID=Asia/Riyadh:20240124T000000
DTEND;TZID=Asia/Riyadh:20240125T235959
DTSTAMP:20260424T051139
CREATED:20231017T100302Z
LAST-MODIFIED:20231017T100310Z
UID:10002522-1706054400-1706227199@www.grc2020.com
SUMMARY:G[P]RC Summit 2024\, Riyadh\, KSA
DESCRIPTION:REGISTER\n\n\n\n\nStrategic Road to Business Resilience and Superior Performance in AI-powered Future\n\n\n\nThe G[P]RC Summit\, hosted by Corporater\, is the world’s largest summit on GPRC: GRC integrated with Performance and Strategy – bringing together C-level executives\, GRC experts\, and industry and academia professionals from across the world to share insights\, innovative solutions\, and best practices needed to drive organisational success and resilience in an increasingly complex and interconnected business environment. This year’s summit will be centered around the theme of “Strategic Road to Business Resilience and Superior Performance in AI-powered Future.” \n\n\n\nIn today’s ever-shifting business landscape\, organisations face a multitude of pressures\, ranging from regulatory complexities to disruptive market forces\, including new AI technologies. Regionally\, in GCC\, there is a paradigm shift where sustainability\, accountability\, and compliance move away from being mere marketing buzzwords and become embedded into the very core of organisational strategy. We are seeing this in the ambitious goals of Saudi Vision 2030 ensuring transparency\, accountability\, and effective risk management from organisations to realise the vision’s economic diversification\, social transformation\, and technological innovation goals. And in UAE\, hosting COP28 this year\, it is evident that sustainability is at the forefront of governments’ agendas as they incorporate ESG frameworks for future growth. The risk of non-compliance is simply too high\, both socially and financially and ensuring organisational resilience has never been more mission critical. \n\n\n\nTo navigate this terrain successfully\, it is imperative for businesses to not only ensure governance\, manage performance\, mitigate risks\, and uphold compliance\, but to also transform into a “connected enterprise.” A “connected enterprise” is a holistic approach to efficient and effective business management\, one where governance\, performance\, risk management\, and compliance are seamlessly integrated\, enabling strategic alignment\, digital transformation\, and data-driven decision-making. In a connected enterprise\, every aspect of the business\, from strategy to execution\, is connected and aligned\, fostering agility\, adaptability\, and business resilience. \n\n\n\nThe G[P]RC Summit 2024 will be a 2-day event featuring keynotes and panel discussions from distinguished regional and international speakers. The summit’s sessions will encompass diverse themes\, including governance best practices\, performance optimisation\, risk mitigation strategies\, and assurance of regulatory compliance. Attendees will gain valuable insights into the latest GPRC trends\, methodologies\, tools\, and innovations that empower organisations to stay prepared for challenges and opportunities of tomorrow.   \n\n\n\nJoin us at the G[P]RC Summit 2024 and embark on a transformative journey towards building a connected enterprise\, business resilience\, and superior performance in AI-powered future. \n\n\n\nGRC 20/20 Analyst will be presenting at the event . . . \n\n\n\nMichael Rasmussen\n\n\n\nGRC 20/20 ResearchMichael Rasmussen – The GRC Pundit @ GRC 20/20 Research\, Michael Rasmussen is an internationally recognized pundit on governance\, risk management\, and compliance (GRC) – with specific expertise on the topics of GRC strategy\, process\, information\, and technology architectures and solutions. With 30+ years of experience\, Michael helps organizations improve GRC processes\, design and implement GRC architectures and select solutions that are effective\, efficient\, and agile. He is a sought-after keynote speaker\, author\, and advisor and is noted as the “Father of GRC” – being the first to define and model the GRC market in February 2002 while at Forrester Research\, Inc. \n\n\n\nConference Host\n\n\n\n\n\n\n\nCorporater is a global software company that enables medium and large organizations worldwide to manage their business with integrated software solutions for governance\, performance\, risk\, and compliance (GPRC) built on a single platform. Corporater provides the world’s leading Business Management Platform which offers ‘One View\, One Platform’ for a holistic and complete overview of business. Our signature solutions include Integrated Risk Management\, Enterprise Risk Management\, Operational Risk Management\, Business Continuity Management\, Internal Audit Management\, Operational Resilience\, Regulatory and Organizational Compliance Management\, Data Privacy Management\, Project and Portfolio Management\, Performance Management\, Strategy Management\, and others. All Corporater solutions can be used straight out of the box as point solutions\, or in combination with other Corporater solutions to form a holistic GRC program. Corporater solutions are used by top organizations in various industries and functions\, including state and local government\, energy\, education\, banking and finance\, oil and gas\, shipping\, manufacturing\, healthcare\, communications\, technology\, logistics\, food and agriculture\, media\, and non-profit. Learn more at: www.corporater.com \nShare this:\n				Email a link to a friend (Opens in new window)\n				Email\n			\n				Print (Opens in new window)\n				Print\n			\n				Share on LinkedIn (Opens in new window)\n				LinkedIn\n			\n				Share on X (Opens in new window)\n				X\n			\n				Share on Facebook (Opens in new window)\n				Facebook
URL:https://www.grc2020.com/event/gprc-summit-2024-riyadh-ksa/
CATEGORIES:Conferences
ATTACH;FMTTYPE=image/png:https://www.grc2020.com/wp-content/uploads/2023/10/Screenshot-2023-10-17-at-10.58.23 AM.png
END:VEVENT
BEGIN:VEVENT
DTSTART;TZID=Asia/Dubai:20240129T000000
DTEND;TZID=Asia/Dubai:20240130T235959
DTSTAMP:20260424T051139
CREATED:20231017T100406Z
LAST-MODIFIED:20231017T100409Z
UID:10002523-1706486400-1706659199@www.grc2020.com
SUMMARY:G[P]RC Summit 2024\, Dubai\, UAE
DESCRIPTION:REGISTER\n\n\n\n\nStrategic Road to Business Resilience and Superior Performance in AI-powered Future\n\n\n\nThe G[P]RC Summit\, hosted by Corporater\, is the world’s largest summit on GPRC: GRC integrated with Performance and Strategy – bringing together C-level executives\, GRC experts\, and industry and academia professionals from across the world to share insights\, innovative solutions\, and best practices needed to drive organisational success and resilience in an increasingly complex and interconnected business environment. This year’s summit will be centered around the theme of “Strategic Road to Business Resilience and Superior Performance in AI-powered Future.” \n\n\n\nIn today’s ever-shifting business landscape\, organisations face a multitude of pressures\, ranging from regulatory complexities to disruptive market forces\, including new AI technologies. Regionally\, in GCC\, there is a paradigm shift where sustainability\, accountability\, and compliance move away from being mere marketing buzzwords and become embedded into the very core of organisational strategy. We are seeing this in the ambitious goals of Saudi Vision 2030 ensuring transparency\, accountability\, and effective risk management from organisations to realise the vision’s economic diversification\, social transformation\, and technological innovation goals. And in UAE\, hosting COP28 this year\, it is evident that sustainability is at the forefront of governments’ agendas as they incorporate ESG frameworks for future growth. The risk of non-compliance is simply too high\, both socially and financially and ensuring organisational resilience has never been more mission critical. \n\n\n\nTo navigate this terrain successfully\, it is imperative for businesses to not only ensure governance\, manage performance\, mitigate risks\, and uphold compliance\, but to also transform into a “connected enterprise.” A “connected enterprise” is a holistic approach to efficient and effective business management\, one where governance\, performance\, risk management\, and compliance are seamlessly integrated\, enabling strategic alignment\, digital transformation\, and data-driven decision-making. In a connected enterprise\, every aspect of the business\, from strategy to execution\, is connected and aligned\, fostering agility\, adaptability\, and business resilience. \n\n\n\nThe G[P]RC Summit 2024 will be a 2-day event featuring keynotes and panel discussions from distinguished regional and international speakers. The summit’s sessions will encompass diverse themes\, including governance best practices\, performance optimisation\, risk mitigation strategies\, and assurance of regulatory compliance. Attendees will gain valuable insights into the latest GPRC trends\, methodologies\, tools\, and innovations that empower organisations to stay prepared for challenges and opportunities of tomorrow.   \n\n\n\nJoin us at the G[P]RC Summit 2024 and embark on a transformative journey towards building a connected enterprise\, business resilience\, and superior performance in AI-powered future. \n\n\n\nGRC 20/20 Analyst will be presenting at the event . . . \n\n\n\nMichael Rasmussen\n\n\n\nGRC 20/20 ResearchMichael Rasmussen – The GRC Pundit @ GRC 20/20 Research\, Michael Rasmussen is an internationally recognized pundit on governance\, risk management\, and compliance (GRC) – with specific expertise on the topics of GRC strategy\, process\, information\, and technology architectures and solutions. With 30+ years of experience\, Michael helps organizations improve GRC processes\, design and implement GRC architectures and select solutions that are effective\, efficient\, and agile. He is a sought-after keynote speaker\, author\, and advisor and is noted as the “Father of GRC” – being the first to define and model the GRC market in February 2002 while at Forrester Research\, Inc. \n\n\n\nConference Host\n\n\n\n\n\n\n\nCorporater is a global software company that enables medium and large organizations worldwide to manage their business with integrated software solutions for governance\, performance\, risk\, and compliance (GPRC) built on a single platform. Corporater provides the world’s leading Business Management Platform which offers ‘One View\, One Platform’ for a holistic and complete overview of business. Our signature solutions include Integrated Risk Management\, Enterprise Risk Management\, Operational Risk Management\, Business Continuity Management\, Internal Audit Management\, Operational Resilience\, Regulatory and Organizational Compliance Management\, Data Privacy Management\, Project and Portfolio Management\, Performance Management\, Strategy Management\, and others. All Corporater solutions can be used straight out of the box as point solutions\, or in combination with other Corporater solutions to form a holistic GRC program. Corporater solutions are used by top organizations in various industries and functions\, including state and local government\, energy\, education\, banking and finance\, oil and gas\, shipping\, manufacturing\, healthcare\, communications\, technology\, logistics\, food and agriculture\, media\, and non-profit. Learn more at: www.corporater.com \nShare this:\n				Email a link to a friend (Opens in new window)\n				Email\n			\n				Print (Opens in new window)\n				Print\n			\n				Share on LinkedIn (Opens in new window)\n				LinkedIn\n			\n				Share on X (Opens in new window)\n				X\n			\n				Share on Facebook (Opens in new window)\n				Facebook
URL:https://www.grc2020.com/event/gprc-summit-2024-dubai-uae/
CATEGORIES:Conferences
ATTACH;FMTTYPE=image/png:https://www.grc2020.com/wp-content/uploads/2023/10/Screenshot-2023-10-17-at-10.58.23 AM.png
END:VEVENT
END:VCALENDAR