BEGIN:VCALENDAR
VERSION:2.0
PRODID:-//GRC 20/20 Research, LLC - ECPv6.15.20//NONSGML v1.0//EN
CALSCALE:GREGORIAN
METHOD:PUBLISH
X-ORIGINAL-URL:https://www.grc2020.com
X-WR-CALDESC:Events for GRC 20/20 Research, LLC
REFRESH-INTERVAL;VALUE=DURATION:PT1H
X-Robots-Tag:noindex
X-PUBLISHED-TTL:PT1H
BEGIN:VTIMEZONE
TZID:Europe/Berlin
BEGIN:DAYLIGHT
TZOFFSETFROM:+0100
TZOFFSETTO:+0200
TZNAME:CEST
DTSTART:20230326T010000
END:DAYLIGHT
BEGIN:STANDARD
TZOFFSETFROM:+0200
TZOFFSETTO:+0100
TZNAME:CET
DTSTART:20231029T010000
END:STANDARD
BEGIN:DAYLIGHT
TZOFFSETFROM:+0100
TZOFFSETTO:+0200
TZNAME:CEST
DTSTART:20240331T010000
END:DAYLIGHT
BEGIN:STANDARD
TZOFFSETFROM:+0200
TZOFFSETTO:+0100
TZNAME:CET
DTSTART:20241027T010000
END:STANDARD
BEGIN:DAYLIGHT
TZOFFSETFROM:+0100
TZOFFSETTO:+0200
TZNAME:CEST
DTSTART:20250330T010000
END:DAYLIGHT
BEGIN:STANDARD
TZOFFSETFROM:+0200
TZOFFSETTO:+0100
TZNAME:CET
DTSTART:20251026T010000
END:STANDARD
END:VTIMEZONE
BEGIN:VEVENT
DTSTART;TZID=Europe/Berlin:20240704T160000
DTEND;TZID=Europe/Berlin:20240704T170000
DTSTAMP:20260423T191355
CREATED:20240625T113645Z
LAST-MODIFIED:20240625T113650Z
UID:10002594-1720108800-1720112400@www.grc2020.com
SUMMARY:From Risk to Resilience: The Role of ESG in GRC Strategies
DESCRIPTION:REGISTER\n\n\n\n\nIn today’s rapidly evolving business landscape\, integrating Environmental\, Social\, and Governance (ESG) principles with Governance\, Risk\, and Compliance (GRC) strategies is paramount. This webinar explores how CRISAM® ESG can transform your risk management approach\, enhancing corporate resilience and sustainability. \n\n\n\nWe will begin by defining ESG and GRC\, highlighting their significance and the latest trends. Understanding resilience in business\, we will discuss how robust risk management frameworks contribute to enduring success. CRISAM® ESG will be introduced as a powerful tool that aids in identifying\, assessing\, and managing ESG-related risks\, seamlessly integrating into your existing GRC processes. \n\n\n\nFinally\, we will look ahead to future trends in ESG and GRC\, exploring ongoing developments within CRISAM® and the long-term benefits of integrating ESG into your strategic planning. \n\n\n\nJoin us to learn how to turn risk into resilience with CRISAM® ESG. \n\n\n\nIn case you’re unable to catch the live webinar\, please register to receive the recording which you can watch at your convenience. \n\n\n\nGRC 20/20 Speaker\n\n\n\nMichael Rasmussen\n\n\n\nMichael Rasmussen is an internationally recognized pundit on governance\, risk management\, and compliance (GRC) – with specific expertise on enterprise GRC strategy and processes supported by robust information and technology architectures.  With 30+ years of experience\, Michael helps organizations improve GRC strategy and processes supported by the correct GRC technology architecture. This enables organizations to align GRC with the business and deliver effective\, efficient\, resilient\, and agile capabilities to the organization.  He is a sought-after keynote speaker\, author\, and advisor and is noted as the “Father of GRC” — the first to define and model the GRC market in February 2002 while at Forrester. \n\n\n\nWebinar Sponsor\n\n\n\n\n\n\n\nCRISAM is an intuitive platform that supports all corporate stakeholders in a guided workflow. As aleading provider for AI-supported GRC solutions and thanks to the unique user experience (UX)\,renowned companies from all industries rely on CRISAM. \n\n\n\n\nShare this:\n				Email a link to a friend (Opens in new window)\n				Email\n			\n				Print (Opens in new window)\n				Print\n			\n				Share on LinkedIn (Opens in new window)\n				LinkedIn\n			\n				Share on X (Opens in new window)\n				X\n			\n				Share on Facebook (Opens in new window)\n				Facebook
URL:https://www.grc2020.com/event/from-risk-to-resilience-the-role-of-esg-in-grc-strategies/
CATEGORIES:Webinars
ATTACH;FMTTYPE=image/jpeg:https://www.grc2020.com/wp-content/uploads/2024/06/1718995273022.jpeg
END:VEVENT
END:VCALENDAR