BEGIN:VCALENDAR
VERSION:2.0
PRODID:-//GRC 20/20 Research, LLC - ECPv6.15.20//NONSGML v1.0//EN
CALSCALE:GREGORIAN
METHOD:PUBLISH
X-WR-CALNAME:GRC 20/20 Research, LLC
X-ORIGINAL-URL:https://www.grc2020.com
X-WR-CALDESC:Events for GRC 20/20 Research, LLC
REFRESH-INTERVAL;VALUE=DURATION:PT1H
X-Robots-Tag:noindex
X-PUBLISHED-TTL:PT1H
BEGIN:VTIMEZONE
TZID:America/New_York
BEGIN:DAYLIGHT
TZOFFSETFROM:-0500
TZOFFSETTO:-0400
TZNAME:EDT
DTSTART:20240310T070000
END:DAYLIGHT
BEGIN:STANDARD
TZOFFSETFROM:-0400
TZOFFSETTO:-0500
TZNAME:EST
DTSTART:20241103T060000
END:STANDARD
BEGIN:DAYLIGHT
TZOFFSETFROM:-0500
TZOFFSETTO:-0400
TZNAME:EDT
DTSTART:20250309T070000
END:DAYLIGHT
BEGIN:STANDARD
TZOFFSETFROM:-0400
TZOFFSETTO:-0500
TZNAME:EST
DTSTART:20251102T060000
END:STANDARD
BEGIN:DAYLIGHT
TZOFFSETFROM:-0500
TZOFFSETTO:-0400
TZNAME:EDT
DTSTART:20260308T070000
END:DAYLIGHT
BEGIN:STANDARD
TZOFFSETFROM:-0400
TZOFFSETTO:-0500
TZNAME:EST
DTSTART:20261101T060000
END:STANDARD
END:VTIMEZONE
BEGIN:VEVENT
DTSTART;TZID=America/New_York:20250813T140000
DTEND;TZID=America/New_York:20250813T150000
DTSTAMP:20260422T200114
CREATED:20250801T011449Z
LAST-MODIFIED:20250801T011451Z
UID:10002712-1755093600-1755097200@www.grc2020.com
SUMMARY:Turning GRC and Audit into Strategic Advantage
DESCRIPTION:REGISTER\n\n\n\n\nThis webinar explores why checkbox compliance is no longer enough—and how it can create a false sense of security. Join industry experts from Compyl\, 360 Advanced\, and Michael Rasmussen as they discuss how aligning a mature GRC program with a strategic audit partner leads to real risk reduction and long-term value. \n\n\n\nWe will cover:\n\n\n\n\nThe risk of relying on checkbox frameworks and how they leave gaps in your real-world security posture\n\n\n\nWhy today’s audits should inform strategic decisions\, not just verify controls\n\n\n\nHow GRC platforms and audit firms can work in sync to surface meaningful data\, uncover blind spots\, and guide long-term success\n\n\n\nWhat executive stakeholders actually want to hear when you say you’re “compliant”\n\n\n\n\nWHERE\n\n\n\n\nThis is a virtual webinar. After you register\, you’ll receive a private access link via email to join the session on Wednesday\, August 13th at 2:00 PM EDT.\n\n\n\n\nWHY\n\n\n\n\nAttendees will walk away with a clearer understanding of why checkbox compliance falls short—and how to build a GRC program that truly supports security\, risk reduction\, and business goals. You’ll also learn how partnering with the right audit firm can bring strategic insights to your organization\, turning audits from a burden into a competitive advantage.\n\n\n\n\nGRC 20/20 Presenter . . . \n\n\n\nMichael Rasmussen\n\n\n\nMichael Rasmussen is an internationally recognized authority\, thought leader\, and pioneer in the disciplines of governance\, risk management\, and compliance (GRC). With over 30 years of experience\, he is globally known for defining and shaping GRC strategy\, processes\, and technology. In February 2002\, while at Forrester Research\, Michael developed the concept of GRC — establishing the foundation for how organizations approach strategy\, process\, and technology in today’s complex business environment. For this\, he is widely acknowledged as the “Father of GRC.” \n\n\n\nA trusted advisor to boards\, executives\, and professionals around the world\, Michael has dedicated his career to helping organizations design and implement effective GRC strategies that are aligned with business objectives. His work empowers organizations to be more effective\, efficient\, resilient\, and agile. He is a sought-after keynote speaker\, author\, and advisor\, with his thought leadership influencing legislation\, regulatory frameworks\, and corporate best practices globally. \n\n\n\nMichael is the host of the Risk is Our Business podcast\, where he leads conversations with global experts exploring the evolving frontiers of risk\, resilience\, and corporate integrity. \n\n\n\nWebinar Host . . .\n\n\n\n\n\n\n\nWe believe cyber risk management has evolved from an IT problem into a business problem. Because of this shift\, security executives must adapt how they communicate risk to the board. But since risk is hard to frame in the context of a business initiative\, security executives need help putting risk into business terms that the board can use to make informed\, strategic decisions to drive growth. Additionally\, security teams are often seen as the team that says “no”\, shutting down projects and initiatives due to risk\, which limits growth and results in missed opportunities. At ZenGRC\, we aim to make risk management more strategic\, pulling it up from tactical “check-the-box” work to something more valuable to both the company and the security team. There’s an opportunity for security executives to go beyond just protecting their company and secure their role as a more valuable\, strategic member of the team. We can help by giving them the business context they need to report risk to their board in a way that is easy to understand and act upon. \nShare this:\n				Email a link to a friend (Opens in new window)\n				Email\n			\n				Print (Opens in new window)\n				Print\n			\n				Share on LinkedIn (Opens in new window)\n				LinkedIn\n			\n				Share on X (Opens in new window)\n				X\n			\n				Share on Facebook (Opens in new window)\n				Facebook
URL:https://www.grc2020.com/event/turning-grc-and-audit-into-strategic-advantage/
CATEGORIES:Webinars
ATTACH;FMTTYPE=image/jpeg:https://www.grc2020.com/wp-content/uploads/2025/07/Compyl-Webinar.jpg
END:VEVENT
BEGIN:VEVENT
DTSTART;TZID=America/New_York:20250814T130000
DTEND;TZID=America/New_York:20250814T140000
DTSTAMP:20260422T200114
CREATED:20250709T193311Z
LAST-MODIFIED:20250722T195401Z
UID:10002704-1755176400-1755180000@www.grc2020.com
SUMMARY:Federal Data Confidence and Regulatory Assurance Webinar
DESCRIPTION:REGISTER\n\n\n\n\nIs FedRAMP compliance a requirement for you? Join industry premier experts to discover whether your GRC program meets the same rigorous federal data classification requirements that regulators demand from your organization. Learn how to eliminate compliance blind spots and align with evolving standards like Executive Order M-24-15 and FedRAMP 20x initiatives. \n\n\n\nSpeakers\n\n\n\n\nJon Leitner\, Chief Revenue Officer\, ZenGRC\n\n\n\nMichael Rasmussen\, GRC Pundit & Analyst\, GRC 20/20\, GRC Report\n\n\n\nMichael Parisi\, CGO\, Steel Patriot Partners\n\n\n\nMike Schreiner\, COO\, Paramify\n\n\n\nDr. Stephanie Carter\, Federal Service Lead\, Insight Assurance\n\n\n\n\nGRC 20/20 Presenter . . . \n\n\n\nMichael Rasmussen\n\n\n\nMichael Rasmussen is an internationally recognized authority\, thought leader\, and pioneer in the disciplines of governance\, risk management\, and compliance (GRC). With over 30 years of experience\, he is globally known for defining and shaping GRC strategy\, processes\, and technology. In February 2002\, while at Forrester Research\, Michael developed the concept of GRC — establishing the foundation for how organizations approach strategy\, process\, and technology in today’s complex business environment. For this\, he is widely acknowledged as the “Father of GRC.” \n\n\n\nA trusted advisor to boards\, executives\, and professionals around the world\, Michael has dedicated his career to helping organizations design and implement effective GRC strategies that are aligned with business objectives. His work empowers organizations to be more effective\, efficient\, resilient\, and agile. He is a sought-after keynote speaker\, author\, and advisor\, with his thought leadership influencing legislation\, regulatory frameworks\, and corporate best practices globally. \n\n\n\nMichael is the host of the Risk is Our Business podcast\, where he leads conversations with global experts exploring the evolving frontiers of risk\, resilience\, and corporate integrity. \n\n\n\nWebinar Host . . .\n\n\n\n\n\n\n\nWe believe cyber risk management has evolved from an IT problem into a business problem. Because of this shift\, security executives must adapt how they communicate risk to the board. But since risk is hard to frame in the context of a business initiative\, security executives need help putting risk into business terms that the board can use to make informed\, strategic decisions to drive growth. Additionally\, security teams are often seen as the team that says “no”\, shutting down projects and initiatives due to risk\, which limits growth and results in missed opportunities. At ZenGRC\, we aim to make risk management more strategic\, pulling it up from tactical “check-the-box” work to something more valuable to both the company and the security team. There’s an opportunity for security executives to go beyond just protecting their company and secure their role as a more valuable\, strategic member of the team. We can help by giving them the business context they need to report risk to their board in a way that is easy to understand and act upon. \nShare this:\n				Email a link to a friend (Opens in new window)\n				Email\n			\n				Print (Opens in new window)\n				Print\n			\n				Share on LinkedIn (Opens in new window)\n				LinkedIn\n			\n				Share on X (Opens in new window)\n				X\n			\n				Share on Facebook (Opens in new window)\n				Facebook
URL:https://www.grc2020.com/event/federal-data-confidence-and-regulatory-assurance-webinar/
CATEGORIES:Webinars
ATTACH;FMTTYPE=image/png:https://www.grc2020.com/wp-content/uploads/2025/07/Federal-ZenGRC-Webinar-Graphic-8.14.png
END:VEVENT
END:VCALENDAR