BEGIN:VCALENDAR
VERSION:2.0
PRODID:-//GRC 20/20 Research, LLC - ECPv6.15.20//NONSGML v1.0//EN
CALSCALE:GREGORIAN
METHOD:PUBLISH
X-ORIGINAL-URL:https://www.grc2020.com
X-WR-CALDESC:Events for GRC 20/20 Research, LLC
REFRESH-INTERVAL;VALUE=DURATION:PT1H
X-Robots-Tag:noindex
X-PUBLISHED-TTL:PT1H
BEGIN:VTIMEZONE
TZID:America/Chicago
BEGIN:DAYLIGHT
TZOFFSETFROM:-0600
TZOFFSETTO:-0500
TZNAME:CDT
DTSTART:20250309T080000
END:DAYLIGHT
BEGIN:STANDARD
TZOFFSETFROM:-0500
TZOFFSETTO:-0600
TZNAME:CST
DTSTART:20251102T070000
END:STANDARD
BEGIN:DAYLIGHT
TZOFFSETFROM:-0600
TZOFFSETTO:-0500
TZNAME:CDT
DTSTART:20260308T080000
END:DAYLIGHT
BEGIN:STANDARD
TZOFFSETFROM:-0500
TZOFFSETTO:-0600
TZNAME:CST
DTSTART:20261101T070000
END:STANDARD
BEGIN:DAYLIGHT
TZOFFSETFROM:-0600
TZOFFSETTO:-0500
TZNAME:CDT
DTSTART:20270314T080000
END:DAYLIGHT
BEGIN:STANDARD
TZOFFSETFROM:-0500
TZOFFSETTO:-0600
TZNAME:CST
DTSTART:20271107T070000
END:STANDARD
END:VTIMEZONE
BEGIN:VEVENT
DTSTART;TZID=America/Chicago:20260210T120000
DTEND;TZID=America/Chicago:20260210T130000
DTSTAMP:20260422T104238
CREATED:20260120T115510Z
LAST-MODIFIED:20260120T115512Z
UID:10002754-1770724800-1770728400@www.grc2020.com
SUMMARY:The Trust Imperative: Reframing GRC as a Business Enabler
DESCRIPTION:REGISTER\n\n\n\n\nFor too long\, GRC has been seen as the department of “no”—a necessary but reactive cost center. But as organizations face increasing security\, regulatory\, and AI-driven pressures\, the companies that win in the next decade will be the ones that elevate trust from a compliance requirement to a competitive differentiator. \n\n\n\nIn this session\, Drata CISO Matt Hillary moderates a discussion with leading voices in GRC\, security\, and risk on what it truly means to operationalize trust as a business enabler. Panelists from GRC 20/20 Research and EAB will explore the shift from checkbox compliance to outcomes-driven trust programs that accelerate sales cycles\, improve customer confidence\, strengthen resilience\, and unlock strategic advantage. \n\n\n\nThis conversation is built for leaders shaping the next era of trust\, and for panelists who have lived the evolution firsthand. Register today and join us on February 10th for all the insights.  \n\n\n\nWhat You’ll Learn \n\n\n\n\nWhy “trust” is becoming a board-level priority\n\n\n\nHow to reposition GRC as a growth engine—not a blocker\n\n\n\nLanguage and metrics that resonate with executives\n\n\n\nHow the most mature organizations tie trust to revenue\, brand\, and velocity\n\n\n\n\nIn case you’re unable to catch the live webinar\, please register to receive the recording which you can watch at your convenience. \n\n\n\nGRC 20/20 Presenter . . .\n\n\n\nMichael Rasmussen\n\n\n\nMichael Rasmussen is an internationally recognized authority\, thought leader\, and pioneer in the disciplines of governance\, risk management\, and compliance (GRC). With over 30 years of experience\, he is globally known for defining and shaping GRC strategy\, processes\, and technology. In February 2002\, while at Forrester Research\, Michael developed the concept of GRC — establishing the foundation for how organizations approach strategy\, process\, and technology in today’s complex business environment. For this\, he is widely acknowledged as the “Father of GRC.” \n\n\n\nA trusted advisor to boards\, executives\, and professionals around the world\, Michael has dedicated his career to helping organizations design and implement effective GRC strategies that are aligned with business objectives. His work empowers organizations to be more effective\, efficient\, resilient\, and agile. He is a sought-after keynote speaker\, author\, and advisor\, with his thought leadership influencing legislation\, regulatory frameworks\, and corporate best practices globally. \n\n\n\nMichael is the host of the Risk is Our Business and the Hitchhiker’s Guide to the GRC Technology podcasts\, where he leads conversations with global experts exploring the evolving frontiers of risk\, resilience\, and corporate integrity. \n\n\n\nWebinar Host . . .\n\n\n\n\n\n\n\nReplace manual GRC efforts\, reduce costs\, and save time preparing for audits and maintaining compliance. Drata is the trust management platform with the mission of serving as the trust layer between great companies. We help thousands of companies streamline compliance for SOC 2\, ISO 27001\, HIPAA\, GDPR\, your own custom frameworks\, and many more through continuous\, automated control monitoring and evidence collection. Drata is backed by ICONIQ Growth\, Alkeon\, Salesforce Ventures\, Notable Capital\, Okta Ventures\, SVCI (Silicon Valley CISO Investments)\, Cowboy Ventures\, Leaders Fund\, Basis Set Ventures\, SV Angel\, and many key industry leaders. Drata is based in San Diego\, CA with team members across the globe. \n\n\n\n \nShare this:\n				Email a link to a friend (Opens in new window)\n				Email\n			\n				Print (Opens in new window)\n				Print\n			\n				Share on LinkedIn (Opens in new window)\n				LinkedIn\n			\n				Share on X (Opens in new window)\n				X\n			\n				Share on Facebook (Opens in new window)\n				Facebook
URL:https://www.grc2020.com/event/the-trust-imperative-reframing-grc-as-a-business-enabler/
CATEGORIES:Webinars
ATTACH;FMTTYPE=image/jpeg:https://www.grc2020.com/wp-content/uploads/2026/01/1.V1-1080x1080-3.jpg
END:VEVENT
BEGIN:VEVENT
DTSTART;TZID=America/Chicago:20260219T110000
DTEND;TZID=America/Chicago:20260219T120000
DTSTAMP:20260422T104238
CREATED:20260205T122156Z
LAST-MODIFIED:20260206T202912Z
UID:10002761-1771498800-1771502400@www.grc2020.com
SUMMARY:Expert Insights: AI's Role in Modern GRC Strategies
DESCRIPTION:REGISTER\n\n\n\n\nJoin Strike Graph CEO Justin Beals and renowned GRC analyst Michael Rasmussen for a strategic discussion on how AI is reshaping governance\, risk\, and compliance programs at scale. As security and compliance leaders face mounting regulatory pressures—from CMMC mandates to evolving frameworks like SOC 2 and ISO 27001—AI-powered automation is no longer optional. But deploying AI effectively requires understanding both its transformative potential and its limitations.  \n\n\n\nIn this session\, you’ll gain practical insights into:  \n\n\n\n\nWhere AI delivers immediate ROI in compliance workflows—from evidence collection to continuous monitoring –\n\n\n\nCommon pitfalls organizations encounter when implementing AI-driven GRC tools \n\n\n\nHow leading enterprises are using AI to scale programs without scaling headcount \n\n\n\nThe future of intelligent compliance—what’s hype vs. what’s ready for production today \n\n\n\nStrategic considerations for building AI into your compliance stack \n\n\n\n\nWhether you’re managing multiple frameworks\, preparing for certification\, or looking to modernize your GRC program\, this conversation will help you separate signal from noise and deploy AI with confidence. \n\n\n\nIn case you’re unable to catch the live webinar\, please register to receive the recording which you can watch at your convenience. \n\n\n\nGRC 20/20 Presenter . . .\n\n\n\nMichael Rasmussen\n\n\n\nMichael Rasmussen is an internationally recognized authority\, thought leader\, and pioneer in the disciplines of governance\, risk management\, and compliance (GRC). With over 30 years of experience\, he is globally known for defining and shaping GRC strategy\, processes\, and technology. In February 2002\, while at Forrester Research\, Michael developed the concept of GRC — establishing the foundation for how organizations approach strategy\, process\, and technology in today’s complex business environment. For this\, he is widely acknowledged as the “Father of GRC.” \n\n\n\nA trusted advisor to boards\, executives\, and professionals around the world\, Michael has dedicated his career to helping organizations design and implement effective GRC strategies that are aligned with business objectives. His work empowers organizations to be more effective\, efficient\, resilient\, and agile. He is a sought-after keynote speaker\, author\, and advisor\, with his thought leadership influencing legislation\, regulatory frameworks\, and corporate best practices globally. \n\n\n\nMichael is the host of the Risk is Our Business and the Hitchhiker’s Guide to the GRC Technology podcasts\, where he leads conversations with global experts exploring the evolving frontiers of risk\, resilience\, and corporate integrity. \n\n\n\nWebinar Host . . .\n\n\n\n\n\n\n\nStrike Graph is an AI-native compliance management company that empowers organizations of any size to eliminate redundant work\, accelerate audits\, and build trust. Strike Graph’s next-generation platform transforms GRC through its purpose-built graph-based architecture\, patent-pending agentic evidence validation technology\, Verify AI\, intelligent recommendation engine\, Security Assistant\, and dynamic mapping across 30+ compliance frameworks. Built with privacy-first principles\, Strike Graph hosts its own AI models rather than relying on third-party services\, ensuring customer data remains secure and siloed. Founded in 2020 by technologist and serial entrepreneur Justin Beals and backed by top-tier investors\, Strike Graph has helped hundreds of organizations reduce compliance timelines by more than 86% while achieving 100% clean audit reports. \n\n\n\n \nShare this:\n				Email a link to a friend (Opens in new window)\n				Email\n			\n				Print (Opens in new window)\n				Print\n			\n				Share on LinkedIn (Opens in new window)\n				LinkedIn\n			\n				Share on X (Opens in new window)\n				X\n			\n				Share on Facebook (Opens in new window)\n				Facebook
URL:https://www.grc2020.com/event/expert-insights-ais-role-in-modern-grc-strategies/
CATEGORIES:Webinars
ATTACH;FMTTYPE=image/png:https://www.grc2020.com/wp-content/uploads/2026/02/Webinar-banner-219-promo.png
END:VEVENT
END:VCALENDAR