BEGIN:VCALENDAR
VERSION:2.0
PRODID:-//GRC 20/20 Research, LLC - ECPv6.15.20//NONSGML v1.0//EN
CALSCALE:GREGORIAN
METHOD:PUBLISH
X-ORIGINAL-URL:https://www.grc2020.com
X-WR-CALDESC:Events for GRC 20/20 Research, LLC
REFRESH-INTERVAL;VALUE=DURATION:PT1H
X-Robots-Tag:noindex
X-PUBLISHED-TTL:PT1H
BEGIN:VTIMEZONE
TZID:Europe/London
BEGIN:DAYLIGHT
TZOFFSETFROM:+0000
TZOFFSETTO:+0100
TZNAME:BST
DTSTART:20250330T010000
END:DAYLIGHT
BEGIN:STANDARD
TZOFFSETFROM:+0100
TZOFFSETTO:+0000
TZNAME:GMT
DTSTART:20251026T010000
END:STANDARD
BEGIN:DAYLIGHT
TZOFFSETFROM:+0000
TZOFFSETTO:+0100
TZNAME:BST
DTSTART:20260329T010000
END:DAYLIGHT
BEGIN:STANDARD
TZOFFSETFROM:+0100
TZOFFSETTO:+0000
TZNAME:GMT
DTSTART:20261025T010000
END:STANDARD
BEGIN:DAYLIGHT
TZOFFSETFROM:+0000
TZOFFSETTO:+0100
TZNAME:BST
DTSTART:20270328T010000
END:DAYLIGHT
BEGIN:STANDARD
TZOFFSETFROM:+0100
TZOFFSETTO:+0000
TZNAME:GMT
DTSTART:20271031T010000
END:STANDARD
END:VTIMEZONE
BEGIN:VEVENT
DTSTART;TZID=Europe/London:20260428T090000
DTEND;TZID=Europe/London:20260428T160000
DTSTAMP:20260420T021241
CREATED:20251120T180612Z
LAST-MODIFIED:20260219T185150Z
UID:10002741-1777366800-1777392000@www.grc2020.com
SUMMARY:Risk and Resilience Management Workshop\, COPENHAGEN
DESCRIPTION:REGISTER\n\n\n\n\nUnlock the Future of GRC with Michael Rasmussen \n\n\n\n‍Join one of the world’s leading GRC analysts\, Michael Rasmussen\, for an exclusive in-person workshop in Denmark. Gain practical insights to strengthen your governance\, risk and compliance framework – and build true operational resilience.  \n\n\n\n\nPlease note: The workshop will take place in Copenhagen but be held in English.* \n\n\n\n\nWho Should Attend?\n\n\n\nThis workshop is designed for:  \n\n\n\n\nGRC\, Risk & Compliance Professionals \n\n\n\nOperational Resilience Leaders \n\n\n\nSecurity & IT Risk Teams \n\n\n\nInternal Audit & Assurance \n\n\n\nExecutives responsible for governance and controls \n\n\n\n\nWorkshop Objectives  \n\n\n\nAttendees will take back practical approaches to:  \n\n\n\n\nUnderstand why integrated risk and resilience is now a business imperative \n\n\n\nLearn how to design governance\, lifecycle\, and architecture for end-to-end visibility \n\n\n\nLeave with actionable frameworks you can apply in your own organisation \n\n\n\n\nWorkshop Agenda\n\n\n\n\n09:00 – Arrival and Breakfast\n\n\n\n09:30 – Part 1: Risk & Resilience by Design – Why It Matters Now\n\n\n\n10:45 – Tea & Coffee Break\n\n\n\n11:00 – Part 2: Risk & Resilience Governance – Building the Foundation \n\n\n\n12:00 – Lunch \n\n\n\n13:00 – Part 3: Risk & Resilience Lifecycle – Managing in Context of Change \n\n\n\n14:15 – Tea & Coffee Break\n\n\n\n14:30 – Part 4: Risk & Resilience Architecture – Enabling Visibility & Agility\n\n\n\n16:00 – Close\n\n\n\n\n\n\n\n\nPart 1: Risk & Resilience by Design – Why It Matters Now\n\n\n\n\nUnderstanding how risk and resilience impact business strategy and performance to avoid silos. Current global trends\, drivers\, and regulatory mandates shaping risk/resilience integration.\n\n\n\nInteractive Exercise: Mapping risk and resilience maturity in your organization\n\n\n\n\nPart 2: Risk & Resilience Governance – Building the Foundation \n\n\n\n\nEstablishing a federated governance model for integrated risk and resilience. Developing a strategic plan that connects risk resilience to business objectives.\n\n\n\nInteractive Exercise: Designing your governance framework and charter elements \n\n\n\n\nPart 3: Risk & Resilience Lifecycle – Managing in Context of Change \n\n\n\n\nEnd-to-end lifecycle from risk identification to assurance. Conducting risk assessments\, BIAs\, and forward-looking scenario planning. Turning data into assurance and board-ready insights. \n\n\n\nInteractive Exercise: Building your risk and resilience lifecycle\n\n\n\n\nPart 4: Risk & Resilience Architecture – Enabling Visibility & Agility\n\n\n\n\n‍Designing an information architecture that supports holistic insight and action. Establishing taxonomies\, workflows\, and linkages between risks\, objectives\, and controls. Exploring technology architecture for tools and prioritisation.\n\n\n\nInteractive Exercise: Mapping your risk and resilience information ecosystem.\n\n\n\n\n\n*With roundtable discussions and hands-on exercises\, this workshop relies on active contribution and feedback between participants. Full participation is essential to maximise the value of the session.  \n\n\n\n\n\n\n\n\nGRC 20/20 Presenter . . .\n\n\n\nMichael Rasmussen\n\n\n\nMichael Rasmussen is an internationally recognized authority\, thought leader\, and pioneer in the disciplines of governance\, risk management\, and compliance (GRC). With over 30 years of experience\, he is globally known for defining and shaping GRC strategy\, processes\, and technology. In February 2002\, while at Forrester Research\, Michael developed the concept of GRC — establishing the foundation for how organizations approach strategy\, process\, and technology in today’s complex business environment. For this\, he is widely acknowledged as the “Father of GRC.” \n\n\n\nA trusted advisor to boards\, executives\, and professionals around the world\, Michael has dedicated his career to helping organizations design and implement effective GRC strategies that are aligned with business objectives. His work empowers organizations to be more effective\, efficient\, resilient\, and agile. He is a sought-after keynote speaker\, author\, and advisor\, with his thought leadership influencing legislation\, regulatory frameworks\, and corporate best practices globally. \n\n\n\nMichael is the host of the Risk is Our Business and the Hitchhiker’s Guide to the GRC Technology podcasts\, where he leads conversations with global experts exploring the evolving frontiers of risk\, resilience\, and corporate integrity. \n\n\n\nWorkshop Host . . .\n\n\n\n\n\n\n\nDecision Focus develops software for Governance\, Risk and Compliance. Since 2004\, Decision Focus has provided the world’s enterprises with software and services. We’ve taken our years of knowledge and experience to implement new software for Risk and Compliance which is has become leading in enterprise GRC. \n\n\n\n \nShare this:\n				Email a link to a friend (Opens in new window)\n				Email\n			\n				Print (Opens in new window)\n				Print\n			\n				Share on LinkedIn (Opens in new window)\n				LinkedIn\n			\n				Share on X (Opens in new window)\n				X\n			\n				Share on Facebook (Opens in new window)\n				Facebook
URL:https://www.grc2020.com/event/risk-and-resilience-management-workshop-copenhagen/
CATEGORIES:20/20 Workshops
ATTACH;FMTTYPE=image/jpeg:https://www.grc2020.com/wp-content/uploads/2025/11/2026-04-Copenhagen.jpg
END:VEVENT
BEGIN:VEVENT
DTSTART;TZID=Europe/London:20260430T090000
DTEND;TZID=Europe/London:20260430T170000
DTSTAMP:20260420T021241
CREATED:20260219T185348Z
LAST-MODIFIED:20260219T185427Z
UID:10002767-1777539600-1777568400@www.grc2020.com
SUMMARY:Risk and Resilience Management Workshop\, LONDON
DESCRIPTION:REGISTER\n\n\n\n\nUnlock the Future of GRC with Michael Rasmussen \n\n\n\n‍Join one of the world’s leading GRC analysts\, Michael Rasmussen\, for an exclusive in-person workshop in Denmark. Gain practical insights to strengthen your governance\, risk and compliance framework – and build true operational resilience.  \n\n\n\nWho Should Attend?\n\n\n\nThis workshop is designed for:  \n\n\n\n\nGRC\, Risk & Compliance Professionals \n\n\n\nOperational Resilience Leaders \n\n\n\nSecurity & IT Risk Teams \n\n\n\nInternal Audit & Assurance \n\n\n\nExecutives responsible for governance and controls \n\n\n\n\nWorkshop Objectives  \n\n\n\nAttendees will take back practical approaches to:  \n\n\n\n\nUnderstand why integrated risk and resilience is now a business imperative \n\n\n\nLearn how to design governance\, lifecycle\, and architecture for end-to-end visibility \n\n\n\nLeave with actionable frameworks you can apply in your own organisation \n\n\n\n\nWorkshop Agenda\n\n\n\n\n09:00 – Arrival and Breakfast\n\n\n\n09:30 – Part 1: Risk & Resilience by Design – Why It Matters Now\n\n\n\n11:00 – Tea & Coffee Break\n\n\n\n11:30 – Part 2: Risk & Resilience Governance – Building the Foundation\n\n\n\n12:30 – Lunch\n\n\n\n13:30 – Part 3: Risk & Resilience Lifecycle – Managing in Context of Change\n\n\n\n14:30 – Tea & Coffee Break\n\n\n\n15:00 – Part 4: Risk & Resilience Architecture – Enabling Visibility & Agility\n\n\n\n16:15 – Close\n\n\n\n16:30 – Drinks Reception with Canapes\n\n\n\n\nPart 1: Risk & Resilience by Design – Why It Matters Now\n\n\n\n\nUnderstanding how risk and resilience impact business strategy and performance to avoid silos. Current global trends\, drivers\, and regulatory mandates shaping risk/resilience integration.\n\n\n\nInteractive Exercise: Mapping risk and resilience maturity in your organization\n\n\n\n\nPart 2: Risk & Resilience Governance – Building the Foundation \n\n\n\n\nEstablishing a federated governance model for integrated risk and resilience. Developing a strategic plan that connects risk resilience to business objectives.\n\n\n\nInteractive Exercise: Designing your governance framework and charter elements \n\n\n\n\nPart 3: Risk & Resilience Lifecycle – Managing in Context of Change \n\n\n\n\nEnd-to-end lifecycle from risk identification to assurance. Conducting risk assessments\, BIAs\, and forward-looking scenario planning. Turning data into assurance and board-ready insights. \n\n\n\nInteractive Exercise: Building your risk and resilience lifecycle\n\n\n\n\nPart 4: Risk & Resilience Architecture – Enabling Visibility & Agility\n\n\n\n\n‍Designing an information architecture that supports holistic insight and action. Establishing taxonomies\, workflows\, and linkages between risks\, objectives\, and controls. Exploring technology architecture for tools and prioritisation.\n\n\n\nInteractive Exercise: Mapping your risk and resilience information ecosystem.\n\n\n\n\n\n*With roundtable discussions and hands-on exercises\, this workshop relies on active contribution and feedback between participants. Full participation is essential to maximise the value of the session.  \n\n\n\n\n\n\n\n\nGRC 20/20 Presenter . . .\n\n\n\nMichael Rasmussen\n\n\n\nMichael Rasmussen is an internationally recognized authority\, thought leader\, and pioneer in the disciplines of governance\, risk management\, and compliance (GRC). With over 30 years of experience\, he is globally known for defining and shaping GRC strategy\, processes\, and technology. In February 2002\, while at Forrester Research\, Michael developed the concept of GRC — establishing the foundation for how organizations approach strategy\, process\, and technology in today’s complex business environment. For this\, he is widely acknowledged as the “Father of GRC.” \n\n\n\nA trusted advisor to boards\, executives\, and professionals around the world\, Michael has dedicated his career to helping organizations design and implement effective GRC strategies that are aligned with business objectives. His work empowers organizations to be more effective\, efficient\, resilient\, and agile. He is a sought-after keynote speaker\, author\, and advisor\, with his thought leadership influencing legislation\, regulatory frameworks\, and corporate best practices globally. \n\n\n\nMichael is the host of the Risk is Our Business and the Hitchhiker’s Guide to the GRC Technology podcasts\, where he leads conversations with global experts exploring the evolving frontiers of risk\, resilience\, and corporate integrity. \n\n\n\nWorkshop Host . . .\n\n\n\n\n\n\n\nDecision Focus develops software for Governance\, Risk and Compliance. Since 2004\, Decision Focus has provided the world’s enterprises with software and services. We’ve taken our years of knowledge and experience to implement new software for Risk and Compliance which is has become leading in enterprise GRC. \n\n\n\n \nShare this:\n				Email a link to a friend (Opens in new window)\n				Email\n			\n				Print (Opens in new window)\n				Print\n			\n				Share on LinkedIn (Opens in new window)\n				LinkedIn\n			\n				Share on X (Opens in new window)\n				X\n			\n				Share on Facebook (Opens in new window)\n				Facebook
URL:https://www.grc2020.com/event/risk-and-resilience-management-workshop-london/
CATEGORIES:20/20 Workshops
ATTACH;FMTTYPE=image/jpeg:https://www.grc2020.com/wp-content/uploads/2026/02/2026-04-London.jpg
END:VEVENT
END:VCALENDAR